Workbook

Sheet Hướng dẫn
A1: HƯỚNG DẪN CHUNG CHO BỘ BIỂU MẪU TÍNH KHỐI LƯỢNG GIẢNG VIÊN
A2: I. YÊU CẦU BẮT BUỘC
A3: - Các dữ liệu của bộ biểu mẫu phải được ghép lại thành 1 file excel duy nhất, trong đó từng sheet là một mẫu tính khác nhau.
A4: - Trong các bảng tổng hợp mẫu A1,2 & các mẫu B: thứ tự tên GV giữa các bảng phải giống nhau.
A5: II. BỘ MẪU A
A6: + Mẫu A1: Bảng tính khối lượng công việc của Giảng viên trong năm học.
A7: Từ Bảng tính khối lượng công việc của Giảng viên trong năm học 2015-2016 các khoa đã tính: Copy dữ liệu khoa đã có sẳn dán vào các cột (2), (3), (4), (5), (6), (7), (8), (9), (11), (12), (14), (16), (17), (18) và cột (22) nếu có
A8: - Cột (8), (9): Hệ số = Hệ số thứ nhất x Hệ số thứ ..., không kể hệ số quy đổi TH sang tiết chuẩn.
A9: - Không nhập số liệu ở Cột (10), (13), (15), (19), (20), (21) và Cột (23). Vì đây là cột công thức đã được cài sẵn.
A10: - Các cột được tô màu: Điền đầy đủ thông tin (bắt buộc). Phải ẩn (Hide) trước khi in.
A11: + Mẫu A2: Bảng tổng kết khối lượng công việc của Giảng viên trong năm học
A12: - Không nhập số liệu: Các cột đã được cài công thức chuyển dữ liệu từ mẫu A1 sang.
... A32: LƯU Ý: Trong quá trình thao tác trên các biểu mẫu, nếu có thắc mắc xin liên hệ qua địa chỉ egov hoặc Phòng TS-Đào tạo-GTVL.

Sheet Mau A1
AB1: Mẫu A1
A2: UBND THÀNH PHỐ HỒ CHÍ MINH | V2: CỘNG HÒA XÃ HỘI CHỦ NGHĨA VIỆT NAM
A3: TRƯỜNG CAO ĐẲNG KỸ THUẬT LÝ TỰ TRỌNG TP. HỒ CHÍ MINH | V3: Độc lập - Tự do - Hạnh phúc
A4: BẢNG TÍNH KHỐI LƯỢNG CÔNG VIỆC CỦA GIẢNG VIÊN TRONG NĂM HỌC 2015 - 2016
A5: KHOA CN NHIỆT-LẠNH
A7: TT | B7: Họ và Tên | D7: Môn dạy | E7: lớp dạy | F7: Học kỳ | G7: Thực hiện trong năm học | S7: Số tiết chuẩn giảng dạy cả năm | T7: Số tiết chuẩn giảng dạy cả năm còn lại | U7: Số giờ chuẩn NCKH cả năm | V7: Số giờ chuẩn NCKH cả năm còn lại | W7: Số giờ chuẩn "Học tập bồi dưỡng và các nhiệm vụ khác" | X7: Số giờ chuẩn "Học tập bồi dưỡng và các nhiệm vụ khác" cả năm còn lại | Y7: Số tiết thừa, thiếu giảng dạy | Z7: Số tiết thừa, thiếu NCKH | AA7: Số tiết thừa, thiếu "Học tập bồi dưỡng và các nhiệm vụ khác" | AB7: Số tiết thừa, thiếu năm học 2014-2015 | AC7: Tổng số tiết thừa, thiếu năm học 2015-2016
G8: Chưa nhân hệ số | I8: Sĩ số | K8: Hệ số | M8: Số tiết quy đổi và đã nhân hệ số | N8: Kiêm nhiệm | O8: Khối lượng công tác cộng thêm | P8: Tổng tiết thực hiện | Q8: Số giờ NCKH | R8: Số giờ "Học tập bồi dưỡng và các nhiệm vụ khác"
G9: LT | H9: TH | I9: Chính thức | J9: Học lại | K9: LT | L9: TH
A10: (1) | B10: (2) | D10: (3) | E10: (4) | F10: (5) | G10: (6) | H10: (7) | K10: (8) | L10: (9) | M10: (10) | N10: (11) | O10: (12) | P10: (13) | Q10: (14) | R10: (15) | T10: (16) | V10: (17) | X10: (18) | Y10: (19) | Z10: (20) | AA10: (21) | AB10: (22) | AC10: (23)
A11: 1 | B11: Võ Anh | C11: Hào | D11: Thiết bị đo và tự động điều khiển | E11: 14CĐ-NL1 | F11: 1 | G11: 30 | I11: 35 | K11: 1.1 | M11: =ROUND(IF(G11>0,G11*K11,"0")+IF(H11>0,(H11/1.5)*L11,"0"),1) -> 33 | N11: 54 | P11: =SUM(M11:M18)+N11+O11 -> 565 | Q11: 0 | R11: ='Mau B2'!L11 -> 0 | S11: 270 | T11: 270 | U11: 587 | V11: 587 | W11: 273 | X11: 273 | Y11: =ROUND((P11-T11),1) -> 295 | Z11: =IF(OR(SUM(V11:V18)="",SUM(Q11:Q18)=""),0,IF(SUM(U11:U18)=587,ROUND((SUM(Q11:Q18)-SUM(V11:V18))/3.33,1),0)) -> -176.3 | AA11: =IF(OR(SUM(X11:X18)="",SUM(R11:R18)=""),0,IF(SUM(W11:W18)=273,ROUND((SUM(R11:R18)-SUM(X11:X18))/3.33,1),0)) -> -82 | AC11: =SUM(Y11:AA18) -> 36.7
D12: TT điện lạnh cơ bản | E12: 15CĐ-ĐL1 ( nhóm 1+2) | F12: 1 | H12: 180 | I12: 49 | L12: 1 | M12: =ROUND(IF(G12>0,G12*K12,"0")+IF(H12>0,(H12/1.5)*L12,"0"),1) -> 120
D13: Kỹ thuật điện | E13: 15CĐ-ĐL1,2,3 | F13: 1 | G13: 90 | I13: 49,45,46 | K13: 1.1 | M13: =ROUND(IF(G13>0,G13*K13,"0")+IF(H13>0,(H13/1.5)*L13,"0"),1) -> 99
M14: =ROUND(IF(G14>0,G14*K14,"0")+IF(H14>0,(H14/1.5)*L14,"0"),1) -> 0
D15: TT lạnh cơ bản | E15: 15TCN-LĐL(9+4) | F15: 2 | H15: 240 | I15: 22 | L15: 1 | M15: =ROUND(IF(G15>0,G15*K15,"0")+IF(H15>0,(H15/1.5)*L15,"0"),1) -> 160
D16: Điện tử cơ bản | E16: 15CĐ-ĐL1,2,3 | F16: 2 | G16: 90 | I16: 49,45,46 | K16: 1.1 | M16: =ROUND(IF(G16>0,G16*K16,"0")+IF(H16>0,(H16/1.5)*L16,"0"),1) -> 99
M17: =ROUND(IF(G17>0,G17*K17,"0")+IF(H17>0,(H17/1.5)*L17,"0"),1) -> 0
D18: GVCN(2 LỚP) | E18: 15TCN-LĐL 16TCN-LĐL1 | F18: 1,2 | I18: 36, 58 | M18: =ROUND(IF(G18>0,G18*K18,"0")+IF(H18>0,(H18/1.5)*L18,"0"),1) -> 0
A19: 2 | B19: Đinh Đồng | C19: Hiệp | D19: Nhiệt động kỹ thuật | E19: 15CĐ-ĐL1,2 | F19: 1 | G19: 90 | I19: 49,45 | K19: 1.1 | M19: =ROUND(IF(G19>0,G19*K19,"0")+IF(H19>0,(H19/1.5)*L19,"0"),1) -> 99 | N19: 67.5 | P19: =SUM(M19:M26)+N19+O19 -> 496.5 | Q19: 0 | R19: ='Mau B2'!L12 -> 0 | S19: 270 | T19: 270 | U19: 587 | V19: 587 | W19: 273 | X19: 273 | Y19: =ROUND((P19-T19),1) -> 226.5 | Z19: =IF(OR(SUM(V19:V26)="",SUM(Q19:Q26)=""),0,IF(SUM(U19:U26)=587,ROUND((SUM(Q19:Q26)-SUM(V19:V26))/3.33,1),0)) -> -176.3 | AA19: =IF(OR(SUM(X19:X26)="",SUM(R19:R26)=""),0,IF(SUM(W19:W26)=273,ROUND((SUM(R19:R26)-SUM(X19:X26))/3.33,1),0)) -> -82 | AC19: =SUM(Y19:AA26) -> -31.8
D20: Kỹ thuật lạnh | E20: 15CĐ-ĐL1 | F20: 1 | G20: 45 | I20: 49 | K20: 1.1 | M20: =ROUND(IF(G20>0,G20*K20,"0")+IF(H20>0,(H20/1.5)*L20,"0"),1) -> 49.5
D21: Phương pháp nghiên cứu khoa học | E21: 14CĐ-NL1 | F21: 2 | G21: 30 | I21: 35 | K21: 1.1 | M21: =ROUND(IF(G21>0,G21*K21,"0")+IF(H21>0,(H21/1.5)*L21,"0"),1) -> 33
D22: kỹ thuạt diều hòa không khí | E22: 15CĐ-ĐL1,2,3 | F22: 2 | G22: 90 | I22: 49,45,46 | K22: 1.1 | M22: =ROUND(IF(G22>0,G22*K22,"0")+IF(H22>0,(H22/1.5)*L22,"0"),1) -> 99
D23: Điện cơ bản (từ tuần 8: tách ra 2 nhóm) | F23: 2 | M23: =ROUND(IF(G23>0,G23*K23,"0")+IF(H23>0,(H23/1.5)*L23,"0"),1) -> 0
D24: Bơm quạt, máy nén | E24: 15CĐ-ĐL1,2,3 | F24: 2 | G24: 90 | I24: 49,45,46 | K24: 1.1 | M24: =ROUND(IF(G24>0,G24*K24,"0")+IF(H24>0,(H24/1.5)*L24,"0"),1) -> 99
D25: Kỹ thuật lạnh ứng dụng | E25: 14TC-ĐL | F25: 2 | G25: 45 | I25: 35 | K25: 1.1 | M25: =ROUND(IF(G25>0,G25*K25,"0")+IF(H25>0,(H25/1.5)*L25,"0"),1) -> 49.5
D26: CVHT | E26: 15CĐ-ĐL1 | F26: 1,2 | M26: =ROUND(IF(G26>0,G26*K26,"0")+IF(H26>0,(H26/1.5)*L26,"0"),1) -> 0
A27: 3 | B27: Phan văn | C27: Hòa | D27: TT SC thiết bị lạnh dân dụng ( nhóm 1+2) | E27: 14CĐ-NL1 | F27: 1 | H27: 120 | I27: 35 | L27: 1 | M27: =ROUND(IF(G27>0,G27*K27,"0")+IF(H27>0,(H27/1.5)*L27,"0"),1) -> 80 | N27: 40.5 | P27: =SUM(M27:M34)+N27+O27 -> 465.5 | Q27: 0 | R27: ='Mau B2'!L13 -> 0 | S27: 270 | T27: 270 | U27: 587 | V27: 587 | W27: 273 | X27: 273 | Y27: =ROUND((P27-T27),1) -> 195.5 | Z27: =IF(OR(SUM(V27:V34)="",SUM(Q27:Q34)=""),0,IF(SUM(U27:U34)=587,ROUND((SUM(Q27:Q34)-SUM(V27:V34))/3.33,1),0)) -> -176.3 | AA27: =IF(OR(SUM(X27:X34)="",SUM(R27:R34)=""),0,IF(SUM(W27:W34)=273,ROUND((SUM(R27:R34)-SUM(X27:X34))/3.33,1),0)) -> -82 | AC27: =SUM(Y27:AA34) -> -62.8
D28: TT điện lạnh cơ bản ( nhóm 1+2) | E28: 15CĐ-ĐL2 | F28: 1 | H28: 180 | I28: 45 | L28: 1 | M28: =ROUND(IF(G28>0,G28*K28,"0")+IF(H28>0,(H28/1.5)*L28,"0"),1) -> 120
D29: Kỹ thuật lạnh | E29: 15TC- NL (9+3) | F29: 1 | G29: 45 | I29: 13 | K29: 1 | M29: =ROUND(IF(G29>0,G29*K29,"0")+IF(H29>0,(H29/1.5)*L29,"0"),1) -> 45
D30: An toàn LĐ & Vệ sinh công nghiệp | E30: 15TCN-LĐL (9+4) | F30: 1 | G30: 60 | I30: 36 | K30: 1 | M30: =ROUND(IF(G30>0,G30*K30,"0")+IF(H30>0,(H30/1.5)*L30,"0"),1) -> 60
D31: TT sửa chữa máy lạnh gia dụng ( nhóm 1+2) | E31: 15CĐ-ĐL3 | F31: 2 | H31: 180 | I31: 46 | L31: 1 | M31: =ROUND(IF(G31>0,G31*K31,"0")+IF(H31>0,(H31/1.5)*L31,"0"),1) -> 120
M32: =ROUND(IF(G32>0,G32*K32,"0")+IF(H32>0,(H32/1.5)*L32,"0"),1) -> 0
M33: =ROUND(IF(G33>0,G33*K33,"0")+IF(H33>0,(H33/1.5)*L33,"0"),1) -> 0
D34: CVHT | E34: 15CĐ-ĐL2 | F34: 1,2 | M34: =ROUND(IF(G34>0,G34*K34,"0")+IF(H34>0,(H34/1.5)*L34,"0"),1) -> 0
A35: 4 | B35: Trần Đình | C35: Khoa | D35: Truyền nhiệt | E35: 15CĐ-ĐL1,2,3 | F35: 1 | G35: 90 | I35: 49,45,46 | K35: 1.1 | M35: =ROUND(IF(G35>0,G35*K35,"0")+IF(H35>0,(H35/1.5)*L35,"0"),1) -> 99 | N35: 40.5 | P35: =SUM(M35:M43)+N35+O35 -> 400.5 | Q35: 0 | R35: ='Mau B2'!L14 -> 0 | S35: 270 | T35: 270 | U35: 587 | V35: 587 | W35: 273 | X35: 273 | Y35: =ROUND((P35-T35),1) -> 130.5 | Z35: =IF(OR(SUM(V35:V43)="",SUM(Q35:Q43)=""),0,IF(SUM(U35:U43)=587,ROUND((SUM(Q35:Q43)-SUM(V35:V43))/3.33,1),0)) -> -176.3 | AA35: =IF(OR(SUM(X35:X43)="",SUM(R35:R43)=""),0,IF(SUM(W35:W43)=273,ROUND((SUM(R35:R43)-SUM(X35:X43))/3.33,1),0)) -> -82 | AC35: =SUM(Y35:AA43) -> -127.8
B36: Cộng 30 tiết hoc lại | D36: Cơ học lưu chất | E36: 15TN-NL(12+2) | F36: 1 | G36: 45 | I36: 28 | K36: 1 | M36: =ROUND(IF(G36>0,G36*K36,"0")+IF(H36>0,(H36/1.5)*L36,"0"),1) -> 45
D37: =Q35 -> 0 | E37: 15TCN-LĐL (9+4) | F37: 1 | G37: 60 | I37: 36 | K37: 1 | M37: =ROUND(IF(G37>0,G37*K37,"0")+IF(H37>0,(H37/1.5)*L37,"0"),1) -> 60
D38: An toàn lao động | E38: 16CĐ-ĐL3,4 | F38: 1 | G38: 60 | I38: 59,42 | K38: 1.1 | M38: =ROUND(IF(G38>0,G38*K38,"0")+IF(H38>0,(H38/1.5)*L38,"0"),1) -> 66
D39: TT sữa chữa tủ lạnh gia dụng | E39: 15CĐ-ĐL2 | F39: 2 | H39: 90 | I39: 45 | L39: 1 | M39: =ROUND(IF(G39>0,G39*K39,"0")+IF(H39>0,(H39/1.5)*L39,"0"),1) -> 60
D40: cơ học lưu chất | E40: 15TC- NL (9+3) | F40: 2 | G40: 30 | I40: 13 | K40: 1 | M40: =ROUND(IF(G40>0,G40*K40,"0")+IF(H40>0,(H40/1.5)*L40,"0"),1) -> 30
M41: =ROUND(IF(G41>0,G41*K41,"0")+IF(H41>0,(H41/1.5)*L41,"0"),1) -> 0
...

Sheet Mau A2
S1: Mẫu A2
A2: UBND THÀNH PHỐ HỒ CHÍ MINH | O2: CỘNG HÒA XÃ HỘI CHỦ NGHĨA VIỆT NAM
A3: TRƯỜNG CAO ĐẲNG KỸ THUẬT LÝ TỰ TRỌNG TP. HỒ CHÍ MINH | O3: Độc lập - Tự do - Hạnh phúc
A4: BẢNG TỔNG KẾT KHỐI LƯỢNG CÔNG VIỆC CỦA GIẢNG VIÊN TRONG NĂM HỌC 2015 - 2016
A5: KHOA CÔNG NGHỆ NHIỆT- LẠNH
A7: TT | B7: Họ và Tên | D7: Thực hiện trong năm học | J7: Số tiết chuẩn giảng dạy cả năm còn lại | K7: Số giờ chuẩn NCKH cả năm còn lại | L7: Số giờ chuẩn "Học tập bồi dưỡng và các nhiệm vụ khác" cả năm còn lại | M7: Số tiết thừa, thiếu giảng dạy | N7: Số tiết thừa, thiếu NCKH | O7: Số tiết thừa, thiếu "Học tập bồi dưỡng và các nhiệm vụ khác" | P7: Tổng số tiết thừa, thiếu năm học 2015-2016 | Q7: Số tiết thừa, thiếu năm học 2014-2015 | R7: Tổng số tiết thừa, thiếu (sau khi cộng số tiết thừa, thiếu năm học 2014-2015) | S7: Tổng số tiết thừa, thiếu năm học 2015-2016 (sau khi cộng số tiết SKKN đã quy đổi)
D8: Số tiết quy đổi và đã nhân hệ số | E8: Kiêm nhiệm | F8: Khối lượng công tác cộng thêm | G8: Tổng tiết thực hiện | H8: Số giờ NCKH | I8: Số giờ "Học tập bồi dưỡng và các nhiệm vụ khác"
A10: (1) | B10: (2) | D10: (3) | E10: (4) | F10: (5) | G10: (6) | H10: (7) | I10: (8) | J10: (9) | K10: (10) | L10: (11) | M10: (12) | N10: (13) | O10: (14) | P10: (15) | Q10: (16) | R10: (17) | S10: (18)
A11: 1 | B11: =IF('Mau A1'!B11="","",'Mau A1'!B11) -> Võ Anh | C11: =IF('Mau A1'!C11="","",'Mau A1'!C11) -> Hào | D11: =SUM('Mau A1'!M11:M18) -> 511 | E11: =SUM('Mau A1'!N11:N18) -> 54 | F11: =SUM('Mau A1'!O11:O18) -> 0 | G11: =SUM('Mau A1'!P11:P18) -> 565 | H11: =SUM('Mau A1'!Q11:Q18) -> 0 | I11: =SUM('Mau A1'!R11:R18) -> 0 | J11: =SUM('Mau A1'!T11:T18) -> 270 | K11: =SUM('Mau A1'!V11:V18) -> 587 | L11: =SUM('Mau A1'!X11:X18) -> 273 | M11: =SUM('Mau A1'!Y11:Y18) -> 295 | N11: =SUM('Mau A1'!Z11:Z18) -> -176.3 | O11: =SUM('Mau A1'!AA11:AA18) -> -82 | P11: =SUM('Mau A1'!AC11:AC18) -> 36.7 | Q11: =SUM('Mau A1'!AB11:AB18) -> 0 | R11: =P11+Q11 -> 36.7 | S11: -196.6
A12: 2 | B12: =IF('Mau A1'!B19="","",'Mau A1'!B19) -> Đinh Đồng | C12: =IF('Mau A1'!C19="","",'Mau A1'!C19) -> Hiệp | D12: =SUM('Mau A1'!M19:M26) -> 429 | E12: =SUM('Mau A1'!N19:N26) -> 67.5 | F12: =SUM('Mau A1'!O19:O26) -> 0 | G12: =SUM('Mau A1'!P19:P26) -> 496.5 | H12: =SUM('Mau A1'!Q19:Q26) -> 0 | I12: =SUM('Mau A1'!R19:R26) -> 0 | J12: =SUM('Mau A1'!T19:T26) -> 270 | K12: =SUM('Mau A1'!V19:V26) -> 587 | L12: =SUM('Mau A1'!X19:X26) -> 273 | M12: =SUM('Mau A1'!Y19:Y26) -> 226.5 | N12: =SUM('Mau A1'!Z19:Z26) -> -176.3 | O12: =SUM('Mau A1'!AA19:AA26) -> -82 | P12: =SUM('Mau A1'!AC19:AC26) -> -31.8 | Q12: =SUM('Mau A1'!AB19:AB26) -> 0 | R12: =P12+Q12 -> -31.8 | S12: -155.6
A13: 3 | B13: =IF('Mau A1'!B27="","",'Mau A1'!B27) -> Phan văn | C13: =IF('Mau A1'!C27="","",'Mau A1'!C27) -> Hòa | D13: =SUM('Mau A1'!M27:M34) -> 425 | E13: =SUM('Mau A1'!N27:N34) -> 40.5 | F13: =SUM('Mau A1'!O27:O34) -> 0 | G13: =SUM('Mau A1'!P27:P34) -> 465.5 | H13: =SUM('Mau A1'!Q27:Q34) -> 0 | I13: =SUM('Mau A1'!R27:R34) -> 0 | J13: =SUM('Mau A1'!T27:T34) -> 270 | K13: =SUM('Mau A1'!V27:V34) -> 587 | L13: =SUM('Mau A1'!X27:X34) -> 273 | M13: =SUM('Mau A1'!Y27:Y34) -> 195.5 | N13: =SUM('Mau A1'!Z27:Z34) -> -176.3 | O13: =SUM('Mau A1'!AA27:AA34) -> -82 | P13: =SUM('Mau A1'!AC27:AC34) -> -62.8 | Q13: =SUM('Mau A1'!AB27:AB34) -> 0 | R13: =P13+Q13 -> -62.8 | S13: -135.6
A14: 4 | B14: =IF('Mau A1'!B35="","",'Mau A1'!B35) -> Trần Đình | C14: =IF('Mau A1'!C35="","",'Mau A1'!C35) -> Khoa | D14: =SUM('Mau A1'!M35:M43) -> 360 | E14: =SUM('Mau A1'!N35:N43) -> 40.5 | F14: =SUM('Mau A1'!O35:O43) -> 0 | G14: =SUM('Mau A1'!P35:P43) -> 400.5 | H14: =SUM('Mau A1'!Q35:Q43) -> 0 | I14: =SUM('Mau A1'!R35:R43) -> 0 | J14: =SUM('Mau A1'!T35:T43) -> 270 | K14: =SUM('Mau A1'!V35:V43) -> 587 | L14: =SUM('Mau A1'!X35:X43) -> 273 | M14: =SUM('Mau A1'!Y35:Y43) -> 130.5 | N14: =SUM('Mau A1'!Z35:Z43) -> -176.3 | O14: =SUM('Mau A1'!AA35:AA43) -> -82 | P14: =SUM('Mau A1'!AC35:AC43) -> -127.8 | Q14: =SUM('Mau A1'!AB35:AB43) -> 0 | R14: =P14+Q14 -> -127.8 | S14: -159.7
A15: 5 | B15: =IF('Mau A1'!B44="","",'Mau A1'!B44) -> Đỗ Trọng | C15: =IF('Mau A1'!C44="","",'Mau A1'!C44) -> Quý | D15: =SUM('Mau A1'!M44:M50) -> 480 | E15: =SUM('Mau A1'!N44:N50) -> 40.5 | F15: =SUM('Mau A1'!O44:O50) -> 0 | G15: =SUM('Mau A1'!P44:P50) -> 520.5 | H15: =SUM('Mau A1'!Q44:Q50) -> 0 | I15: =SUM('Mau A1'!R44:R50) -> 0 | J15: =SUM('Mau A1'!T44:T50) -> 270 | K15: =SUM('Mau A1'!V44:V50) -> 587 | L15: =SUM('Mau A1'!X44:X50) -> 273 | M15: =SUM('Mau A1'!Y44:Y50) -> 250.5 | N15: =SUM('Mau A1'!Z44:Z50) -> -176.3 | O15: =SUM('Mau A1'!AA44:AA50) -> -82 | P15: =SUM('Mau A1'!AC44:AC50) -> -7.8 | Q15: =SUM('Mau A1'!AB44:AB50) -> 0 | R15: =P15+Q15 -> -7.8 | S15: -241.3
A16: 6 | B16: =IF('Mau A1'!B51="","",'Mau A1'!B51) -> Đặng Thế | C16: =IF('Mau A1'!C51="","",'Mau A1'!C51) -> Huân | D16: =SUM('Mau A1'!M51:M60) -> 425 | E16: =SUM('Mau A1'!N51:N60) -> 54 | F16: =SUM('Mau A1'!O51:O60) -> 0 | G16: =SUM('Mau A1'!P51:P60) -> 479 | H16: =SUM('Mau A1'!Q51:Q60) -> 0 | I16: =SUM('Mau A1'!R51:R60) -> 0 | J16: =SUM('Mau A1'!T51:T60) -> 270 | K16: =SUM('Mau A1'!V51:V60) -> 587 | L16: =SUM('Mau A1'!X51:X60) -> 273 | M16: =SUM('Mau A1'!Y51:Y60) -> 209 | N16: =SUM('Mau A1'!Z51:Z60) -> -176.3 | O16: =SUM('Mau A1'!AA51:AA60) -> -82 | P16: =SUM('Mau A1'!AC51:AC60) -> -49.3 | Q16: =SUM('Mau A1'!AB51:AB60) -> 0 | R16: =P16+Q16 -> -49.3 | S16: -98.3
A17: 7 | B17: =IF('Mau A1'!B61="","",'Mau A1'!B61) -> Võ Phước | C17: =IF('Mau A1'!C61="","",'Mau A1'!C61) -> Quang | D17: =SUM('Mau A1'!M61:M67) -> 456 | E17: =SUM('Mau A1'!N61:N67) -> 40.5 | F17: =SUM('Mau A1'!O61:O67) -> 0 | G17: =SUM('Mau A1'!P61:P67) -> 496.5 | H17: =SUM('Mau A1'!Q61:Q67) -> 60 | I17: =SUM('Mau A1'!R61:R67) -> 0 | J17: =SUM('Mau A1'!T61:T67) -> 260.2 | K17: =SUM('Mau A1'!V61:V67) -> 560.3 | L17: =SUM('Mau A1'!X61:X67) -> 273 | M17: =SUM('Mau A1'!Y61:Y67) -> 236.3 | N17: =SUM('Mau A1'!Z61:Z67) -> -150.2 | O17: =SUM('Mau A1'!AA61:AA67) -> -82 | P17: =SUM('Mau A1'!AC61:AC67) -> 4.1 | Q17: =SUM('Mau A1'!AB61:AB67) -> 0 | R17: =P17+Q17 -> 4.1 | S17: -68.6
A18: 8 | B18: =IF('Mau A1'!B68="","",'Mau A1'!B68) -> Hoàng Văn | C18: =IF('Mau A1'!C68="","",'Mau A1'!C68) -> Viết | D18: =SUM('Mau A1'!M68:M72) -> 145.5 | E18: =SUM('Mau A1'!N68:N72) -> 40.5 | F18: =SUM('Mau A1'!O68:O72) -> 0 | G18: =SUM('Mau A1'!P68:P72) -> 186 | H18: =SUM('Mau A1'!Q68:Q72) -> 0 | I18: =SUM('Mau A1'!R68:R72) -> 0 | J18: =SUM('Mau A1'!T68:T72) -> 0 | K18: =SUM('Mau A1'!V68:V72) -> 0 | L18: =SUM('Mau A1'!X68:X72) -> 273 | M18: =SUM('Mau A1'!Y68:Y72) -> 186 | N18: =SUM('Mau A1'!Z68:Z72) -> 0 | O18: =SUM('Mau A1'!AA68:AA72) -> -82 | P18: =SUM('Mau A1'!AC68:AC72) -> 104 | Q18: =SUM('Mau A1'!AB68:AB72) -> 0 | R18: =P18+Q18 -> 104 | S18: -223.1
A19: 9 | B19: =IF('Mau A1'!B73="","",'Mau A1'!B73) -> Nguyễn Vũ Xuân | C19: =IF('Mau A1'!C73="","",'Mau A1'!C73) -> Thì | D19: =SUM('Mau A1'!M73:M81) -> 376 | E19: =SUM('Mau A1'!N73:N81) -> 40.5 | F19: =SUM('Mau A1'!O73:O81) -> 0 | G19: =SUM('Mau A1'!P73:P81) -> 416.5 | H19: =SUM('Mau A1'!Q73:Q81) -> 0 | I19: =SUM('Mau A1'!R73:R81) -> 0 | J19: =SUM('Mau A1'!T73:T81) -> 270 | K19: =SUM('Mau A1'!V73:V81) -> 587 | L19: =SUM('Mau A1'!X73:X81) -> 273 | M19: =SUM('Mau A1'!Y73:Y81) -> 146.5 | N19: =SUM('Mau A1'!Z73:Z81) -> -176.3 | O19: =SUM('Mau A1'!AA73:AA81) -> -82 | P19: =SUM('Mau A1'!AC73:AC81) -> -111.8 | Q19: =SUM('Mau A1'!AB73:AB81) -> 0 | R19: =P19+Q19 -> -111.8 | S19: -143.1
A20: 10 | B20: =IF('Mau A1'!B82="","",'Mau A1'!B82) -> Nguyễn Ngọc | C20: =IF('Mau A1'!C82="","",'Mau A1'!C82) -> Trí | D20: =SUM('Mau A1'!M82:M88) -> 291.5 | E20: =SUM('Mau A1'!N82:N88) -> 40.5 | F20: =SUM('Mau A1'!O82:O88) -> 0 | G20: =SUM('Mau A1'!P82:P88) -> 332 | H20: =SUM('Mau A1'!Q82:Q88) -> 0 | I20: =SUM('Mau A1'!R82:R88) -> 0 | J20: =SUM('Mau A1'!T82:T88) -> 270 | K20: =SUM('Mau A1'!V82:V88) -> 587 | L20: =SUM('Mau A1'!X82:X88) -> 273 | M20: =SUM('Mau A1'!Y82:Y88) -> 62 | N20: =SUM('Mau A1'!Z82:Z88) -> -176.3 | O20: =SUM('Mau A1'!AA82:AA88) -> -82 | P20: =SUM('Mau A1'!AC82:AC88) -> -196.3 | Q20: =SUM('Mau A1'!AB82:AB88) -> 0 | R20: =P20+Q20 -> -196.3 | S20: -164.7
A21: 11 | B21: =IF('Mau A1'!B89="","",'Mau A1'!B89) | C21: =IF('Mau A1'!C89="","",'Mau A1'!C89) | D21: =SUM('Mau A1'!M89:M92) -> 0 | E21: =SUM('Mau A1'!N89:N92) -> 0 | F21: =SUM('Mau A1'!O89:O92) -> 0 | G21: =SUM('Mau A1'!P89:P92) -> 0 | H21: =SUM('Mau A1'!Q89:Q92) -> 60 | I21: =SUM('Mau A1'!R89:R92) -> 0 | J21: =SUM('Mau A1'!T89:T92) -> 135 | K21: =SUM('Mau A1'!V89:V92) -> 306.8 | L21: =SUM('Mau A1'!X89:X92) -> 136.5 | M21: =SUM('Mau A1'!Y89:Y92) -> -135 | N21: =SUM('Mau A1'!Z89:Z92) -> -74.1 | O21: =SUM('Mau A1'!AA89:AA92) -> 0 | P21: =SUM('Mau A1'!AC89:AC92) -> -209.1 | Q21: =SUM('Mau A1'!AB89:AB92) -> 0 | R21: =P21+Q21 -> -209.1 | S21: -80.1
A22: TỔNG CỘNG | D22: =SUM(D11:D21) -> 3899 | E22: =SUM(E11:E21) -> 459 | F22: =SUM(F11:F21) -> 0 | G22: =SUM(G11:G21) -> 4358 | H22: =SUM(H11:H21) -> 120 | I22: =SUM(I11:I21) -> 0 | J22: =SUM(J11:J21) -> 2555.2 | K22: =SUM(K11:K21) -> 5563.1 | ... R22: =SUM(R11:R21) -> -651.9 | S22: =S11+S12+S13+S14+S15+S16+S17+S18+S19+S20+S21 -> -1666.7
B24: Lưu ý: Không cần nhập số liệu, vì tất cả các số liệu được cài sẵn công thức chuyển từ mẫu A1 sang
Q25: Thành phố Hồ Chí Minh, ngày tháng năm 2016
A26: HIỆU TRƯỞNG | E26: TRƯỞNG P. TS-ĐT-GTVL | I26: TRƯỞNG P. QLKH-HTQT | M26: TRƯỞNG P. TC-HC-TH | Q26: TRƯỞNG KHOA

Sheet Mau B1.1
J1: Mẫu B1. 1
A2: UBND THÀNH PHỐ HỒ CHÍ MINH | E2: CỘNG HÒA XÃ HỘI CHỦ NGHĨA VIỆT NAM
A3: TRƯỜNG CAO ĐẲNG KỸ THUẬT LÝ TỰ TRỌNG TP. HỒ CHÍ MINH | E3: Độc lập - Tự do - Hạnh phúc
A5: BẢNG TỔNG HỢP THAM QUAN THỰC TẾ
A6: NĂM HỌC 2015 - 2016
A7: KHOA CÔNG NGHỆ NHIỆT- LẠNH
A9: TT | B9: HỌ VÀ TÊN GIẢNG VIÊN | D9: THỜI GIAN THAM DỰ | I9: TỔNG SỐ GIỜ ĐƯỢC TÍNH | J9: GHI CHÚ
A11: 1 | B11: =IF('Mau A1'!B11="","",'Mau A1'!B11) -> Võ Anh | C11: =IF('Mau A1'!C11="","",'Mau A1'!C11) -> Hào | I11: =COUNTIF(D11:H11,"X")*4 -> 0
A12: 2 | B12: =IF('Mau A1'!B19="","",'Mau A1'!B19) -> Đinh Đồng | C12: =IF('Mau A1'!C19="","",'Mau A1'!C19) -> Hiệp | I12: =COUNTIF(D12:H12,"X")*4 -> 0
A13: 3 | B13: =IF('Mau A1'!B27="","",'Mau A1'!B27) -> Phan văn | C13: =IF('Mau A1'!C27="","",'Mau A1'!C27) -> Hòa | I13: =COUNTIF(D13:H13,"X")*4 -> 0
A14: 4 | B14: =IF('Mau A1'!B35="","",'Mau A1'!B35) -> Trần Đình | C14: =IF('Mau A1'!C35="","",'Mau A1'!C35) -> Khoa | I14: =COUNTIF(D14:H14,"X")*4 -> 0
A15: 5 | B15: =IF('Mau A1'!B44="","",'Mau A1'!B44) -> Đỗ Trọng | C15: =IF('Mau A1'!C44="","",'Mau A1'!C44) -> Quý | I15: =COUNTIF(D15:H15,"X")*4 -> 0
A16: 6 | B16: =IF('Mau A1'!B51="","",'Mau A1'!B51) -> Đặng Thế | C16: =IF('Mau A1'!C51="","",'Mau A1'!C51) -> Huân | I16: =COUNTIF(D16:H16,"X")*4 -> 0
A17: 7 | B17: =IF('Mau A1'!B61="","",'Mau A1'!B61) -> Võ Phước | C17: =IF('Mau A1'!C61="","",'Mau A1'!C61) -> Quang | I17: =COUNTIF(D17:H17,"X")*4 -> 0
A18: 8 | B18: =IF('Mau A1'!B68="","",'Mau A1'!B68) -> Hoàng Văn | C18: =IF('Mau A1'!C68="","",'Mau A1'!C68) -> Viết | I18: =COUNTIF(D18:H18,"X")*4 -> 0
A19: 9 | B19: =IF('Mau A1'!B73="","",'Mau A1'!B73) -> Nguyễn Vũ Xuân | C19: =IF('Mau A1'!C73="","",'Mau A1'!C73) -> Thì | I19: =COUNTIF(D19:H19,"X")*4 -> 0
A20: 10 | B20: =IF('Mau A1'!B82="","",'Mau A1'!B82) -> Nguyễn Ngọc | C20: =IF('Mau A1'!C82="","",'Mau A1'!C82) -> Trí | I20: =COUNTIF(D20:H20,"X")*4 -> 0
A21: 11 | B21: =IF('Mau A1'!B89="","",'Mau A1'!B89) | C21: =IF('Mau A1'!C89="","",'Mau A1'!C89) | I21: =COUNTIF(D21:H21,"X")*4 -> 0
A22: 12 | B22: =IF('Mau A1'!#REF!="","",'Mau A1'!#REF!) -> #REF! | C22: =IF('Mau A1'!#REF!="","",'Mau A1'!#REF!) -> #REF! | I22: =COUNTIF(D22:H22,"X")*4 -> 0
A23: 13 | B23: =IF('Mau A1'!#REF!="","",'Mau A1'!#REF!) -> #REF! | C23: =IF('Mau A1'!#REF!="","",'Mau A1'!#REF!) -> #REF! | I23: =COUNTIF(D23:H23,"X")*4 -> 0
A24: 14 | B24: =IF('Mau A1'!#REF!="","",'Mau A1'!#REF!) -> #REF! | C24: =IF('Mau A1'!#REF!="","",'Mau A1'!#REF!) -> #REF! | I24: =COUNTIF(D24:H24,"X")*4 -> 0
A25: 15 | B25: =IF('Mau A1'!#REF!="","",'Mau A1'!#REF!) -> #REF! | C25: =IF('Mau A1'!#REF!="","",'Mau A1'!#REF!) -> #REF! | I25: =COUNTIF(D25:H25,"X")*4 -> 0
A26: 16 | B26: =IF('Mau A1'!#REF!="","",'Mau A1'!#REF!) -> #REF! | C26: =IF('Mau A1'!#REF!="","",'Mau A1'!#REF!) -> #REF! | I26: =COUNTIF(D26:H26,"X")*4 -> 0
A27: 17 | B27: =IF('Mau A1'!#REF!="","",'Mau A1'!#REF!) -> #REF! | C27: =IF('Mau A1'!#REF!="","",'Mau A1'!#REF!) -> #REF! | I27: =COUNTIF(D27:H27,"X")*4 -> 0
A28: 18 | B28: =IF('Mau A1'!#REF!="","",'Mau A1'!#REF!) -> #REF! | C28: =IF('Mau A1'!#REF!="","",'Mau A1'!#REF!) -> #REF! | I28: =COUNTIF(D28:H28,"X")*4 -> 0
A29: 19 | B29: =IF('Mau A1'!#REF!="","",'Mau A1'!#REF!) -> #REF! | C29: =IF('Mau A1'!#REF!="","",'Mau A1'!#REF!) -> #REF! | I29: =COUNTIF(D29:H29,"X")*4 -> 0
A30: 20 | B30: =IF('Mau A1'!#REF!="","",'Mau A1'!#REF!) -> #REF! | C30: =IF('Mau A1'!#REF!="","",'Mau A1'!#REF!) -> #REF! | I30: =COUNTIF(D30:H30,"X")*4 -> 0
A31: 21 | B31: =IF('Mau A1'!#REF!="","",'Mau A1'!#REF!) -> #REF! | C31: =IF('Mau A1'!#REF!="","",'Mau A1'!#REF!) -> #REF! | I31: =COUNTIF(D31:H31,"X")*4 -> 0
A32: 22 | B32: =IF('Mau A1'!#REF!="","",'Mau A1'!#REF!) -> #REF! | C32: =IF('Mau A1'!#REF!="","",'Mau A1'!#REF!) -> #REF! | I32: =COUNTIF(D32:H32,"X")*4 -> 0
A33: 23 | B33: =IF('Mau A1'!#REF!="","",'Mau A1'!#REF!) -> #REF! | C33: =IF('Mau A1'!#REF!="","",'Mau A1'!#REF!) -> #REF! | I33: =COUNTIF(D33:H33,"X")*4 -> 0
... A60: 50 | B60: =IF('Mau A1'!#REF!="","",'Mau A1'!#REF!) -> #REF! | C60: =IF('Mau A1'!#REF!="","",'Mau A1'!#REF!) -> #REF! | I60: =COUNTIF(D60:H60,"X")*4 -> 0
B62: Minh chứng nộp kèm: Kế hoạch được Hiệu trưởng duyệt và danh sách tham dự thực tế. | F62: Tp.HCM, Ngày tháng năm 2016
C63: Trưởng Khoa | F63: Người lập biểu

Sheet Mau B1.2.1
AW1: Mẫu B1.2. 1
A2: UBND THÀNH PHỐ HỒ CHÍ MINH | AF2: CỘNG HÒA XÃ HỘI CHỦ NGHĨA VIỆT NAM
A3: TRƯỜNG CAO ĐẲNG KỸ THUẬT LÝ TỰ TRỌNG TP. HỒ CHÍ MINH | AF3: Độc lập - Tự do - Hạnh phúc
A5: BẢNG TỔNG HỢP HỌP VỀ CÔNG TÁC CHUYÊN MÔN ĐỊNH KỲ
A6: NĂM HỌC 2015 - 2016
A7: KHOA CÔNG NGHỆ NHIỆT-LẠNH
A9: TT | B9: HỌ VÀ TÊN GIẢNG VIÊN | D9: HỌP VỀ CÔNG TÁC CHUYÊN MÔN ĐỊNH KỲ | AZ9: TỔNG SỐ GIỜ ĐƯỢC TÍNH
D10: T9/ 2015 | H10: T10 | L10: T11 | P10: T12 | T10: T01/ 2016 | X10: T02 | AB10: T 3 | AF10: T4 | AJ10: T5 | AN10: T 6 | AR10: T 7 | AV10: T 8
A11: 1 | B11: =IF('Mau A1'!B11="","",'Mau A1'!B11) -> Võ Anh | C11: =IF('Mau A1'!C11="","",'Mau A1'!C11) -> Hào | AZ11: =IF(COUNTIF(D11:AY11,"X")*4>40,40,COUNTIF(D11:AY11,"X")*4) -> 0
A12: 2 | B12: =IF('Mau A1'!B19="","",'Mau A1'!B19) -> Đinh Đồng | C12: =IF('Mau A1'!C19="","",'Mau A1'!C19) -> Hiệp | AZ12: =IF(COUNTIF(D12:AY12,"X")*4>40,40,COUNTIF(D12:AY12,"X")*4) -> 0
A13: 3 | B13: =IF('Mau A1'!B27="","",'Mau A1'!B27) -> Phan văn | C13: =IF('Mau A1'!C27="","",'Mau A1'!C27) -> Hòa | AZ13: =IF(COUNTIF(D13:AY13,"X")*4>40,40,COUNTIF(D13:AY13,"X")*4) -> 0
A14: 4 | B14: =IF('Mau A1'!B35="","",'Mau A1'!B35) -> Trần Đình | C14: =IF('Mau A1'!C35="","",'Mau A1'!C35) -> Khoa | AZ14: =IF(COUNTIF(D14:AY14,"X")*4>40,40,COUNTIF(D14:AY14,"X")*4) -> 0
A15: 5 | B15: =IF('Mau A1'!B44="","",'Mau A1'!B44) -> Đỗ Trọng | C15: =IF('Mau A1'!C44="","",'Mau A1'!C44) -> Quý | AZ15: =IF(COUNTIF(D15:AY15,"X")*4>40,40,COUNTIF(D15:AY15,"X")*4) -> 0
A16: 6 | B16: =IF('Mau A1'!B51="","",'Mau A1'!B51) -> Đặng Thế | C16: =IF('Mau A1'!C51="","",'Mau A1'!C51) -> Huân | AZ16: =IF(COUNTIF(D16:AY16,"X")*4>40,40,COUNTIF(D16:AY16,"X")*4) -> 0
A17: 7 | B17: =IF('Mau A1'!B61="","",'Mau A1'!B61) -> Võ Phước | C17: =IF('Mau A1'!C61="","",'Mau A1'!C61) -> Quang | AZ17: =IF(COUNTIF(D17:AY17,"X")*4>40,40,COUNTIF(D17:AY17,"X")*4) -> 0
A18: 8 | B18: =IF('Mau A1'!B68="","",'Mau A1'!B68) -> Hoàng Văn | C18: =IF('Mau A1'!C68="","",'Mau A1'!C68) -> Viết | AZ18: =IF(COUNTIF(D18:AY18,"X")*4>40,40,COUNTIF(D18:AY18,"X")*4) -> 0
A19: 9 | B19: =IF('Mau A1'!B73="","",'Mau A1'!B73) -> Nguyễn Vũ Xuân | C19: =IF('Mau A1'!C73="","",'Mau A1'!C73) -> Thì | AZ19: =IF(COUNTIF(D19:AY19,"X")*4>40,40,COUNTIF(D19:AY19,"X")*4) -> 0
A20: 10 | B20: =IF('Mau A1'!B82="","",'Mau A1'!B82) -> Nguyễn Ngọc | C20: =IF('Mau A1'!C82="","",'Mau A1'!C82) -> Trí | AZ20: =IF(COUNTIF(D20:AY20,"X")*4>40,40,COUNTIF(D20:AY20,"X")*4) -> 0
A21: 11 | B21: =IF('Mau A1'!B89="","",'Mau A1'!B89) | C21: =IF('Mau A1'!C89="","",'Mau A1'!C89) | AZ21: =IF(COUNTIF(D21:AY21,"X")*4>40,40,COUNTIF(D21:AY21,"X")*4) -> 0
B22: Minh chứng nộp kèm: Biên bản họp có danh sách GV dự họp thực tế. | AN22: TP.HCM, Ngày tháng năm 2016
C23: Trưởng Khoa | AN23: Người lập biểu

Sheet Mau  B1.2.2
A2: UBND THÀNH PHỐ HỒ CHÍ MINH | K2: CỘNG HÒA XÃ HỘI CHỦ NGHĨA VIỆT NAM
A3: TRƯỜNG CAO ĐẲNG KỸ THUẬT LÝ TỰ TRỌNG TP. HỒ CHÍ MINH | K3: Độc lập - Tự do - Hạnh phúc
A5: BẢNG TỔNG HỢP HỌP VỀ CÔNG TÁC CHUYÊN MÔN ĐỘT XUẤT
A6: NĂM HỌC 2015 - 2016
A7: KHOA: CÔNG NGHÊ NHIỆT-LẠNH
A10: TT | B10: HỌ VÀ TÊN GIẢNG VIÊN | D10: THỜI GIAN | F10: NỘI DUNG HỌP | N10: SỐ GIỜ ĐƯỢC TÍNH | P10: TỔNG SỐ GIỜ ĐƯỢC TÍNH
A11: 1 | B11: =IF('Mau A1'!B11="","",'Mau A1'!B11) -> Võ Anh | C11: =IF('Mau A1'!C11="","",'Mau A1'!C11) -> Hào | D11: 18/9/2015 | F11: Họp giao vật tư giảng dạy cho GV+ Nhắc GVCN sinh hoạt công dân, chuẩn bị hồ sơ giảng dạy. | P11: =N11+N12+N13+N14+N15+N16+N17+N18+N19+N20 -> 0
D12: 21/10/2015 | F12: Vắng có phép | N12: 0
D13: 42349 | F13: Họp về việc ra đề thi khóa 14CĐ ( các học phần kết thúc trước tiến độ), đăng ký dự giờ, Tổ trưởng đề nghị GV đăng ký viết chuyên đề NCKH đăng tạp chí trường.
D14: 16/12/2015 | F14: Họp về việ nhắc nhỡ GV chuẩn bị ra đề thi các khóa 14TC, 15TC, 15TCN Nhắc GV trong tổ đã kiểm tra đồ nghề, dụng cụ dạy học và gửi kèm văn bản cho T. Hiệp.
D15: 22/01/2016 | F15: Họp chuẩn bị hồ sơ giảng dạy hk1 để kiểm tra hồ sơ chuyên môn. Chuẩn bị làm lịch giảng dạy hk2 - GV viết báo cáo khoa học cấp khoa - GV hoàn thiện SKKN.- Viết đề cương chi tiết được đảm nhận trong hk2.
D16: 25/02/2016 | F16: Làm lịch giảng dạy HK2.- Theo giỏi lịch coi thi. - GV hoàn thiện dần báo cáo SKKN. - Điều chỉnh lịch giảng dạy cho phù hợp
D17: 17/03/2016 | F17: GV hoàn thiện SKKN để nộp về khoa, hạn chót nộp về trường là 30/03/2016 - GV theo giỏi thời khóa biểu để đúng tiến độ chương trình.- Đăng ký lich dự giờ hk2 /15-16. - Gv viết bài khoa học cấp khoa để tính giờ NCKH.
D18: 25/04/2016 | F18: -Họp Biên soạn chương trình các học phần thuộc tổ cơ sở. - phân công Gv đảm nhận môn họccủa các hệ: CĐ Chính quy, CĐ nghề, hệ 12+2 , TCCN 9+3, TCN 9+4. - Đề nghị hiệu chỉnh thứ tự môn học phần theo theo điều kiện tiên quyết.
D19: 24/05/2016 | F19: Họp tham dự hội thảo cấp khoa. - GV chuẩn bị HS giảng dạy để kiểm tra.- 29/9/2016 tham gia hội giảng cấp trường, - GV theo giỏi lịch coi thi để thực hiện. GV hoàn thiện đề cương chi tiết các môn đã được phân công nộp cho tổ trưởng.
D20: 24/6/2016 | F20: Tổ kiểm tra HSCM học kỳ 2 ngày 30/6/2016. - GV nộp đề cương chi tiết ( đã được phân công) gửi qua egov ( hệ CĐ chính quy và CĐnghề ) - Phân công Gv phụ trách các xưởng thực hành thuộc tổ Cơ sở. - GV đã ký nhận vật tư.
A21: 2 | B21: =IF('Mau A1'!B19="","",'Mau A1'!B19) -> Đinh Đồng | C21: =IF('Mau A1'!C19="","",'Mau A1'!C19) -> Hiệp | D21: 18/9/2015 | F21: Họp giao vật tư giảng dạy cho GV+ Nhắc GVCN sinh hoạt cong dân Chuẩn bị hồ sơ giảng dạy. | P21: =N21+N22+N23+N24+N25+N26+N27+N28+N29+N30 -> 0
D22: 21/10/2015 | F22: Họp lịch giảng dạy khóa 15 + Nhắc GV biên soạn chương trình chi tiết phù hợp với các môn giảng dạy + nhắc nhở GV ghi đầy đủ thông tin vào sổ lên lớp + đăng ký đề tài NCKH.
D23: 42349 | F23: Họp về việc ra đề thi khoa1,14CĐ( các hp kết thúc trước tiến độ), đăng ký dự giờTổ trưởng đề nghị GV đăng ký viết chuyên NCKH đăng tạp chí trường.
D24: 16/12/2015 | F24: Họp về việ nhắc nhỡ GV chuẩn bị ra đề thi các khóa 14TC, 15TC, 15TCN Nhắc GV trong tổ đã kiểm tra đồ nghề, dụng cụ dạy học và gửi kèm văn bản cho T. Hiệp.
D25: 22/01/2016 | F25: Họp chuẩn bị hồ sơ HKI để kiểm tra hồ sơ chuyên môn. -Chuẩn bị làm lịch giảng dạy HK2 - GV viết báo cáo khoa học cấp khoa - GV hoàn thiện SKKN.- Viết đề cương chi tiết được đảm nhận trong hk2
D26: 25/02/2016 | F26: Làm lịch giảng dạy HK2.- Theo giỏi lịch coi thi. - GV hoàn thiện dần báo cáo SKKN. - Điều chỉnh lịch giảng dạy cho phù hợp
D27: 17/03/2016 | F27: GV hoàn thiện SKKN để nộp về khoa, hạn chót nộp về trường là 30/03/2016 - GV theo giỏi thời khóa biểu để đúng tiến độ chương trình.- Đăng ký lich dự giờ hk2/15-16. - Gv viết bài khoa học cấp khoa để tính giờ NCKH.
D28: 25/04/2016 | F28: Họp Biên soạn chương trình các học phần thuộc tổ cơ sở. - phân công Gv đảm nhận môn họccủa các hệ: CĐ Chính quy, CĐ nghề, hệ 12+2 , TCCN 9+3, TCN 9+4. - Đề nghị hiệu chỉnh thứ tự môn học phần theo theo điều kiện tiên quyết.
D29: 24/05/2016 | F29: Họp tham dự hội thảo cấp khoa. - GV chuẩn bị HS giảng dạy để kiểm tra.- 29/9/2016 tham gia hội giảng cấp trường, - GV theogiỏi lịch coi thi để thực hiện. GV hoàn thiện đề cương chi tiết các môn đã được phân công nộp cho tổ trưởng
D30: 24/6/2016 | F30: Tổ kiểm tra HSCM học kỳ 2 ngày 30/6/2016. - GV nộp đề cương chi tiết ( đã được phân công) gửi qua egov ( hệ CĐ chính quy và CĐnghề ) - Phân công Gv phụ trách các xưởng thực hành thuộc tổ Cơ sở. - GV đã ký nhận vật tư
A31: 3 | B31: =IF('Mau A1'!B27="","",'Mau A1'!B27) -> Phan văn | C31: =IF('Mau A1'!C27="","",'Mau A1'!C27) -> Hòa | D31: 42133 | F31: Chuẩn bị hồ sơ lên lớp năm học mới 2015-2016 | P31: =N31+N32+N33+N34+N35+N36+N37+N38+N39+N40 -> 0
D32: 15/10/2015 | F32: Tham gia công tác giáo dục định hướng cho sinh hướng cho khóa 2015, Lên lịch, đăng ký dự giờ học kỳ 1/2015-2016, Đăng ký đề tài NCKH năm 2015-2016…
D33: 28/10/2015 | F33: Dự giờ lên lớp và phân công giảng viên dự giờ, Phân công GV ra đề thi, lịch thi coi thi, Bảng điểm tổng kết học phần, Phân công GV chủ nhiệm môn học, …....
D34: 21/12/2015 | F34: Tham gia công tác giảng dạy, thi kết thúc học phần lý thuyết học kỳ 2 khóa 14 TCCN, đề xuất vật tư thực tập học kỳ 2, Tổng kết các chương trình học phần của tổ, và các công tác khác......
D35: 42522 | F35: Tham gia công tác giảng dạy, thi kết thúc học phần thực hành học kỳ 2 năm 2015-2016 khóa 14 TCCN, phân chia thiết bị cho các xưởng thực tập, các công tác chuyên môn khác.....
D36: 42554 | F36: Hướng dẫn phần mềm , thực hiện kiểm tra hồ sơ chuyên môn học kỳ 1 năm 2015-2016, Giáo viên nộp sáng kiến kinh nghiệm, viết đề cương chi tiết các hệ, di dời xưởng thực hành. Và các công tác khác……
D37: 15/4/2016 | F37: Tham gia công tác giảng dạy, ra đề thi học kỳ 2 các khóa 13CĐ,14CĐ, 14TC, phân công, công tác di dời thiết bị dạy học qua khu G. Thực hiện công tác chủ nhiệm, theo giỏi sỉ lên lớp, thông báo lịch thi học kỳ cho HS,SV, chuẩn bị hồ sơ thực tập cho khóa 13CĐ, 14TCCN. Thực hiện dự giờ học kỳ 2 năm 2015-2016 và các công tác khác.....
D38: 11/5/016 | F38: Triễn khai công tác tháng 5, GV nộp đề thi học kỳ 2 khóa 15 năm 2015-2016, chuẩn bị hội thảo cấp khoa ngày 28/5/2016, điều chỉnh hoàn thiện các xưởng thực hành, các công thực hiện khác…………..
D39: 30/05/2016 | F39: Kiểm tra các chương trình chi tiết của tổ đã phân công chủ nhiệm môn, rà soát lại nội dung của các học phần khóa 15, và các công việc chuyên khác……
D40: 15/7/2016 | F40: Kiểm tra hồ sơ chuyên của GV học kỳ 2 năm học 2015-2016, thực hiện việc đánh giá năng lực giáo dục sư pham TCCN, phân công GV ôn thi tốt nghiệp khóa 14TCCN, chuẩn bị bố trí thiết bị cho các xưởng, và các công tác khác ...
A41: 4 | B41: =IF('Mau A1'!B35="","",'Mau A1'!B35) -> Trần Đình | C41: =IF('Mau A1'!C35="","",'Mau A1'!C35) -> Khoa | D41: 42133 | F41: Chuẩn bị hồ sơ lên lớp năm học mới 2015-2016 | P41: =N41+N42+N43+N44+N45+N46+N47+N48+N49+N50 -> 0
D42: 15/10/2015 | F42: Tham gia công tác giáo dục định hướng cho sinh hs,sv cho khóa 2015. - Lên lịch, đăng ký dự giờ học kỳ 1/2015-2016, Đăng ký đề tài NCKH năm 2015-2016…
D43: 28/10/2015 | F43: Dự giờ lên lớp và phân công giảng viên dự giờ, Phân công GV ra đề thi, lịch thi coi thi, Bảng điểm tổng kết học phần, Phân công GV chủ nhiệm môn học, …....
D44: 21/12/2015 | F44: Tham gia công tác giảng dạy, thi kết thúc học phần học kỳ 2 khóa 14 TCCN, đề xuất vật tư thực tập học kỳ 2. - Tổng kết các chương trình học phần của tổ, và các công tác khác......
...

Sheet Mau B1.3
I1: Mẫu B1. 3
A2: UBND THÀNH PHỐ HỒ CHÍ MINH | E2: CỘNG HÒA XÃ HỘI CHỦ NGHĨA VIỆT NAM
A3: TRƯỜNG CAO ĐẲNG KỸ THUẬT LÝ TỰ TRỌNG TP. HỒ CHÍ MINH | E3: Độc lập - Tự do - Hạnh phúc
A5: BẢNG TỔNG HỢP BỒI DƯỠNG CHUYÊN MÔN
A6: NĂM HỌC 2015 - 2016
A7: KHOA CÔNG NGHỆ NHIỆT-LẠNH
A9: TT | B9: HỌ VÀ TÊN GIẢNG VIÊN | D9: THỜI GIAN THAM DỰ | H9: TỔNG SỐ GIỜ ĐƯỢC TÍNH | I9: GHI CHÚ
D10: 18/9/2015 | E10: 31/10/2015 | F10: 42589 | G10: 29/7/2016
A11: 1 | B11: =IF('Mau A1'!B11="","",'Mau A1'!B11) -> Võ Anh | C11: =IF('Mau A1'!C11="","",'Mau A1'!C11) -> Hào | H11: =COUNTIF(D11:G11,"X")*4 -> 0
A12: 2 | B12: =IF('Mau A1'!B19="","",'Mau A1'!B19) -> Đinh Đồng | C12: =IF('Mau A1'!C19="","",'Mau A1'!C19) -> Hiệp | H12: =COUNTIF(D12:G12,"X")*4 -> 0
A13: 3 | B13: =IF('Mau A1'!B27="","",'Mau A1'!B27) -> Phan văn | C13: =IF('Mau A1'!C27="","",'Mau A1'!C27) -> Hòa | H13: =COUNTIF(D13:G13,"X")*4 -> 0
A14: 4 | B14: =IF('Mau A1'!B35="","",'Mau A1'!B35) -> Trần Đình | C14: =IF('Mau A1'!C35="","",'Mau A1'!C35) -> Khoa | H14: =COUNTIF(D14:G14,"X")*4 -> 0
A15: 5 | B15: =IF('Mau A1'!B44="","",'Mau A1'!B44) -> Đỗ Trọng | C15: =IF('Mau A1'!C44="","",'Mau A1'!C44) -> Quý | H15: =COUNTIF(D15:G15,"X")*4 -> 0
A16: 6 | B16: =IF('Mau A1'!B51="","",'Mau A1'!B51) -> Đặng Thế | C16: =IF('Mau A1'!C51="","",'Mau A1'!C51) -> Huân | H16: =COUNTIF(D16:G16,"X")*4 -> 0
A17: 7 | B17: =IF('Mau A1'!B61="","",'Mau A1'!B61) -> Võ Phước | C17: =IF('Mau A1'!C61="","",'Mau A1'!C61) -> Quang | H17: =COUNTIF(D17:G17,"X")*4 -> 0
A18: 8 | B18: =IF('Mau A1'!B68="","",'Mau A1'!B68) -> Hoàng Văn | C18: =IF('Mau A1'!C68="","",'Mau A1'!C68) -> Viết | H18: =COUNTIF(D18:G18,"X")*4 -> 0
A19: 9 | B19: =IF('Mau A1'!B73="","",'Mau A1'!B73) -> Nguyễn Vũ Xuân | C19: =IF('Mau A1'!C73="","",'Mau A1'!C73) -> Thì | H19: =COUNTIF(D19:G19,"X")*4 -> 0
A20: 10 | B20: =IF('Mau A1'!B82="","",'Mau A1'!B82) -> Nguyễn Ngọc | C20: =IF('Mau A1'!C82="","",'Mau A1'!C82) -> Trí | H20: =COUNTIF(D20:G20,"X")*4 -> 0
A21: 11 | B21: =IF('Mau A1'!B89="","",'Mau A1'!B89) | C21: =IF('Mau A1'!C89="","",'Mau A1'!C89) | H21: =COUNTIF(D21:G21,"X")*4 -> 0
A22: 12 | B22: =IF('Mau A1'!#REF!="","",'Mau A1'!#REF!) -> #REF! | C22: =IF('Mau A1'!#REF!="","",'Mau A1'!#REF!) -> #REF! | H22: =COUNTIF(D22:G22,"X")*4 -> 0
A23: 13 | B23: =IF('Mau A1'!#REF!="","",'Mau A1'!#REF!) -> #REF! | C23: =IF('Mau A1'!#REF!="","",'Mau A1'!#REF!) -> #REF! | H23: =COUNTIF(D23:G23,"X")*4 -> 0
A24: 14 | B24: =IF('Mau A1'!#REF!="","",'Mau A1'!#REF!) -> #REF! | C24: =IF('Mau A1'!#REF!="","",'Mau A1'!#REF!) -> #REF! | H24: =COUNTIF(D24:G24,"X")*4 -> 0
A25: 15 | B25: =IF('Mau A1'!#REF!="","",'Mau A1'!#REF!) -> #REF! | C25: =IF('Mau A1'!#REF!="","",'Mau A1'!#REF!) -> #REF! | H25: =COUNTIF(D25:G25,"X")*4 -> 0
A26: 16 | B26: =IF('Mau A1'!#REF!="","",'Mau A1'!#REF!) -> #REF! | C26: =IF('Mau A1'!#REF!="","",'Mau A1'!#REF!) -> #REF! | H26: =COUNTIF(D26:G26,"X")*4 -> 0
A27: 17 | B27: =IF('Mau A1'!#REF!="","",'Mau A1'!#REF!) -> #REF! | C27: =IF('Mau A1'!#REF!="","",'Mau A1'!#REF!) -> #REF! | H27: =COUNTIF(D27:G27,"X")*4 -> 0
A28: 18 | B28: =IF('Mau A1'!#REF!="","",'Mau A1'!#REF!) -> #REF! | C28: =IF('Mau A1'!#REF!="","",'Mau A1'!#REF!) -> #REF! | H28: =COUNTIF(D28:G28,"X")*4 -> 0
A29: 19 | B29: =IF('Mau A1'!#REF!="","",'Mau A1'!#REF!) -> #REF! | C29: =IF('Mau A1'!#REF!="","",'Mau A1'!#REF!) -> #REF! | H29: =COUNTIF(D29:G29,"X")*4 -> 0
A30: 20 | B30: =IF('Mau A1'!#REF!="","",'Mau A1'!#REF!) -> #REF! | C30: =IF('Mau A1'!#REF!="","",'Mau A1'!#REF!) -> #REF! | H30: =COUNTIF(D30:G30,"X")*4 -> 0
A31: 21 | B31: =IF('Mau A1'!#REF!="","",'Mau A1'!#REF!) -> #REF! | C31: =IF('Mau A1'!#REF!="","",'Mau A1'!#REF!) -> #REF! | H31: =COUNTIF(D31:G31,"X")*4 -> 0
A32: 22 | B32: =IF('Mau A1'!#REF!="","",'Mau A1'!#REF!) -> #REF! | C32: =IF('Mau A1'!#REF!="","",'Mau A1'!#REF!) -> #REF! | H32: =COUNTIF(D32:G32,"X")*4 -> 0
A33: 23 | B33: =IF('Mau A1'!#REF!="","",'Mau A1'!#REF!) -> #REF! | C33: =IF('Mau A1'!#REF!="","",'Mau A1'!#REF!) -> #REF! | H33: =COUNTIF(D33:G33,"X")*4 -> 0
... A60: 50 | B60: =IF('Mau A1'!#REF!="","",'Mau A1'!#REF!) -> #REF! | C60: =IF('Mau A1'!#REF!="","",'Mau A1'!#REF!) -> #REF! | H60: =COUNTIF(D60:G60,"X")*4 -> 0
B62: Minh chứng nộp kèm: Kế hoạch do Nhà trường hoặc khoa lập và được Hiệu trưởng duyệt; Danh sách tham dự thực tế. | F62: Tp.HCM, Ngày tháng năm 2016
C63: Trưởng Khoa | F63: Người lập biểu

Sheet Mau B1.4
F1: Mẫu B1. 4
A2: UBND THÀNH PHỐ HỒ CHÍ MINH | D2: CỘNG HÒA XÃ HỘI CHỦ NGHĨA VIỆT NAM
A3: TRƯỜNG CAO ĐẲNG KỸ THUẬT LÝ TỰ TRỌNG TP. HỒ CHÍ MINH | D3: Độc lập - Tự do - Hạnh phúc
A5: BẢNG TỔNG HỢP DỰ GIỜ ĐỊNH KỲ, ĐỘT XUẤT
A6: NĂM HỌC 2015 - 2016
A7: KHOA CÔNG NGHỆ NHIỆT-LẠNH
A9: TT | B9: HỌ VÀ TÊN GIẢNG VIÊN | D9: Tổng số phiếu chấm dự giờ, góp ý | E9: Tổng số giờ được tính | F9: Ghi chú
A10: (1) | B10: (2) | D10: (3) | E10: (4) | F10: (5)
A11: 1 | B11: =IF('Mau A1'!B11="","",'Mau A1'!B11) -> Võ Anh | C11: =IF('Mau A1'!C11="","",'Mau A1'!C11) -> Hào | E11: =D11*2 -> 0
A12: 2 | B12: =IF('Mau A1'!B19="","",'Mau A1'!B19) -> Đinh Đồng | C12: =IF('Mau A1'!C19="","",'Mau A1'!C19) -> Hiệp | E12: =D12*2 -> 0
A13: 3 | B13: =IF('Mau A1'!B27="","",'Mau A1'!B27) -> Phan văn | C13: =IF('Mau A1'!C27="","",'Mau A1'!C27) -> Hòa | E13: =D13*2 -> 0
A14: 4 | B14: =IF('Mau A1'!B35="","",'Mau A1'!B35) -> Trần Đình | C14: =IF('Mau A1'!C35="","",'Mau A1'!C35) -> Khoa | E14: =D14*2 -> 0
A15: 5 | B15: =IF('Mau A1'!B44="","",'Mau A1'!B44) -> Đỗ Trọng | C15: =IF('Mau A1'!C44="","",'Mau A1'!C44) -> Quý | E15: =D15*2 -> 0
A16: 6 | B16: =IF('Mau A1'!B51="","",'Mau A1'!B51) -> Đặng Thế | C16: =IF('Mau A1'!C51="","",'Mau A1'!C51) -> Huân | E16: =D16*2 -> 0
A17: 7 | B17: =IF('Mau A1'!B61="","",'Mau A1'!B61) -> Võ Phước | C17: =IF('Mau A1'!C61="","",'Mau A1'!C61) -> Quang | E17: =D17*2 -> 0
A18: 8 | B18: =IF('Mau A1'!B68="","",'Mau A1'!B68) -> Hoàng Văn | C18: =IF('Mau A1'!C68="","",'Mau A1'!C68) -> Viết | E18: =D18*2 -> 0
A19: 9 | B19: =IF('Mau A1'!B73="","",'Mau A1'!B73) -> Nguyễn Vũ Xuân | C19: =IF('Mau A1'!C73="","",'Mau A1'!C73) -> Thì | E19: =D19*2 -> 0
A20: 10 | B20: =IF('Mau A1'!B82="","",'Mau A1'!B82) -> Nguyễn Ngọc | C20: =IF('Mau A1'!C82="","",'Mau A1'!C82) -> Trí | E20: =D20*2 -> 0
A21: 11 | B21: =IF('Mau A1'!B89="","",'Mau A1'!B89) | C21: =IF('Mau A1'!C89="","",'Mau A1'!C89) | E21: =D21*2 -> 0
A22: 12 | B22: =IF('Mau A1'!#REF!="","",'Mau A1'!#REF!) -> #REF! | C22: =IF('Mau A1'!#REF!="","",'Mau A1'!#REF!) -> #REF! | E22: =D22*2 -> 0
A23: 13 | B23: =IF('Mau A1'!#REF!="","",'Mau A1'!#REF!) -> #REF! | C23: =IF('Mau A1'!#REF!="","",'Mau A1'!#REF!) -> #REF! | E23: =D23*2 -> 0
A24: 14 | B24: =IF('Mau A1'!#REF!="","",'Mau A1'!#REF!) -> #REF! | C24: =IF('Mau A1'!#REF!="","",'Mau A1'!#REF!) -> #REF! | E24: =D24*2 -> 0
A25: 15 | B25: =IF('Mau A1'!#REF!="","",'Mau A1'!#REF!) -> #REF! | C25: =IF('Mau A1'!#REF!="","",'Mau A1'!#REF!) -> #REF! | E25: =D25*2 -> 0
A26: 16 | B26: =IF('Mau A1'!#REF!="","",'Mau A1'!#REF!) -> #REF! | C26: =IF('Mau A1'!#REF!="","",'Mau A1'!#REF!) -> #REF! | E26: =D26*2 -> 0
A27: 17 | B27: =IF('Mau A1'!#REF!="","",'Mau A1'!#REF!) -> #REF! | C27: =IF('Mau A1'!#REF!="","",'Mau A1'!#REF!) -> #REF! | E27: =D27*2 -> 0
A28: 18 | B28: =IF('Mau A1'!#REF!="","",'Mau A1'!#REF!) -> #REF! | C28: =IF('Mau A1'!#REF!="","",'Mau A1'!#REF!) -> #REF! | E28: =D28*2 -> 0
A29: 19 | B29: =IF('Mau A1'!#REF!="","",'Mau A1'!#REF!) -> #REF! | C29: =IF('Mau A1'!#REF!="","",'Mau A1'!#REF!) -> #REF! | E29: =D29*2 -> 0
A30: 20 | B30: =IF('Mau A1'!#REF!="","",'Mau A1'!#REF!) -> #REF! | C30: =IF('Mau A1'!#REF!="","",'Mau A1'!#REF!) -> #REF! | E30: =D30*2 -> 0
A31: 21 | B31: =IF('Mau A1'!#REF!="","",'Mau A1'!#REF!) -> #REF! | C31: =IF('Mau A1'!#REF!="","",'Mau A1'!#REF!) -> #REF! | E31: =D31*2 -> 0
A32: 22 | B32: =IF('Mau A1'!#REF!="","",'Mau A1'!#REF!) -> #REF! | C32: =IF('Mau A1'!#REF!="","",'Mau A1'!#REF!) -> #REF! | E32: =D32*2 -> 0
A33: 23 | B33: =IF('Mau A1'!#REF!="","",'Mau A1'!#REF!) -> #REF! | C33: =IF('Mau A1'!#REF!="","",'Mau A1'!#REF!) -> #REF! | E33: =D33*2 -> 0
... A60: 50 | B60: =IF('Mau A1'!#REF!="","",'Mau A1'!#REF!) -> #REF! | C60: =IF('Mau A1'!#REF!="","",'Mau A1'!#REF!) -> #REF! | E60: =D60*2 -> 0
B62: Minh chứng nộp kèm:
B63: - Phiếu dự giờ và sắp xếp theo số lượng GV đi dự.
E65: Tp.HCM, ngày tháng năm 2016
B66: Trưởng Khoa | E66: Người lập biểu

Sheet Mau B1.5
F1: Mẫu B1. 5
A2: UBND THÀNH PHỐ HỒ CHÍ MINH | D2: CỘNG HÒA XÃ HỘI CHỦ NGHĨA VIỆT NAM
A3: TRƯỜNG CAO ĐẲNG KỸ THUẬT LÝ TỰ TRỌNG TP. HỒ CHÍ MINH | D3: Độc lập - Tự do - Hạnh phúc
A5: BẢNG TỔNG HỢP HỌP GÓP Ý SAU DỰ GIỜ
A6: NĂM HỌC 2015 - 2016
A7: KHOA: CN NHIỆT-LẠNH
A9: TT | B9: HỌ VÀ TÊN GIẢNG VIÊN | D9: Họp góp ý cho bao nhiêu GV | E9: Tổng số giờ được tính | F9: Ghi chú
A10: (1) | B10: (2) | D10: (3) | E10: (4) | F10: (5)
A11: 1 | B11: =IF('Mau A1'!B11="","",'Mau A1'!B11) -> Võ Anh | C11: =IF('Mau A1'!C11="","",'Mau A1'!C11) -> Hào | E11: =D11*1 -> 0
A12: 2 | B12: =IF('Mau A1'!B19="","",'Mau A1'!B19) -> Đinh Đồng | C12: =IF('Mau A1'!C19="","",'Mau A1'!C19) -> Hiệp | E12: =D12*1 -> 0
A13: 3 | B13: =IF('Mau A1'!B27="","",'Mau A1'!B27) -> Phan văn | C13: =IF('Mau A1'!C27="","",'Mau A1'!C27) -> Hòa | E13: =D13*1 -> 0
A14: 4 | B14: =IF('Mau A1'!B35="","",'Mau A1'!B35) -> Trần Đình | C14: =IF('Mau A1'!C35="","",'Mau A1'!C35) -> Khoa | E14: =D14*1 -> 0
A15: 5 | B15: =IF('Mau A1'!B44="","",'Mau A1'!B44) -> Đỗ Trọng | C15: =IF('Mau A1'!C44="","",'Mau A1'!C44) -> Quý | E15: =D15*1 -> 0
A16: 6 | B16: =IF('Mau A1'!B51="","",'Mau A1'!B51) -> Đặng Thế | C16: =IF('Mau A1'!C51="","",'Mau A1'!C51) -> Huân | E16: =D16*1 -> 0
A17: 7 | B17: =IF('Mau A1'!B61="","",'Mau A1'!B61) -> Võ Phước | C17: =IF('Mau A1'!C61="","",'Mau A1'!C61) -> Quang | E17: =D17*1 -> 0
A18: 8 | B18: =IF('Mau A1'!B68="","",'Mau A1'!B68) -> Hoàng Văn | C18: =IF('Mau A1'!C68="","",'Mau A1'!C68) -> Viết | E18: =D18*1 -> 0
A19: 9 | B19: =IF('Mau A1'!B73="","",'Mau A1'!B73) -> Nguyễn Vũ Xuân | C19: =IF('Mau A1'!C73="","",'Mau A1'!C73) -> Thì | E19: =D19*1 -> 0
A20: 10 | B20: =IF('Mau A1'!B82="","",'Mau A1'!B82) -> Nguyễn Ngọc | C20: =IF('Mau A1'!C82="","",'Mau A1'!C82) -> Trí | E20: =D20*1 -> 0
A21: 11 | B21: =IF('Mau A1'!B89="","",'Mau A1'!B89) | C21: =IF('Mau A1'!C89="","",'Mau A1'!C89) | E21: =D21*1 -> 0
A22: 12 | B22: =IF('Mau A1'!#REF!="","",'Mau A1'!#REF!) -> #REF! | C22: =IF('Mau A1'!#REF!="","",'Mau A1'!#REF!) -> #REF! | E22: =D22*1 -> 0
A23: 13 | B23: =IF('Mau A1'!#REF!="","",'Mau A1'!#REF!) -> #REF! | C23: =IF('Mau A1'!#REF!="","",'Mau A1'!#REF!) -> #REF! | E23: =D23*1 -> 0
A24: 14 | B24: =IF('Mau A1'!#REF!="","",'Mau A1'!#REF!) -> #REF! | C24: =IF('Mau A1'!#REF!="","",'Mau A1'!#REF!) -> #REF! | E24: =D24*1 -> 0
A25: 15 | B25: =IF('Mau A1'!#REF!="","",'Mau A1'!#REF!) -> #REF! | C25: =IF('Mau A1'!#REF!="","",'Mau A1'!#REF!) -> #REF! | E25: =D25*1 -> 0
A26: 16 | B26: =IF('Mau A1'!#REF!="","",'Mau A1'!#REF!) -> #REF! | C26: =IF('Mau A1'!#REF!="","",'Mau A1'!#REF!) -> #REF! | E26: =D26*1 -> 0
A27: 17 | B27: =IF('Mau A1'!#REF!="","",'Mau A1'!#REF!) -> #REF! | C27: =IF('Mau A1'!#REF!="","",'Mau A1'!#REF!) -> #REF! | E27: =D27*1 -> 0
A28: 18 | B28: =IF('Mau A1'!#REF!="","",'Mau A1'!#REF!) -> #REF! | C28: =IF('Mau A1'!#REF!="","",'Mau A1'!#REF!) -> #REF! | E28: =D28*1 -> 0
A29: 19 | B29: =IF('Mau A1'!#REF!="","",'Mau A1'!#REF!) -> #REF! | C29: =IF('Mau A1'!#REF!="","",'Mau A1'!#REF!) -> #REF! | E29: =D29*1 -> 0
A30: 20 | B30: =IF('Mau A1'!#REF!="","",'Mau A1'!#REF!) -> #REF! | C30: =IF('Mau A1'!#REF!="","",'Mau A1'!#REF!) -> #REF! | E30: =D30*1 -> 0
A31: 21 | B31: =IF('Mau A1'!#REF!="","",'Mau A1'!#REF!) -> #REF! | C31: =IF('Mau A1'!#REF!="","",'Mau A1'!#REF!) -> #REF! | E31: =D31*1 -> 0
A32: 22 | B32: =IF('Mau A1'!#REF!="","",'Mau A1'!#REF!) -> #REF! | C32: =IF('Mau A1'!#REF!="","",'Mau A1'!#REF!) -> #REF! | E32: =D32*1 -> 0
A33: 23 | B33: =IF('Mau A1'!#REF!="","",'Mau A1'!#REF!) -> #REF! | C33: =IF('Mau A1'!#REF!="","",'Mau A1'!#REF!) -> #REF! | E33: =D33*1 -> 0
... A60: 50 | B60: =IF('Mau A1'!#REF!="","",'Mau A1'!#REF!) -> #REF! | C60: =IF('Mau A1'!#REF!="","",'Mau A1'!#REF!) -> #REF! | E60: =D60*1 -> 0
B62: Minh chứng nộp kèm:
B63: - Biên bản họp góp ý có danh sách GV dự họp thực tế.
E65: Tp.HCM, ngày tháng năm 2016
B66: Trưởng Khoa | E66: Người lập biểu

Sheet Mau B1. 6
I1: Mẫu B1. 6
A2: UBND THÀNH PHỐ HỒ CHÍ MINH | F2: CỘNG HÒA XÃ HỘI CHỦ NGHĨA VIỆT NAM
A3: TRƯỜNG CAO ĐẲNG KỸ THUẬT LÝ TỰ TRỌNG TP. HỒ CHÍ MINH | F3: Độc lập - Tự do - Hạnh phúc
A5: BẢNG TỔNG HỢP KIỂM TRA, CHẤM ĐIỂM HỒ SƠ CHUYÊN MÔN
A6: NĂM HỌC 2015 - 2016
A7: KHOA: CN NHIỆT-LẠNH
A9: TT | B9: HỌ VÀ TÊN GIẢNG VIÊN | D9: Tổ bộ môn được phân công kiểm tra, chấm điểm | E9: Số GV trong tổ kiểm tra, chấm điểm | F9: Số GV được kiểm tra, chấm điểm của tổ | G9: Số giờ được tính | H9: Tổng số giờ được tính | I9: Ghi chú
A10: (1) | B10: (2) | D10: (3) | E10: (4) | F10: (5) | G10: (6) | H10: (7) | I10: (8)
A11: 1 | B11: =IF('Mau A1'!B11="","",'Mau A1'!B11) -> Võ Anh | C11: =IF('Mau A1'!C11="","",'Mau A1'!C11) -> Hào | D11: Lạnh cơ sở | G11: =IF(OR(E11="",F11=""),0,ROUND((F11*4)/E11,1)) -> 0 | H11: =SUM(G11:G16) -> 0
G12: =IF(OR(E12="",F12=""),0,ROUND((F12*4)/E12,1)) -> 0
G13: =IF(OR(E13="",F13=""),0,ROUND((F13*4)/E13,1)) -> 0
G14: =IF(OR(E14="",F14=""),0,ROUND((F14*4)/E14,1)) -> 0
G15: =IF(OR(E15="",F15=""),0,ROUND((F15*4)/E15,1)) -> 0
G16: =IF(OR(E16="",F16=""),0,ROUND((F16*4)/E16,1)) -> 0
A17: 2 | B17: =IF('Mau A1'!B19="","",'Mau A1'!B19) -> Đinh Đồng | C17: =IF('Mau A1'!C19="","",'Mau A1'!C19) -> Hiệp | G17: =IF(OR(E17="",F17=""),0,ROUND((F17*4)/E17,1)) -> 0 | H17: =SUM(G17:G22) -> 0
G18: =IF(OR(E18="",F18=""),0,ROUND((F18*4)/E18,1)) -> 0
G19: =IF(OR(E19="",F19=""),0,ROUND((F19*4)/E19,1)) -> 0
G20: =IF(OR(E20="",F20=""),0,ROUND((F20*4)/E20,1)) -> 0
G21: =IF(OR(E21="",F21=""),0,ROUND((F21*4)/E21,1)) -> 0
G22: =IF(OR(E22="",F22=""),0,ROUND((F22*4)/E22,1)) -> 0
A23: 2 | B23: =IF('Mau A1'!B27="","",'Mau A1'!B27) -> Phan văn | C23: =IF('Mau A1'!C27="","",'Mau A1'!C27) -> Hòa | D23: Lạnh chuyên ngành | G23: =IF(OR(E23="",F23=""),0,ROUND((F23*4)/E23,1)) -> 0 | H23: =SUM(G23:G28) -> 0
G24: =IF(OR(E24="",F24=""),0,ROUND((F24*4)/E24,1)) -> 0
G25: =IF(OR(E25="",F25=""),0,ROUND((F25*4)/E25,1)) -> 0
G26: =IF(OR(E26="",F26=""),0,ROUND((F26*4)/E26,1)) -> 0
G27: =IF(OR(E27="",F27=""),0,ROUND((F27*4)/E27,1)) -> 0
G28: =IF(OR(E28="",F28=""),0,ROUND((F28*4)/E28,1)) -> 0
A29: 4 | B29: =IF('Mau A1'!B35="","",'Mau A1'!B35) -> Trần Đình | C29: =IF('Mau A1'!C35="","",'Mau A1'!C35) -> Khoa | G29: =IF(OR(E29="",F29=""),0,ROUND((F29*4)/E29,1)) -> 0 | H29: =SUM(G29:G34) -> 0
G30: =IF(OR(E30="",F30=""),0,ROUND((F30*4)/E30,1)) -> 0
G31: =IF(OR(E31="",F31=""),0,ROUND((F31*4)/E31,1)) -> 0
G32: =IF(OR(E32="",F32=""),0,ROUND((F32*4)/E32,1)) -> 0
G33: =IF(OR(E33="",F33=""),0,ROUND((F33*4)/E33,1)) -> 0
G34: =IF(OR(E34="",F34=""),0,ROUND((F34*4)/E34,1)) -> 0
A35: 5 | B35: =IF('Mau A1'!B44="","",'Mau A1'!B44) -> Đỗ Trọng | C35: =IF('Mau A1'!C44="","",'Mau A1'!C44) -> Quý | G35: =IF(OR(E35="",F35=""),0,ROUND((F35*4)/E35,1)) -> 0 | H35: =SUM(G35:G40) -> 0
G36: =IF(OR(E36="",F36=""),0,ROUND((F36*4)/E36,1)) -> 0
G37: =IF(OR(E37="",F37=""),0,ROUND((F37*4)/E37,1)) -> 0
G38: =IF(OR(E38="",F38=""),0,ROUND((F38*4)/E38,1)) -> 0
G39: =IF(OR(E39="",F39=""),0,ROUND((F39*4)/E39,1)) -> 0
G40: =IF(OR(E40="",F40=""),0,ROUND((F40*4)/E40,1)) -> 0
A41: 6 | B41: =IF('Mau A1'!B51="","",'Mau A1'!B51) -> Đặng Thế | C41: =IF('Mau A1'!C51="","",'Mau A1'!C51) -> Huân | G41: =IF(OR(E41="",F41=""),0,ROUND((F41*4)/E41,1)) -> 0 | H41: =SUM(G41:G46) -> 0
G42: =IF(OR(E42="",F42=""),0,ROUND((F42*4)/E42,1)) -> 0
...

Sheet Mau B1.7
F1: Mẫu B1. 7
A2: UBND THÀNH PHỐ HỒ CHÍ MINH | D2: CỘNG HÒA XÃ HỘI CHỦ NGHĨA VIỆT NAM
A3: TRƯỜNG CAO ĐẲNG KỸ THUẬT LÝ TỰ TRỌNG TP. HỒ CHÍ MINH | D3: Độc lập - Tự do - Hạnh Phúc
A5: BẢNG TỔNG HỢP CÔNG TÁC ĐÁNH GIÁ KẾT QUẢ HỌC TẬP CỦA HSSV
A6: NĂM HỌC 2015 - 2016
A7: KHOA CN NHIỆT-LẠNH
A9: TT | B9: HỌ VÀ TÊN GIẢNG VIÊN | D9: TỔNG SỐ TIẾT THỰC HIỆN | E9: TỔNG SỐ GIỜ QUY ĐỔI | F9: GHI CHÚ
A11: 1 | B11: =IF('Mau A1'!B11="","",'Mau A1'!B11) -> Võ Anh | C11: =IF('Mau A1'!C11="","",'Mau A1'!C11) -> Hào | E11: =ROUND(IF(D11="",0,D11*3.33),1) -> 0
A12: 2 | B12: =IF('Mau A1'!B19="","",'Mau A1'!B19) -> Đinh Đồng | C12: =IF('Mau A1'!C19="","",'Mau A1'!C19) -> Hiệp | E12: =ROUND(IF(D12="",0,D12*3.33),1) -> 0
A13: 3 | B13: =IF('Mau A1'!B27="","",'Mau A1'!B27) -> Phan văn | C13: =IF('Mau A1'!C27="","",'Mau A1'!C27) -> Hòa | E13: =ROUND(IF(D13="",0,D13*3.33),1) -> 0
A14: 4 | B14: =IF('Mau A1'!B35="","",'Mau A1'!B35) -> Trần Đình | C14: =IF('Mau A1'!C35="","",'Mau A1'!C35) -> Khoa | E14: =ROUND(IF(D14="",0,D14*3.33),1) -> 0
A15: 5 | B15: =IF('Mau A1'!B44="","",'Mau A1'!B44) -> Đỗ Trọng | C15: =IF('Mau A1'!C44="","",'Mau A1'!C44) -> Quý | E15: =ROUND(IF(D15="",0,D15*3.33),1) -> 0
A16: 6 | B16: =IF('Mau A1'!B51="","",'Mau A1'!B51) -> Đặng Thế | C16: =IF('Mau A1'!C51="","",'Mau A1'!C51) -> Huân | E16: =ROUND(IF(D16="",0,D16*3.33),1) -> 0
A17: 7 | B17: =IF('Mau A1'!B61="","",'Mau A1'!B61) -> Võ Phước | C17: =IF('Mau A1'!C61="","",'Mau A1'!C61) -> Quang | E17: =ROUND(IF(D17="",0,D17*3.33),1) -> 0
A18: 8 | B18: =IF('Mau A1'!B68="","",'Mau A1'!B68) -> Hoàng Văn | C18: =IF('Mau A1'!C68="","",'Mau A1'!C68) -> Viết | E18: =ROUND(IF(D18="",0,D18*3.33),1) -> 0
A19: 9 | B19: =IF('Mau A1'!B73="","",'Mau A1'!B73) -> Nguyễn Vũ Xuân | C19: =IF('Mau A1'!C73="","",'Mau A1'!C73) -> Thì | E19: =ROUND(IF(D19="",0,D19*3.33),1) -> 0
A20: 10 | B20: =IF('Mau A1'!B82="","",'Mau A1'!B82) -> Nguyễn Ngọc | C20: =IF('Mau A1'!C82="","",'Mau A1'!C82) -> Trí | E20: =ROUND(IF(D20="",0,D20*3.33),1) -> 0
A21: 11 | B21: =IF('Mau A1'!B89="","",'Mau A1'!B89) | C21: =IF('Mau A1'!C89="","",'Mau A1'!C89) | E21: =ROUND(IF(D21="",0,D21*3.33),1) -> 0
A22: 12 | B22: =IF('Mau A1'!#REF!="","",'Mau A1'!#REF!) -> #REF! | C22: =IF('Mau A1'!#REF!="","",'Mau A1'!#REF!) -> #REF! | E22: =ROUND(IF(D22="",0,D22*3.33),1) -> 0
A23: 13 | B23: =IF('Mau A1'!#REF!="","",'Mau A1'!#REF!) -> #REF! | C23: =IF('Mau A1'!#REF!="","",'Mau A1'!#REF!) -> #REF! | E23: =ROUND(IF(D23="",0,D23*3.33),1) -> 0
A24: 14 | B24: =IF('Mau A1'!#REF!="","",'Mau A1'!#REF!) -> #REF! | C24: =IF('Mau A1'!#REF!="","",'Mau A1'!#REF!) -> #REF! | E24: =ROUND(IF(D24="",0,D24*3.33),1) -> 0
A25: 15 | B25: =IF('Mau A1'!#REF!="","",'Mau A1'!#REF!) -> #REF! | C25: =IF('Mau A1'!#REF!="","",'Mau A1'!#REF!) -> #REF! | E25: =ROUND(IF(D25="",0,D25*3.33),1) -> 0
A26: 16 | B26: =IF('Mau A1'!#REF!="","",'Mau A1'!#REF!) -> #REF! | C26: =IF('Mau A1'!#REF!="","",'Mau A1'!#REF!) -> #REF! | E26: =ROUND(IF(D26="",0,D26*3.33),1) -> 0
A27: 17 | B27: =IF('Mau A1'!#REF!="","",'Mau A1'!#REF!) -> #REF! | C27: =IF('Mau A1'!#REF!="","",'Mau A1'!#REF!) -> #REF! | E27: =ROUND(IF(D27="",0,D27*3.33),1) -> 0
A28: 18 | B28: =IF('Mau A1'!#REF!="","",'Mau A1'!#REF!) -> #REF! | C28: =IF('Mau A1'!#REF!="","",'Mau A1'!#REF!) -> #REF! | E28: =ROUND(IF(D28="",0,D28*3.33),1) -> 0
A29: 19 | B29: =IF('Mau A1'!#REF!="","",'Mau A1'!#REF!) -> #REF! | C29: =IF('Mau A1'!#REF!="","",'Mau A1'!#REF!) -> #REF! | E29: =ROUND(IF(D29="",0,D29*3.33),1) -> 0
A30: 20 | B30: =IF('Mau A1'!#REF!="","",'Mau A1'!#REF!) -> #REF! | C30: =IF('Mau A1'!#REF!="","",'Mau A1'!#REF!) -> #REF! | E30: =ROUND(IF(D30="",0,D30*3.33),1) -> 0
A31: 21 | B31: =IF('Mau A1'!#REF!="","",'Mau A1'!#REF!) -> #REF! | C31: =IF('Mau A1'!#REF!="","",'Mau A1'!#REF!) -> #REF! | E31: =ROUND(IF(D31="",0,D31*3.33),1) -> 0
A32: 22 | B32: =IF('Mau A1'!#REF!="","",'Mau A1'!#REF!) -> #REF! | C32: =IF('Mau A1'!#REF!="","",'Mau A1'!#REF!) -> #REF! | E32: =ROUND(IF(D32="",0,D32*3.33),1) -> 0
A33: 23 | B33: =IF('Mau A1'!#REF!="","",'Mau A1'!#REF!) -> #REF! | C33: =IF('Mau A1'!#REF!="","",'Mau A1'!#REF!) -> #REF! | E33: =ROUND(IF(D33="",0,D33*3.33),1) -> 0
... A60: 50 | B60: =IF('Mau A1'!#REF!="","",'Mau A1'!#REF!) -> #REF! | C60: =IF('Mau A1'!#REF!="","",'Mau A1'!#REF!) -> #REF! | E60: =ROUND(IF(D60="",0,D60*3.33),1) -> 0
A61: TỔNG CỘNG | D61: =SUM(D11:D60) -> 0 | E61: =SUM(E11:E60) -> 0
D63: Tp.HCM, Ngày tháng năm 2016
B64: Trưởng Khoa | E64: Người lập biểu

Sheet Mau B1.8
G1: Mẫu B1. 8
A2: UBND THÀNH PHỐ HỒ CHÍ MINH | E2: CỘNG HÒA XÃ HỘI CHỦ NGHĨA VIỆT NAM
A3: TRƯỜNG CAO ĐẲNG KỸ THUẬT LÝ TỰ TRỌNG TP. HỒ CHÍ MINH | E3: Độc lập - Tự do - Hạnh phúc
A5: BẢNG TỔNG HỢP CÁC CÔNG VIỆC KHÁC (NẾU CÓ)
A6: NĂM HỌC 2015 - 2016
A7: KHOA CN NHIỆT-LẠNH
A10: TT | B10: Họ và tên Giảng viên | D10: Nội dung công việc | E10: Số giờ được tính | F10: Tổng số gờ được tính | G10: Ghi chú
A11: 1 | B11: =IF('Mau A1'!B11="","",'Mau A1'!B11) -> Võ Anh | C11: =IF('Mau A1'!C11="","",'Mau A1'!C11) -> Hào | F11: =SUM(E11:E12) -> 0
A13: 2 | B13: =IF('Mau A1'!B19="","",'Mau A1'!B19) -> Đinh Đồng | C13: =IF('Mau A1'!C19="","",'Mau A1'!C19) -> Hiệp | F13: =SUM(E13:E14) -> 0
A15: 3 | B15: =IF('Mau A1'!B27="","",'Mau A1'!B27) -> Phan văn | C15: =IF('Mau A1'!C27="","",'Mau A1'!C27) -> Hòa | F15: =SUM(E15:E16) -> 0
A17: 4 | B17: =IF('Mau A1'!B35="","",'Mau A1'!B35) -> Trần Đình | C17: =IF('Mau A1'!C35="","",'Mau A1'!C35) -> Khoa | F17: =SUM(E17:E18) -> 0
A19: 5 | B19: =IF('Mau A1'!B44="","",'Mau A1'!B44) -> Đỗ Trọng | C19: =IF('Mau A1'!C44="","",'Mau A1'!C44) -> Quý | F19: =SUM(E19:E20) -> 0
A21: 6 | B21: =IF('Mau A1'!B51="","",'Mau A1'!B51) -> Đặng Thế | C21: =IF('Mau A1'!C51="","",'Mau A1'!C51) -> Huân | F21: =SUM(E21:E22) -> 0
A23: 7 | B23: =IF('Mau A1'!B61="","",'Mau A1'!B61) -> Võ Phước | C23: =IF('Mau A1'!C61="","",'Mau A1'!C61) -> Quang | F23: =SUM(E23:E24) -> 0
A25: 8 | B25: =IF('Mau A1'!B68="","",'Mau A1'!B68) -> Hoàng Văn | C25: =IF('Mau A1'!C68="","",'Mau A1'!C68) -> Viết | F25: =SUM(E25:E26) -> 0
A27: 9 | B27: =IF('Mau A1'!B73="","",'Mau A1'!B73) -> Nguyễn Vũ Xuân | C27: =IF('Mau A1'!C73="","",'Mau A1'!C73) -> Thì | F27: =SUM(E27:E28) -> 0
A29: 10 | B29: =IF('Mau A1'!B82="","",'Mau A1'!B82) -> Nguyễn Ngọc | C29: =IF('Mau A1'!C82="","",'Mau A1'!C82) -> Trí | F29: =SUM(E29:E30) -> 0
A31: 11 | B31: =IF('Mau A1'!B89="","",'Mau A1'!B89) | C31: =IF('Mau A1'!C89="","",'Mau A1'!C89) | F31: =SUM(E31:E32) -> 0
A33: 12 | B33: =IF('Mau A1'!#REF!="","",'Mau A1'!#REF!) -> #REF! | C33: =IF('Mau A1'!#REF!="","",'Mau A1'!#REF!) -> #REF! | F33: =SUM(E33:E34) -> 0
A35: 13 | B35: =IF('Mau A1'!#REF!="","",'Mau A1'!#REF!) -> #REF! | C35: =IF('Mau A1'!#REF!="","",'Mau A1'!#REF!) -> #REF! | F35: =SUM(E35:E36) -> 0
A37: 14 | B37: =IF('Mau A1'!#REF!="","",'Mau A1'!#REF!) -> #REF! | C37: =IF('Mau A1'!#REF!="","",'Mau A1'!#REF!) -> #REF! | F37: =SUM(E37:E38) -> 0
A39: 15 | B39: =IF('Mau A1'!#REF!="","",'Mau A1'!#REF!) -> #REF! | C39: =IF('Mau A1'!#REF!="","",'Mau A1'!#REF!) -> #REF! | F39: =SUM(E39:E40) -> 0
A41: 16 | B41: =IF('Mau A1'!#REF!="","",'Mau A1'!#REF!) -> #REF! | C41: =IF('Mau A1'!#REF!="","",'Mau A1'!#REF!) -> #REF! | F41: =SUM(E41:E42) -> 0
A43: 17 | B43: =IF('Mau A1'!#REF!="","",'Mau A1'!#REF!) -> #REF! | C43: =IF('Mau A1'!#REF!="","",'Mau A1'!#REF!) -> #REF! | F43: =SUM(E43:E44) -> 0
A45: 18 | B45: =IF('Mau A1'!#REF!="","",'Mau A1'!#REF!) -> #REF! | C45: =IF('Mau A1'!#REF!="","",'Mau A1'!#REF!) -> #REF! | F45: =SUM(E45:E46) -> 0
A47: 19 | B47: =IF('Mau A1'!#REF!="","",'Mau A1'!#REF!) -> #REF! | C47: =IF('Mau A1'!#REF!="","",'Mau A1'!#REF!) -> #REF! | F47: =SUM(E47:E48) -> 0
A49: 20 | B49: =IF('Mau A1'!#REF!="","",'Mau A1'!#REF!) -> #REF! | C49: =IF('Mau A1'!#REF!="","",'Mau A1'!#REF!) -> #REF! | F49: =SUM(E49:E50) -> 0
A51: 21 | B51: =IF('Mau A1'!#REF!="","",'Mau A1'!#REF!) -> #REF! | C51: =IF('Mau A1'!#REF!="","",'Mau A1'!#REF!) -> #REF! | F51: =SUM(E51:E52) -> 0
A53: 22 | B53: =IF('Mau A1'!#REF!="","",'Mau A1'!#REF!) -> #REF! | C53: =IF('Mau A1'!#REF!="","",'Mau A1'!#REF!) -> #REF! | F53: =SUM(E53:E54) -> 0
A55: 23 | B55: =IF('Mau A1'!#REF!="","",'Mau A1'!#REF!) -> #REF! | C55: =IF('Mau A1'!#REF!="","",'Mau A1'!#REF!) -> #REF! | F55: =SUM(E55:E56) -> 0
... A109: 50 | B109: =IF('Mau A1'!#REF!="","",'Mau A1'!#REF!) -> #REF! | C109: =IF('Mau A1'!#REF!="","",'Mau A1'!#REF!) -> #REF! | F109: =SUM(E109:E110) -> 0
B111: Minh chứng nộp kèm: Văn bản được Hiệu trưởng duyệt.
E112: Tp.HCM, Ngày tháng năm 2016
C113: Trưởng Khoa | E113: Người lập biểu

Sheet Mau B2
M1: Mẫu B2
A2: UBND THÀNH PHỐ HỒ CHÍ MINH | H2: CỘNG HÒA XÃ HỘI CHỦ NGHĨA VIỆT NAM
A3: TRƯỜNG CAO ĐẲNG KỸ THUẬT LÝ TỰ TRỌNG TP. HỒ CHÍ MINH | H3: Độc lập - Tự do - Hạnh phúc
A5: BẢNG TỔNG HỢP CÁC MỤC KHỐI LƯỢNG CÔNG TÁC " HỌC TẬP BỒI DƯỠNG VÀ CÁC NHIỆM VỤ KHÁC" CỦA GIẢNG VIÊN
A6: NĂM HỌC 2015 - 2016
A7: KHOA CÔNG NGHỆ NHIỆT-LẠNH
A9: TT | B9: Họ và tên GV | D9: Mục 1 | E9: Mục 2 | F9: Mục 3 | G9: Mục 4 | H9: Mục 5 | I9: Mục 6 | J9: Mục 7 | K9: Mục 8 | L9: Tổng số giờ | M9: Ghi chú
A10: (1) | B10: (2) | D10: (3) | E10: (4) | F10: (5) | G10: (6) | H10: (7) | I10: (8) | J10: (9) | K10: (10) | L10: (11) | M10: (12)
A11: 1 | B11: =IF('Mau A1'!B11="","",'Mau A1'!B11) -> Võ Anh | C11: =IF('Mau A1'!C11="","",'Mau A1'!C11) -> Hào | D11: ='Mau B1.1'!I11 -> 0 | E11: =IF(('Mau B1.2.1'!AZ11+SUM('Mau B1.2.2'!P11:P20))>40,40,'Mau B1.2.1'!AZ11+SUM('Mau B1.2.2'!P11:P20)) -> 0 | F11: ='Mau B1.3'!H11 -> 0 | G11: ='Mau B1.4'!E11 -> 0 | H11: ='Mau B1.5'!E11 -> 0 | I11: =SUM('Mau B1. 6'!H11:H16) -> 0 | J11: ='Mau B1.7'!E11 -> 0 | K11: =SUM('Mau B1.8'!F11:F12) -> 0 | L11: =SUM(D11:K11) -> 0
A12: 2 | B12: =IF('Mau A1'!B19="","",'Mau A1'!B19) -> Đinh Đồng | C12: =IF('Mau A1'!C19="","",'Mau A1'!C19) -> Hiệp | D12: ='Mau B1.1'!I12 -> 0 | E12: =IF(('Mau B1.2.1'!AZ12+SUM('Mau B1.2.2'!P21:P30))>40,40,'Mau B1.2.1'!AZ12+SUM('Mau B1.2.2'!P21:P30)) -> 0 | F12: ='Mau B1.3'!H12 -> 0 | G12: ='Mau B1.4'!E12 -> 0 | H12: ='Mau B1.5'!E12 -> 0 | I12: =SUM('Mau B1. 6'!H17:H22) -> 0 | J12: ='Mau B1.7'!E12 -> 0 | K12: =SUM('Mau B1.8'!F13:F14) -> 0 | L12: =SUM(D12:K12) -> 0
A13: 3 | B13: =IF('Mau A1'!B27="","",'Mau A1'!B27) -> Phan văn | C13: =IF('Mau A1'!C27="","",'Mau A1'!C27) -> Hòa | D13: ='Mau B1.1'!I13 -> 0 | E13: =IF(('Mau B1.2.1'!AZ13+SUM('Mau B1.2.2'!P31:P40))>40,40,'Mau B1.2.1'!AZ13+SUM('Mau B1.2.2'!P31:P40)) -> 0 | F13: ='Mau B1.3'!H13 -> 0 | G13: ='Mau B1.4'!E13 -> 0 | H13: ='Mau B1.5'!E13 -> 0 | I13: =SUM('Mau B1. 6'!H23:H28) -> 0 | J13: ='Mau B1.7'!E13 -> 0 | K13: =SUM('Mau B1.8'!F15:F16) -> 0 | L13: =SUM(D13:K13) -> 0
A14: 4 | B14: =IF('Mau A1'!B35="","",'Mau A1'!B35) -> Trần Đình | C14: =IF('Mau A1'!C35="","",'Mau A1'!C35) -> Khoa | D14: ='Mau B1.1'!I14 -> 0 | E14: =IF(('Mau B1.2.1'!AZ14+SUM('Mau B1.2.2'!P41:P50))>40,40,'Mau B1.2.1'!AZ14+SUM('Mau B1.2.2'!P41:P50)) -> 0 | F14: ='Mau B1.3'!H14 -> 0 | G14: ='Mau B1.4'!E14 -> 0 | H14: ='Mau B1.5'!E14 -> 0 | I14: =SUM('Mau B1. 6'!H29:H34) -> 0 | J14: ='Mau B1.7'!E14 -> 0 | K14: =SUM('Mau B1.8'!F17:F18) -> 0 | L14: =SUM(D14:K14) -> 0
A15: 5 | B15: =IF('Mau A1'!B44="","",'Mau A1'!B44) -> Đỗ Trọng | C15: =IF('Mau A1'!C44="","",'Mau A1'!C44) -> Quý | D15: ='Mau B1.1'!I15 -> 0 | E15: =IF(('Mau B1.2.1'!AZ15+SUM('Mau B1.2.2'!P51:P60))>40,40,'Mau B1.2.1'!AZ15+SUM('Mau B1.2.2'!P51:P60)) -> 0 | F15: ='Mau B1.3'!H15 -> 0 | G15: ='Mau B1.4'!E15 -> 0 | H15: ='Mau B1.5'!E15 -> 0 | I15: =SUM('Mau B1. 6'!H35:H40) -> 0 | J15: ='Mau B1.7'!E15 -> 0 | K15: =SUM('Mau B1.8'!F19:F20) -> 0 | L15: =SUM(D15:K15) -> 0
