Workbook

Sheet Hướng dẫn
A1: HƯỚNG DẪN CHUNG CHO BỘ BIỂU MẪU TÍNH KHỐI LƯỢNG GIẢNG VIÊN
A2: I. YÊU CẦU BẮT BUỘC
A3: - Các dữ liệu của bộ biểu mẫu phải được ghép lại thành 1 file excel duy nhất, trong đó từng sheet là một mẫu tính khác nhau.
A4: - Trong các bảng tổng hợp mẫu A1,2 & các mẫu B: thứ tự tên GV giữa các bảng phải giống nhau.
A5: II. BỘ MẪU A
A6: + Mẫu A1: Bảng tính khối lượng công việc của Giảng viên trong năm học.
A7: Từ Bảng tính khối lượng công việc của Giảng viên trong năm học 2015-2016 các khoa đã tính: Copy dữ liệu khoa đã có sẳn dán vào các cột (2), (3), (4), (5), (6), (7), (8), (9), (11), (12), (14), (16), (17), (18) và cột (22) nếu có
A8: - Cột (8), (9): Hệ số = Hệ số thứ nhất x Hệ số thứ ..., không kể hệ số quy đổi TH sang tiết chuẩn.
A9: - Không nhập số liệu ở Cột (10), (13), (15), (19), (20), (21) và Cột (23). Vì đây là cột công thức đã được cài sẵn.
A10: - Các cột được tô màu: Điền đầy đủ thông tin (bắt buộc). Phải ẩn (Hide) trước khi in.
A11: + Mẫu A2: Bảng tổng kết khối lượng công việc của Giảng viên trong năm học
A12: - Không nhập số liệu: Các cột đã được cài công thức chuyển dữ liệu từ mẫu A1 sang.
... A32: LƯU Ý: Trong quá trình thao tác trên các biểu mẫu, nếu có thắc mắc xin liên hệ qua địa chỉ egov hoặc Phòng TS-Đào tạo-GTVL.

Sheet Mau A1
AB1: Mẫu A1
A2: UBND THÀNH PHỐ HỒ CHÍ MINH | V2: CỘNG HÒA XÃ HỘI CHỦ NGHĨA VIỆT NAM
A3: TRƯỜNG CAO ĐẲNG KỸ THUẬT LÝ TỰ TRỌNG TP. HỒ CHÍ MINH | V3: Độc lập - Tự do - Hạnh phúc
A4: BẢNG TÍNH KHỐI LƯỢNG CÔNG VIỆC CỦA GIẢNG VIÊN TRONG NĂM HỌC 2015 - 2016
A5: KHOA CN NHIỆT-LẠNH
A7: TT | B7: Họ và Tên | D7: Môn dạy | E7: lớp dạy | F7: Học kỳ | G7: Thực hiện trong năm học | S7: Số tiết chuẩn giảng dạy cả năm | T7: Số tiết chuẩn giảng dạy cả năm còn lại | U7: Số giờ chuẩn NCKH cả năm | V7: Số giờ chuẩn NCKH cả năm còn lại | W7: Số giờ chuẩn "Học tập bồi dưỡng và các nhiệm vụ khác" | X7: Số giờ chuẩn "Học tập bồi dưỡng và các nhiệm vụ khác" cả năm còn lại | Y7: Số tiết thừa, thiếu giảng dạy | Z7: Số tiết thừa, thiếu NCKH | AA7: Số tiết thừa, thiếu "Học tập bồi dưỡng và các nhiệm vụ khác" | AB7: Số tiết thừa, thiếu năm học 2014-2015 | AC7: Tổng số tiết thừa, thiếu năm học 2015-2016
G8: Chưa nhân hệ số | I8: Sĩ số | K8: Hệ số | M8: Số tiết quy đổi và đã nhân hệ số | N8: Kiêm nhiệm | O8: Khối lượng công tác cộng thêm | P8: Tổng tiết thực hiện | Q8: Số giờ NCKH | R8: Số giờ "Học tập bồi dưỡng và các nhiệm vụ khác"
G9: LT | H9: TH | I9: Chính thức | J9: Học lại | K9: LT | L9: TH
A10: (1) | B10: (2) | D10: (3) | E10: (4) | F10: (5) | G10: (6) | H10: (7) | K10: (8) | L10: (9) | M10: (10) | N10: (11) | O10: (12) | P10: (13) | Q10: (14) | R10: (15) | T10: (16) | V10: (17) | X10: (18) | Y10: (19) | Z10: (20) | AA10: (21) | AB10: (22) | AC10: (23)
A11: 1 | B11: Võ Anh | C11: Hào | D11: Thiết bị đo và tự động điều khiển | E11: 14CĐ-NL1 | F11: 1 | G11: 30 | I11: 35 | K11: 1.1 | M11: =ROUND(IF(G11>0,G11*K11,"0")+IF(H11>0,(H11/1.5)*L11,"0"),1) -> 33 | N11: 54 | P11: =SUM(M11:M18)+N11+O11 -> 565 | Q11: 0 | R11: ='Mau B2'!L11 -> 0 | S11: 270 | T11: 270 | U11: 587 | V11: 587 | W11: 273 | X11: 273 | Y11: =ROUND((P11-T11),1) -> 295 | Z11: =IF(OR(SUM(V11:V18)="",SUM(Q11:Q18)=""),0,IF(SUM(U11:U18)=587,ROUND((SUM(Q11:Q18)-SUM(V11:V18))/3.33,1),0)) -> -176.3 | AA11: =IF(OR(SUM(X11:X18)="",SUM(R11:R18)=""),0,IF(SUM(W11:W18)=273,ROUND((SUM(R11:R18)-SUM(X11:X18))/3.33,1),0)) -> -82 | AC11: =SUM(Y11:AA18) -> 36.7
D12: TT điện lạnh cơ bản | E12: 15CĐ-ĐL1 ( nhóm 1+2) | F12: 1 | H12: 180 | I12: 49 | L12: 1 | M12: =ROUND(IF(G12>0,G12*K12,"0")+IF(H12>0,(H12/1.5)*L12,"0"),1) -> 120
D13: Kỹ thuật điện | E13: 15CĐ-ĐL1,2,3 | F13: 1 | G13: 90 | I13: 49,45,46 | K13: 1.1 | M13: =ROUND(IF(G13>0,G13*K13,"0")+IF(H13>0,(H13/1.5)*L13,"0"),1) -> 99
M14: =ROUND(IF(G14>0,G14*K14,"0")+IF(H14>0,(H14/1.5)*L14,"0"),1) -> 0
D15: TT lạnh cơ bản | E15: 15TCN-LĐL(9+4) | F15: 2 | H15: 240 | I15: 22 | L15: 1 | M15: =ROUND(IF(G15>0,G15*K15,"0")+IF(H15>0,(H15/1.5)*L15,"0"),1) -> 160
D16: Điện tử cơ bản | E16: 15CĐ-ĐL1,2,3 | F16: 2 | G16: 90 | I16: 49,45,46 | K16: 1.1 | M16: =ROUND(IF(G16>0,G16*K16,"0")+IF(H16>0,(H16/1.5)*L16,"0"),1) -> 99
M17: =ROUND(IF(G17>0,G17*K17,"0")+IF(H17>0,(H17/1.5)*L17,"0"),1) -> 0
D18: GVCN(2 LỚP) | E18: 15TCN-LĐL 16TCN-LĐL1 | F18: 1,2 | I18: 36, 58 | M18: =ROUND(IF(G18>0,G18*K18,"0")+IF(H18>0,(H18/1.5)*L18,"0"),1) -> 0
A19: 2 | B19: Đinh Đồng | C19: Hiệp | D19: Nhiệt động kỹ thuật | E19: 15CĐ-ĐL1,2 | F19: 1 | G19: 90 | I19: 49,45 | K19: 1.1 | M19: =ROUND(IF(G19>0,G19*K19,"0")+IF(H19>0,(H19/1.5)*L19,"0"),1) -> 99 | N19: 67.5 | P19: =SUM(M19:M26)+N19+O19 -> 496.5 | Q19: 0 | R19: ='Mau B2'!L12 -> 0 | S19: 270 | T19: 270 | U19: 587 | V19: 587 | W19: 273 | X19: 273 | Y19: =ROUND((P19-T19),1) -> 226.5 | Z19: =IF(OR(SUM(V19:V26)="",SUM(Q19:Q26)=""),0,IF(SUM(U19:U26)=587,ROUND((SUM(Q19:Q26)-SUM(V19:V26))/3.33,1),0)) -> -176.3 | AA19: =IF(OR(SUM(X19:X26)="",SUM(R19:R26)=""),0,IF(SUM(W19:W26)=273,ROUND((SUM(R19:R26)-SUM(X19:X26))/3.33,1),0)) -> -82 | AC19: =SUM(Y19:AA26) -> -31.8
D20: Kỹ thuật lạnh | E20: 15CĐ-ĐL1 | F20: 1 | G20: 45 | I20: 49 | K20: 1.1 | M20: =ROUND(IF(G20>0,G20*K20,"0")+IF(H20>0,(H20/1.5)*L20,"0"),1) -> 49.5
D21: Phương pháp nghiên cứu khoa học | E21: 14CĐ-NL1 | F21: 2 | G21: 30 | I21: 35 | K21: 1.1 | M21: =ROUND(IF(G21>0,G21*K21,"0")+IF(H21>0,(H21/1.5)*L21,"0"),1) -> 33
D22: kỹ thuạt diều hòa không khí | E22: 15CĐ-ĐL1,2,3 | F22: 2 | G22: 90 | I22: 49,45,46 | K22: 1.1 | M22: =ROUND(IF(G22>0,G22*K22,"0")+IF(H22>0,(H22/1.5)*L22,"0"),1) -> 99
D23: Điện cơ bản (từ tuần 8: tách ra 2 nhóm) | F23: 2 | M23: =ROUND(IF(G23>0,G23*K23,"0")+IF(H23>0,(H23/1.5)*L23,"0"),1) -> 0
D24: Bơm quạt, máy nén | E24: 15CĐ-ĐL1,2,3 | F24: 2 | G24: 90 | I24: 49,45,46 | K24: 1.1 | M24: =ROUND(IF(G24>0,G24*K24,"0")+IF(H24>0,(H24/1.5)*L24,"0"),1) -> 99
D25: Kỹ thuật lạnh ứng dụng | E25: 14TC-ĐL | F25: 2 | G25: 45 | I25: 35 | K25: 1.1 | M25: =ROUND(IF(G25>0,G25*K25,"0")+IF(H25>0,(H25/1.5)*L25,"0"),1) -> 49.5
D26: CVHT | E26: 15CĐ-ĐL1 | F26: 1,2 | M26: =ROUND(IF(G26>0,G26*K26,"0")+IF(H26>0,(H26/1.5)*L26,"0"),1) -> 0
A27: 3 | B27: Phan văn | C27: Hòa | D27: TT SC thiết bị lạnh dân dụng ( nhóm 1+2) | E27: 14CĐ-NL1 | F27: 1 | H27: 120 | I27: 35 | L27: 1 | M27: =ROUND(IF(G27>0,G27*K27,"0")+IF(H27>0,(H27/1.5)*L27,"0"),1) -> 80 | N27: 40.5 | P27: =SUM(M27:M34)+N27+O27 -> 465.5 | Q27: 0 | R27: ='Mau B2'!L13 -> 0 | S27: 270 | T27: 270 | U27: 587 | V27: 587 | W27: 273 | X27: 273 | Y27: =ROUND((P27-T27),1) -> 195.5 | Z27: =IF(OR(SUM(V27:V34)="",SUM(Q27:Q34)=""),0,IF(SUM(U27:U34)=587,ROUND((SUM(Q27:Q34)-SUM(V27:V34))/3.33,1),0)) -> -176.3 | AA27: =IF(OR(SUM(X27:X34)="",SUM(R27:R34)=""),0,IF(SUM(W27:W34)=273,ROUND((SUM(R27:R34)-SUM(X27:X34))/3.33,1),0)) -> -82 | AC27: =SUM(Y27:AA34) -> -62.8
D28: TT điện lạnh cơ bản ( nhóm 1+2) | E28: 15CĐ-ĐL2 | F28: 1 | H28: 180 | I28: 45 | L28: 1 | M28: =ROUND(IF(G28>0,G28*K28,"0")+IF(H28>0,(H28/1.5)*L28,"0"),1) -> 120
D29: Kỹ thuật lạnh | E29: 15TC- NL (9+3) | F29: 1 | G29: 45 | I29: 13 | K29: 1 | M29: =ROUND(IF(G29>0,G29*K29,"0")+IF(H29>0,(H29/1.5)*L29,"0"),1) -> 45
D30: An toàn LĐ & Vệ sinh công nghiệp | E30: 15TCN-LĐL (9+4) | F30: 1 | G30: 60 | I30: 36 | K30: 1 | M30: =ROUND(IF(G30>0,G30*K30,"0")+IF(H30>0,(H30/1.5)*L30,"0"),1) -> 60
D31: TT sửa chữa máy lạnh gia dụng ( nhóm 1+2) | E31: 15CĐ-ĐL3 | F31: 2 | H31: 180 | I31: 46 | L31: 1 | M31: =ROUND(IF(G31>0,G31*K31,"0")+IF(H31>0,(H31/1.5)*L31,"0"),1) -> 120
M32: =ROUND(IF(G32>0,G32*K32,"0")+IF(H32>0,(H32/1.5)*L32,"0"),1) -> 0
M33: =ROUND(IF(G33>0,G33*K33,"0")+IF(H33>0,(H33/1.5)*L33,"0"),1) -> 0
D34: CVHT | E34: 15CĐ-ĐL2 | F34: 1,2 | M34: =ROUND(IF(G34>0,G34*K34,"0")+IF(H34>0,(H34/1.5)*L34,"0"),1) -> 0
A35: 4 | B35: Trần Đình | C35: Khoa | D35: Truyền nhiệt | E35: 15CĐ-ĐL1,2,3 | F35: 1 | G35: 90 | I35: 49,45,46 | K35: 1.1 | M35: =ROUND(IF(G35>0,G35*K35,"0")+IF(H35>0,(H35/1.5)*L35,"0"),1) -> 99 | N35: 40.5 | P35: =SUM(M35:M43)+N35+O35 -> 400.5 | Q35: 0 | R35: ='Mau B2'!L14 -> 0 | S35: 270 | T35: 270 | U35: 587 | V35: 587 | W35: 273 | X35: 273 | Y35: =ROUND((P35-T35),1) -> 130.5 | Z35: =IF(OR(SUM(V35:V43)="",SUM(Q35:Q43)=""),0,IF(SUM(U35:U43)=587,ROUND((SUM(Q35:Q43)-SUM(V35:V43))/3.33,1),0)) -> -176.3 | AA35: =IF(OR(SUM(X35:X43)="",SUM(R35:R43)=""),0,IF(SUM(W35:W43)=273,ROUND((SUM(R35:R43)-SUM(X35:X43))/3.33,1),0)) -> -82 | AC35: =SUM(Y35:AA43) -> -127.8
B36: Cộng 30 tiết hoc lại | D36: Cơ học lưu chất | E36: 15TN-NL(12+2) | F36: 1 | G36: 45 | I36: 28 | K36: 1 | M36: =ROUND(IF(G36>0,G36*K36,"0")+IF(H36>0,(H36/1.5)*L36,"0"),1) -> 45
D37: =Q35 -> 0 | E37: 15TCN-LĐL (9+4) | F37: 1 | G37: 60 | I37: 36 | K37: 1 | M37: =ROUND(IF(G37>0,G37*K37,"0")+IF(H37>0,(H37/1.5)*L37,"0"),1) -> 60
D38: An toàn lao động | E38: 16CĐ-ĐL3,4 | F38: 1 | G38: 60 | I38: 59,42 | K38: 1.1 | M38: =ROUND(IF(G38>0,G38*K38,"0")+IF(H38>0,(H38/1.5)*L38,"0"),1) -> 66
D39: TT sữa chữa tủ lạnh gia dụng | E39: 15CĐ-ĐL2 | F39: 2 | H39: 90 | I39: 45 | L39: 1 | M39: =ROUND(IF(G39>0,G39*K39,"0")+IF(H39>0,(H39/1.5)*L39,"0"),1) -> 60
D40: cơ học lưu chất | E40: 15TC- NL (9+3) | F40: 2 | G40: 30 | I40: 13 | K40: 1 | M40: =ROUND(IF(G40>0,G40*K40,"0")+IF(H40>0,(H40/1.5)*L40,"0"),1) -> 30
M41: =ROUND(IF(G41>0,G41*K41,"0")+IF(H41>0,(H41/1.5)*L41,"0"),1) -> 0
M42: =ROUND(IF(G42>0,G42*K42,"0")+IF(H42>0,(H42/1.5)*L42,"0"),1) -> 0
D43: GVCN | E43: 15TN-NL(12+2) | F43: 1,2 | I43: 39 | M43: =ROUND(IF(G43>0,G43*K43,"0")+IF(H43>0,(H43/1.5)*L43,"0"),1) -> 0
A44: 5 | B44: Đỗ Trọng | C44: Quý | D44: TT trang bị điện lạnh cơ bản ( nhóm 1+ 2) | E44: 15CĐ-ĐL3 | F44: 1 | H44: 180 | I44: 46 | L44: 1 | M44: =ROUND(IF(G44>0,G44*K44,"0")+IF(H44>0,(H44/1.5)*L44,"0"),1) -> 120 | N44: 40.5 | P44: =SUM(M44:M50)+N44+O44 -> 520.5 | Q44: 0 | R44: ='Mau B2'!L15 -> 0 | S44: 270 | T44: 270 | U44: 587 | V44: 587 | W44: 273 | X44: 273 | Y44: =ROUND((P44-T44),1) -> 250.5 | Z44: =IF(OR(SUM(V44:V50)="",SUM(Q44:Q50)=""),0,IF(SUM(U44:U50)=587,ROUND((SUM(Q44:Q50)-SUM(V44:V50))/3.33,1),0)) -> -176.3 | AA44: =IF(OR(SUM(X44:X50)="",SUM(R44:R50)=""),0,IF(SUM(W44:W50)=273,ROUND((SUM(R44:R50)-SUM(X44:X50))/3.33,1),0)) -> -82 | AC44: =SUM(Y44:AA50) -> -7.8
D45: TT tủ lạnh | E45: 15TC- NL (9+3) | F45: 1 | H45: 60 | I45: 13 | L45: 1 | M45: =ROUND(IF(G45>0,G45*K45,"0")+IF(H45>0,(H45/1.5)*L45,"0"),1) -> 40
D46: Máy điện ( nhóm 1+ 2) | E46: 15TCN-LĐL (9+4) | F46: 1 | H46: 120 | I46: 36 | L46: 1 | M46: =ROUND(IF(G46>0,G46*K46,"0")+IF(H46>0,(H46/1.5)*L46,"0"),1) -> 80
D47: TT sửa chữa tủ lạnh gia dụng ( nhóm 1+ 2) | E47: 15CĐ-ĐL1 | F47: 2 | H47: 180 | I47: 49 | L47: 1 | M47: =ROUND(IF(G47>0,G47*K47,"0")+IF(H47>0,(H47/1.5)*L47,"0"),1) -> 120
D48: TT sửa chữa tủ lạnh gia dụng ( nhóm 1+ 2) | E48: 15CĐ-ĐL3 | F48: 2 | H48: 180 | I48: 46 | L48: 1 | M48: =ROUND(IF(G48>0,G48*K48,"0")+IF(H48>0,(H48/1.5)*L48,"0"),1) -> 120
M49: =ROUND(IF(G49>0,G49*K49,"0")+IF(H49>0,(H49/1.5)*L49,"0"),1) -> 0
D50: GVCN,CVHT(2 LỚP) | E50: 15TC - NL 16 CĐ- ĐL4 | F50: 1,2 | I50: 13 42 | M50: =ROUND(IF(G50>0,G50*K50,"0")+IF(H50>0,(H50/1.5)*L50,"0"),1) -> 0
A51: 6 | B51: Đặng Thế | C51: Huân | D51: Đo lường cơ, điện, nhiệt | E51: 15TN-NL(12+2) | F51: 1 | G51: 30 | I51: 28 | K51: 1 | M51: =ROUND(IF(G51>0,G51*K51,"0")+IF(H51>0,(H51/1.5)*L51,"0"),1) -> 30 | N51: 54 | P51: =SUM(M51:M60)+N51+O51 -> 479 | Q51: 0 | R51: ='Mau B2'!L16 -> 0 | S51: 270 | T51: 270 | U51: 587 | V51: 587 | W51: 273 | X51: 273 | Y51: =ROUND((P51-T51),1) -> 209 | Z51: =IF(OR(SUM(V51:V60)="",SUM(Q51:Q60)=""),0,IF(SUM(U51:U60)=587,ROUND((SUM(Q51:Q60)-SUM(V51:V60))/3.33,1),0)) -> -176.3 | AA51: =IF(OR(SUM(X51:X60)="",SUM(R51:R60)=""),0,IF(SUM(W51:W60)=273,ROUND((SUM(R51:R60)-SUM(X51:X60))/3.33,1),0)) -> -82 | AC51: =SUM(Y51:AA60) -> -49.3
D52: TT máy lạnh | E52: 15TN-NL(12+2) | F52: 1 | H52: 90 | I52: 28 | L52: 1 | M52: =ROUND(IF(G52>0,G52*K52,"0")+IF(H52>0,(H52/1.5)*L52,"0"),1) -> 60
D53: Vận hành bảo dưỡng và sửa chữa hệ thống lạnh | E53: 14CĐ-NL1 | F53: 1 | G53: 30 | I53: 35 | K53: 1.1 | M53: =ROUND(IF(G53>0,G53*K53,"0")+IF(H53>0,(H53/1.5)*L53,"0"),1) -> 33
D54: Cơ sở kỹ thuật điện | E54: 15TCN-LĐL (9+4) | F54: 1 | G54: 60 | I54: 36 | K54: 1 | M54: =ROUND(IF(G54>0,G54*K54,"0")+IF(H54>0,(H54/1.5)*L54,"0"),1) -> 60
D55: Kỹ thuật điện | E55: 15TC- NL (9+3) | F55: 2 | G55: 30 | I55: 13 | K55: 1 | M55: =ROUND(IF(G55>0,G55*K55,"0")+IF(H55>0,(H55/1.5)*L55,"0"),1) -> 30
D56: TT máy lạnh | E56: 15TC- NL (9+3) | F56: 2 | H56: 60 | I56: 13 | L56: 1 | M56: =ROUND(IF(G56>0,G56*K56,"0")+IF(H56>0,(H56/1.5)*L56,"0"),1) -> 40
D57: TT máy lạnh công nghiệp | E57: 15TN-NL(12+2) | F57: 2 | H57: 60 | I57: 28 | L57: 1 | M57: =ROUND(IF(G57>0,G57*K57,"0")+IF(H57>0,(H57/1.5)*L57,"0"),1) -> 40
D58: Trang bị điện hệ thống lạnh | E58: 14CĐ-NL1 | F58: 2 | G58: 30 | I58: 35 | K58: 1.1 | M58: =ROUND(IF(G58>0,G58*K58,"0")+IF(H58>0,(H58/1.5)*L58,"0"),1) -> 33
D59: Tin học ứng dụng | E59: 15CĐ-ĐL1,2,3 | F59: 2 | G59: 90 | I59: 49,45,46 | K59: 1.1 | M59: =ROUND(IF(G59>0,G59*K59,"0")+IF(H59>0,(H59/1.5)*L59,"0"),1) -> 99
D60: CVHT | E60: 14CĐ-NL1 | F60: 1,2 | I60: 35 | M60: =ROUND(IF(G60>0,G60*K60,"0")+IF(H60>0,(H60/1.5)*L60,"0"),1) -> 0
A61: 7 | B61: Võ Phước | C61: Quang | D61: TT Trang bị điện hệ thống lạnh | E61: 15TN-NL(12+2) | F61: 1 | H61: 90 | I61: 28 | L61: 1 | M61: =ROUND(IF(G61>0,G61*K61,"0")+IF(H61>0,(H61/1.5)*L61,"0"),1) -> 60 | N61: 40.5 | P61: =SUM(M61:M67)+N61+O61 -> 496.5 | Q61: 60 | R61: ='Mau B2'!L17 -> 0 | S61: 270 | T61: 260.2 | U61: 587 | V61: 560.3 | W61: 273 | X61: 273 | Y61: =ROUND((P61-T61),1) -> 236.3 | Z61: =IF(OR(SUM(V61:V67)="",SUM(Q61:Q67)=""),0,IF(SUM(U61:U67)=587,ROUND((SUM(Q61:Q67)-SUM(V61:V67))/3.33,1),0)) -> -150.2 | AA61: =IF(OR(SUM(X61:X67)="",SUM(R61:R67)=""),0,IF(SUM(W61:W67)=273,ROUND((SUM(R61:R67)-SUM(X61:X67))/3.33,1),0)) -> -82 | AB61: 0 | AC61: =SUM(Y61:AA67) -> 4.1
B62: Cộng 45 tiết hoc lại | D62: Vật liệu kỹ thuật nhiệt | E62: 15TN-NL(12+2) | G62: 30 | I62: 28 | K62: 1 | M62: =ROUND(IF(G62>0,G62*K62,"0")+IF(H62>0,(H62/1.5)*L62,"0"),1) -> 30
D63: An toàn lao động | E63: 16CĐ-ĐL1,2 | G63: 60 | I63: 58,58 | K63: 1.1 | M63: =ROUND(IF(G63>0,G63*K63,"0")+IF(H63>0,(H63/1.5)*L63,"0"),1) -> 66
D64: Trang bị điện ( nhóm 1+ 2) | E64: 15TCN-LĐL (9+4) | F64: 2 | H64: 150 | I64: 36 | L64: 1 | M64: =ROUND(IF(G64>0,G64*K64,"0")+IF(H64>0,(H64/1.5)*L64,"0"),1) -> 100
D65: Điện cơ Bản ( nhóm 1+ 2) | E65: 15TCN-LĐL (9+4) | F65: 2 | H65: 120 | I65: 36 | L65: 1 | M65: =ROUND(IF(G65>0,G65*K65,"0")+IF(H65>0,(H65/1.5)*L65,"0"),1) -> 80
D66: TT sửa chữa máy lạnh gia dụng ( nhóm 1+ 2) | E66: 15CĐ-ĐL2 | F66: 2 | H66: 180 | I66: 45 | L66: 1 | M66: =ROUND(IF(G66>0,G66*K66,"0")+IF(H66>0,(H66/1.5)*L66,"0"),1) -> 120
D67: CVHT | E67: 15CĐ-ĐL3 | F67: 1,2 | M67: =ROUND(IF(G67>0,G67*K67,"0")+IF(H67>0,(H67/1.5)*L67,"0"),1) -> 0
A68: 8 | B68: Hoàng Văn | C68: Viết | D68: Kỹ thuật lạnh | E68: 15CĐ-ĐL2 | F68: 1 | G68: 45 | I68: 45 | K68: 1.1 | M68: =ROUND(IF(G68>0,G68*K68,"0")+IF(H68>0,(H68/1.5)*L68,"0"),1) -> 49.5 | N68: 40.5 | P68: =SUM(M68:M72)+N68+O68 -> 186 | Q68: 0 | R68: ='Mau B2'!L18 -> 0 | S68: 270 | U68: 587 | W68: 273 | X68: 273 | Y68: =ROUND((P68-T68),1) -> 186 | Z68: =IF(OR(SUM(V68:V72)="",SUM(Q68:Q72)=""),0,IF(SUM(U68:U72)=587,ROUND((SUM(Q68:Q72)-SUM(V68:V72))/3.33,1),0)) -> 0 | AA68: =IF(OR(SUM(X68:X72)="",SUM(R68:R72)=""),0,IF(SUM(W68:W72)=273,ROUND((SUM(R68:R72)-SUM(X68:X72))/3.33,1),0)) -> -82 | AC68: =SUM(Y68:AA72) -> 104
D69: Kỹ thuật sấy | E69: 15TN-NL(12+2) | G69: 30 | I69: 28 | K69: 1 | M69: =ROUND(IF(G69>0,G69*K69,"0")+IF(H69>0,(H69/1.5)*L69,"0"),1) -> 30
D70: Cơ lưu chất | E70: 16 CĐ- ĐL4 | G70: 30 | I70: 42 | K70: 1.1 | M70: =ROUND(IF(G70>0,G70*K70,"0")+IF(H70>0,(H70/1.5)*L70,"0"),1) -> 33
D71: Kỹ thuật sấy | E71: 14CĐ-NL1 | G71: 30 | I71: 35 | K71: 1.1 | M71: =ROUND(IF(G71>0,G71*K71,"0")+IF(H71>0,(H71/1.5)*L71,"0"),1) -> 33
D72: CVHT | E72: 16 CĐ- ĐL2 | I72: 58 | M72: =ROUND(IF(G72>0,G72*K72,"0")+IF(H72>0,(H72/1.5)*L72,"0"),1) -> 0
A73: 9 | B73: Nguyễn Vũ Xuân | C73: Thì | D73: Kỹ thuật lạnh thực phẩm | E73: 14CĐ-NL1 | F73: 1 | G73: 30 | I73: 35 | K73: 1.1 | M73: =ROUND(IF(G73>0,G73*K73,"0")+IF(H73>0,(H73/1.5)*L73,"0"),1) -> 33 | N73: 40.5 | P73: =SUM(M73:M81)+N73+O73 -> 416.5 | Q73: 0 | R73: ='Mau B2'!L19 -> 0 | S73: 270 | T73: 270 | U73: 587 | V73: 587 | W73: 273 | X73: 273 | Y73: =ROUND((P73-T73),1) -> 146.5 | Z73: =IF(OR(SUM(V73:V81)="",SUM(Q73:Q81)=""),0,IF(SUM(U73:U81)=587,ROUND((SUM(Q73:Q81)-SUM(V73:V81))/3.33,1),0)) -> -176.3 | AA73: =IF(OR(SUM(X73:X81)="",SUM(R73:R81)=""),0,IF(SUM(W73:W81)=273,ROUND((SUM(R73:R81)-SUM(X73:X81))/3.33,1),0)) -> -82 | AC73: =SUM(Y73:AA81) -> -111.8
D74: Thiết bị lắp đặt trạm lạnh | E74: 14CĐ-NL1 | F74: 1 | G74: 30 | I74: 35 | K74: 1.1 | M74: =ROUND(IF(G74>0,G74*K74,"0")+IF(H74>0,(H74/1.5)*L74,"0"),1) -> 33
D75: TT kỹ thuật điều hòa không khí | E75: 15TN-NL(12+2) | F75: 1 | H75: 60 | I75: 28 | L75: 1 | M75: =ROUND(IF(G75>0,G75*K75,"0")+IF(H75>0,(H75/1.5)*L75,"0"),1) -> 40
D76: TT kỹ thuật điều hòa khí ( nhóm 1+ 2) | E76: 14CĐ-NL1 | F76: 2 | H76: 120 | I76: 35 | L76: 1 | M76: =ROUND(IF(G76>0,G76*K76,"0")+IF(H76>0,(H76/1.5)*L76,"0"),1) -> 80
D77: Thiết kế kho lạnh | E77: 15TN-NL(12+2) | F77: 2 | G77: 30 | I77: 28 | K77: 1 | M77: =ROUND(IF(G77>0,G77*K77,"0")+IF(H77>0,(H77/1.5)*L77,"0"),1) -> 30
D78: TT điều hòa không khí | E78: 15TC- NL (9+3) | F78: 2 | H78: 60 | I78: 13 | L78: 1 | M78: =ROUND(IF(G78>0,G78*K78,"0")+IF(H78>0,(H78/1.5)*L78,"0"),1) -> 40
D79: TT SC máy lạnh gia dụng ( Nhóm 1) | E79: 15CĐ-ĐL1 | F79: 2 | H79: 90 | I79: 49 | L79: 1 | M79: =ROUND(IF(G79>0,G79*K79,"0")+IF(H79>0,(H79/1.5)*L79,"0"),1) -> 60
D80: TT lắp đặt bảo trì máy lạnh gia dụng ( Nhóm 1) | E80: 15TN-NL(12+2) | F80: 2 | H80: 90 | I80: 28 | L80: 1 | M80: =ROUND(IF(G80>0,G80*K80,"0")+IF(H80>0,(H80/1.5)*L80,"0"),1) -> 60
D81: GVCN,CVHT(2 LỚP) | E81: 16TCN-LĐL2 16 CĐ- ĐL3 | F81: 1,2 | M81: =ROUND(IF(G81>0,G81*K81,"0")+IF(H81>0,(H81/1.5)*L81,"0"),1) -> 0
A82: 10 | B82: Nguyễn Ngọc | C82: Trí | D82: Lò hơi công nghiệp | E82: 14CĐ-NL1 | F82: 1 | G82: 30 | I82: 35 | K82: 1.1 | M82: =ROUND(IF(G82>0,G82*K82,"0")+IF(H82>0,(H82/1.5)*L82,"0"),1) -> 33 | N82: 40.5 | P82: =SUM(M82:M88)+N82+O82 -> 332 | Q82: 0 | R82: ='Mau B2'!L20 -> 0 | S82: 270 | T82: 270 | U82: 587 | V82: 587 | W82: 273 | X82: 273 | Y82: =ROUND((P82-T82),1) -> 62 | Z82: =IF(OR(SUM(V82:V88)="",SUM(Q82:Q88)=""),0,IF(SUM(U82:U88)=587,ROUND((SUM(Q82:Q88)-SUM(V82:V88))/3.33,1),0)) -> -176.3 | AA82: =IF(OR(SUM(X82:X88)="",SUM(R82:R88)=""),0,IF(SUM(W82:W88)=273,ROUND((SUM(R82:R88)-SUM(X82:X88))/3.33,1),0)) -> -82 | AC82: =SUM(Y82:AA88) -> -196.3
D83: Lò hơi, lò hơi công nghiệp | E83: 15TN-NL(12+2) | F83: 1 | G83: 30 | I83: 28 | K83: 1 | M83: =ROUND(IF(G83>0,G83*K83,"0")+IF(H83>0,(H83/1.5)*L83,"0"),1) -> 30
D84: Kỹ thuật lạnh | E84: 15CĐ-ĐL3 | F84: 1 | G84: 45 | I84: 46 | K84: 1.1 | M84: =ROUND(IF(G84>0,G84*K84,"0")+IF(H84>0,(H84/1.5)*L84,"0"),1) -> 49.5
D85: TT vận hành SC lạnh công nghiệp ( nhóm 1+ 2) | E85: 14CĐ-NL1 | F85: 2 | H85: 120 | I85: 35 | L85: 1 | M85: =ROUND(IF(G85>0,G85*K85,"0")+IF(H85>0,(H85/1.5)*L85,"0"),1) -> 80
D86: Cơ lưu chất | E86: 16 CĐ- ĐL1,2,3 | F86: 2 | G86: 90 | I86: 58,58,58 | K86: 1.1 | M86: =ROUND(IF(G86>0,G86*K86,"0")+IF(H86>0,(H86/1.5)*L86,"0"),1) -> 99
M87: =ROUND(IF(G87>0,G87*K87,"0")+IF(H87>0,(H87/1.5)*L87,"0"),1) -> 0
D88: CVHT | E88: 16CĐ-ĐL1 | M88: =ROUND(IF(G88>0,G88*K88,"0")+IF(H88>0,(H88/1.5)*L88,"0"),1) -> 0
A89: 11 | M89: =ROUND(IF(G89>0,G89*K89,"0")+IF(H89>0,(H89/1.5)*L89,"0"),1) -> 0 | N89: 0 | P89: =SUM(M89:M92)+N89+O89 -> 0 | Q89: 60 | R89: ='Mau B2'!L21 -> 0 | S89: 135 | T89: 135 | U89: 587 | V89: 306.8 | W89: 136.5 | X89: 136.5 | Y89: =ROUND((P89-T89),1) -> -135 | Z89: =IF(OR(SUM(V89:V92)="",SUM(Q89:Q92)=""),0,IF(SUM(U89:U92)=587,ROUND((SUM(Q89:Q92)-SUM(V89:V92))/3.33,1),0)) -> -74.1 | AA89: =IF(OR(SUM(X89:X92)="",SUM(R89:R92)=""),0,IF(SUM(W89:W92)=273,ROUND((SUM(R89:R92)-SUM(X89:X92))/3.33,1),0)) -> 0 | AB89: 0 | AC89: =SUM(Y89:AA92) -> -209.1
M90: =ROUND(IF(G90>0,G90*K90,"0")+IF(H90>0,(H90/1.5)*L90,"0"),1) -> 0
M91: =ROUND(IF(G91>0,G91*K91,"0")+IF(H91>0,(H91/1.5)*L91,"0"),1) -> 0
M92: =ROUND(IF(G92>0,G92*K92,"0")+IF(H92>0,(H92/1.5)*L92,"0"),1) -> 0
A93: TỔNG CỘNG | G93: =SUM(G11:G92) -> 1770 | H93: =SUM(H11:H92) -> 3000 | M93: =SUM(M11:M92) -> 3899 | N93: =SUM(N11:N92) -> 459 | O93: =SUM(O11:O92) -> 0 | P93: =SUM(P11:P92) -> 4358 | Q93: =SUM(Q11:Q92) -> 120 | R93: =SUM(R11:R92) -> 0 | S93: =SUM(S11:S92) -> 2835 | T93: =SUM(T11:T92) -> 2555.2 | ... AC93: =SUM(AC11:AC92) -> -651.9
B94: Cách tính: Cột (10) = cột (6) x cột (8) + (cột (7) x cột (9)) / 1.5 | K94: Cột (13) = cột (10) + cột (11) + cột (12). | P94: Cột (19) = cột (13) - cột (16). | V94: Cột (20) = (cột (14) - cột (17))/ 3.2, nếu cột (17) = 500.
B95: Cột (20) = (cột (14) - cột (17))/2.8, nếu cột (17) = 600. | K95: Cột (21) = (cột (15) - cột (18))/3.2, nếu giờ chuẩn =360. | V95: Cột (21) = (cột (15) - cột (18))/2.8, nếu giờ chuẩn =260.
B96: Cột (23) = cột (19) + cột (20) + cột (21).
B97: Lưu ý: Cột (10) , cột (13), cột (15), cột (19), cột (20), cột (21), cột (23) : Không nhập dữ liệu vì đã cài sẵn công thức tính.
Y99: Thành phố Hồ Chí Minh, ngày tháng năm 2016
D100: TRƯỞNG P. TS-ĐT-GTVL | M100: TRƯỞNG P. TTGD-CTSV | Y100: TRƯỞNG KHOA
O106: ADA
Q108: ADXd | U108: ácvfacf

Sheet Mau A2
S1: Mẫu A2
A2: UBND THÀNH PHỐ HỒ CHÍ MINH | O2: CỘNG HÒA XÃ HỘI CHỦ NGHĨA VIỆT NAM
A3: TRƯỜNG CAO ĐẲNG KỸ THUẬT LÝ TỰ TRỌNG TP. HỒ CHÍ MINH | O3: Độc lập - Tự do - Hạnh phúc
A4: BẢNG TỔNG KẾT KHỐI LƯỢNG CÔNG VIỆC CỦA GIẢNG VIÊN TRONG NĂM HỌC 2015 - 2016
A5: KHOA CÔNG NGHỆ NHIỆT- LẠNH
A7: TT | B7: Họ và Tên | D7: Thực hiện trong năm học | J7: Số tiết chuẩn giảng dạy cả năm còn lại | K7: Số giờ chuẩn NCKH cả năm còn lại | L7: Số giờ chuẩn "Học tập bồi dưỡng và các nhiệm vụ khác" cả năm còn lại | M7: Số tiết thừa, thiếu giảng dạy | N7: Số tiết thừa, thiếu NCKH | O7: Số tiết thừa, thiếu "Học tập bồi dưỡng và các nhiệm vụ khác" | P7: Tổng số tiết thừa, thiếu năm học 2015-2016 | Q7: Số tiết thừa, thiếu năm học 2014-2015 | R7: Tổng số tiết thừa, thiếu (sau khi cộng số tiết thừa, thiếu năm học 2014-2015) | S7: Tổng số tiết thừa, thiếu năm học 2015-2016 (sau khi cộng số tiết SKKN đã quy đổi)
D8: Số tiết quy đổi và đã nhân hệ số | E8: Kiêm nhiệm | F8: Khối lượng công tác cộng thêm | G8: Tổng tiết thực hiện | H8: Số giờ NCKH | I8: Số giờ "Học tập bồi dưỡng và các nhiệm vụ khác"
A10: (1) | B10: (2) | D10: (3) | E10: (4) | F10: (5) | G10: (6) | H10: (7) | I10: (8) | J10: (9) | K10: (10) | L10: (11) | M10: (12) | N10: (13) | O10: (14) | P10: (15) | Q10: (16) | R10: (17) | S10: (18)
A11: 1 | B11: =IF('Mau A1'!B11="","",'Mau A1'!B11) -> Võ Anh | C11: =IF('Mau A1'!C11="","",'Mau A1'!C11) -> Hào | D11: =SUM('Mau A1'!M11:M18) -> 511 | E11: =SUM('Mau A1'!N11:N18) -> 54 | F11: =SUM('Mau A1'!O11:O18) -> 0 | G11: =SUM('Mau A1'!P11:P18) -> 565 | H11: =SUM('Mau A1'!Q11:Q18) -> 0 | I11: =SUM('Mau A1'!R11:R18) -> 0 | J11: =SUM('Mau A1'!T11:T18) -> 270 | K11: =SUM('Mau A1'!V11:V18) -> 587 | L11: =SUM('Mau A1'!X11:X18) -> 273 | M11: =SUM('Mau A1'!Y11:Y18) -> 295 | N11: =SUM('Mau A1'!Z11:Z18) -> -176.3 | O11: =SUM('Mau A1'!AA11:AA18) -> -82 | P11: =SUM('Mau A1'!AC11:AC18) -> 36.7 | Q11: =SUM('Mau A1'!AB11:AB18) -> 0 | R11: =P11+Q11 -> 36.7 | S11: -196.6
A12: 2 | B12: =IF('Mau A1'!B19="","",'Mau A1'!B19) -> Đinh Đồng | C12: =IF('Mau A1'!C19="","",'Mau A1'!C19) -> Hiệp | D12: =SUM('Mau A1'!M19:M26) -> 429 | E12: =SUM('Mau A1'!N19:N26) -> 67.5 | F12: =SUM('Mau A1'!O19:O26) -> 0 | G12: =SUM('Mau A1'!P19:P26) -> 496.5 | H12: =SUM('Mau A1'!Q19:Q26) -> 0 | I12: =SUM('Mau A1'!R19:R26) -> 0 | J12: =SUM('Mau A1'!T19:T26) -> 270 | K12: =SUM('Mau A1'!V19:V26) -> 587 | L12: =SUM('Mau A1'!X19:X26) -> 273 | M12: =SUM('Mau A1'!Y19:Y26) -> 226.5 | N12: =SUM('Mau A1'!Z19:Z26) -> -176.3 | O12: =SUM('Mau A1'!AA19:AA26) -> -82 | P12: =SUM('Mau A1'!AC19:AC26) -> -31.8 | Q12: =SUM('Mau A1'!AB19:AB26) -> 0 | R12: =P12+Q12 -> -31.8 | S12: -155.6
A13: 3 | B13: =IF('Mau A1'!B27="","",'Mau A1'!B27) -> Phan văn | C13: =IF('Mau A1'!C27="","",'Mau A1'!C27) -> Hòa | D13: =SUM('Mau A1'!M27:M34) -> 425 | E13: =SUM('Mau A1'!N27:N34) -> 40.5 | F13: =SUM('Mau A1'!O27:O34) -> 0 | G13: =SUM('Mau A1'!P27:P34) -> 465.5 | H13: =SUM('Mau A1'!Q27:Q34) -> 0 | I13: =SUM('Mau A1'!R27:R34) -> 0 | J13: =SUM('Mau A1'!T27:T34) -> 270 | K13: =SUM('Mau A1'!V27:V34) -> 587 | L13: =SUM('Mau A1'!X27:X34) -> 273 | M13: =SUM('Mau A1'!Y27:Y34) -> 195.5 | N13: =SUM('Mau A1'!Z27:Z34) -> -176.3 | O13: =SUM('Mau A1'!AA27:AA34) -> -82 | P13: =SUM('Mau A1'!AC27:AC34) -> -62.8 | Q13: =SUM('Mau A1'!AB27:AB34) -> 0 | R13: =P13+Q13 -> -62.8 | S13: -135.6
A14: 4 | B14: =IF('Mau A1'!B35="","",'Mau A1'!B35) -> Trần Đình | C14: =IF('Mau A1'!C35="","",'Mau A1'!C35) -> Khoa | D14: =SUM('Mau A1'!M35:M43) -> 360 | E14: =SUM('Mau A1'!N35:N43) -> 40.5 | F14: =SUM('Mau A1'!O35:O43) -> 0 | G14: =SUM('Mau A1'!P35:P43) -> 400.5 | H14: =SUM('Mau A1'!Q35:Q43) -> 0 | I14: =SUM('Mau A1'!R35:R43) -> 0 | J14: =SUM('Mau A1'!T35:T43) -> 270 | K14: =SUM('Mau A1'!V35:V43) -> 587 | L14: =SUM('Mau A1'!X35:X43) -> 273 | M14: =SUM('Mau A1'!Y35:Y43) -> 130.5 | N14: =SUM('Mau A1'!Z35:Z43) -> -176.3 | O14: =SUM('Mau A1'!AA35:AA43) -> -82 | P14: =SUM('Mau A1'!AC35:AC43) -> -127.8 | Q14: =SUM('Mau A1'!AB35:AB43) -> 0 | R14: =P14+Q14 -> -127.8 | S14: -159.7
A15: 5 | B15: =IF('Mau A1'!B44="","",'Mau A1'!B44) -> Đỗ Trọng | C15: =IF('Mau A1'!C44="","",'Mau A1'!C44) -> Quý | D15: =SUM('Mau A1'!M44:M50) -> 480 | E15: =SUM('Mau A1'!N44:N50) -> 40.5 | F15: =SUM('Mau A1'!O44:O50) -> 0 | G15: =SUM('Mau A1'!P44:P50) -> 520.5 | H15: =SUM('Mau A1'!Q44:Q50) -> 0 | I15: =SUM('Mau A1'!R44:R50) -> 0 | J15: =SUM('Mau A1'!T44:T50) -> 270 | K15: =SUM('Mau A1'!V44:V50) -> 587 | L15: =SUM('Mau A1'!X44:X50) -> 273 | M15: =SUM('Mau A1'!Y44:Y50) -> 250.5 | N15: =SUM('Mau A1'!Z44:Z50) -> -176.3 | O15: =SUM('Mau A1'!AA44:AA50) -> -82 | P15: =SUM('Mau A1'!AC44:AC50) -> -7.8 | Q15: =SUM('Mau A1'!AB44:AB50) -> 0 | R15: =P15+Q15 -> -7.8 | S15: -241.3
A16: 6 | B16: =IF('Mau A1'!B51="","",'Mau A1'!B51) -> Đặng Thế | C16: =IF('Mau A1'!C51="","",'Mau A1'!C51) -> Huân | D16: =SUM('Mau A1'!M51:M60) -> 425 | E16: =SUM('Mau A1'!N51:N60) -> 54 | F16: =SUM('Mau A1'!O51:O60) -> 0 | G16: =SUM('Mau A1'!P51:P60) -> 479 | H16: =SUM('Mau A1'!Q51:Q60) -> 0 | I16: =SUM('Mau A1'!R51:R60) -> 0 | J16: =SUM('Mau A1'!T51:T60) -> 270 | K16: =SUM('Mau A1'!V51:V60) -> 587 | L16: =SUM('Mau A1'!X51:X60) -> 273 | M16: =SUM('Mau A1'!Y51:Y60) -> 209 | N16: =SUM('Mau A1'!Z51:Z60) -> -176.3 | O16: =SUM('Mau A1'!AA51:AA60) -> -82 | P16: =SUM('Mau A1'!AC51:AC60) -> -49.3 | Q16: =SUM('Mau A1'!AB51:AB60) -> 0 | R16: =P16+Q16 -> -49.3 | S16: -98.3
A17: 7 | B17: =IF('Mau A1'!B61="","",'Mau A1'!B61) -> Võ Phước | C17: =IF('Mau A1'!C61="","",'Mau A1'!C61) -> Quang | D17: =SUM('Mau A1'!M61:M67) -> 456 | E17: =SUM('Mau A1'!N61:N67) -> 40.5 | F17: =SUM('Mau A1'!O61:O67) -> 0 | G17: =SUM('Mau A1'!P61:P67) -> 496.5 | H17: =SUM('Mau A1'!Q61:Q67) -> 60 | I17: =SUM('Mau A1'!R61:R67) -> 0 | J17: =SUM('Mau A1'!T61:T67) -> 260.2 | K17: =SUM('Mau A1'!V61:V67) -> 560.3 | L17: =SUM('Mau A1'!X61:X67) -> 273 | M17: =SUM('Mau A1'!Y61:Y67) -> 236.3 | N17: =SUM('Mau A1'!Z61:Z67) -> -150.2 | O17: =SUM('Mau A1'!AA61:AA67) -> -82 | P17: =SUM('Mau A1'!AC61:AC67) -> 4.1 | Q17: =SUM('Mau A1'!AB61:AB67) -> 0 | R17: =P17+Q17 -> 4.1 | S17: -68.6
A18: 8 | B18: =IF('Mau A1'!B68="","",'Mau A1'!B68) -> Hoàng Văn | C18: =IF('Mau A1'!C68="","",'Mau A1'!C68) -> Viết | D18: =SUM('Mau A1'!M68:M72) -> 145.5 | E18: =SUM('Mau A1'!N68:N72) -> 40.5 | F18: =SUM('Mau A1'!O68:O72) -> 0 | G18: =SUM('Mau A1'!P68:P72) -> 186 | H18: =SUM('Mau A1'!Q68:Q72) -> 0 | I18: =SUM('Mau A1'!R68:R72) -> 0 | J18: =SUM('Mau A1'!T68:T72) -> 0 | K18: =SUM('Mau A1'!V68:V72) -> 0 | L18: =SUM('Mau A1'!X68:X72) -> 273 | M18: =SUM('Mau A1'!Y68:Y72) -> 186 | N18: =SUM('Mau A1'!Z68:Z72) -> 0 | O18: =SUM('Mau A1'!AA68:AA72) -> -82 | P18: =SUM('Mau A1'!AC68:AC72) -> 104 | Q18: =SUM('Mau A1'!AB68:AB72) -> 0 | R18: =P18+Q18 -> 104 | S18: -223.1
A19: 9 | B19: =IF('Mau A1'!B73="","",'Mau A1'!B73) -> Nguyễn Vũ Xuân | C19: =IF('Mau A1'!C73="","",'Mau A1'!C73) -> Thì | D19: =SUM('Mau A1'!M73:M81) -> 376 | E19: =SUM('Mau A1'!N73:N81) -> 40.5 | F19: =SUM('Mau A1'!O73:O81) -> 0 | G19: =SUM('Mau A1'!P73:P81) -> 416.5 | H19: =SUM('Mau A1'!Q73:Q81) -> 0 | I19: =SUM('Mau A1'!R73:R81) -> 0 | J19: =SUM('Mau A1'!T73:T81) -> 270 | K19: =SUM('Mau A1'!V73:V81) -> 587 | L19: =SUM('Mau A1'!X73:X81) -> 273 | M19: =SUM('Mau A1'!Y73:Y81) -> 146.5 | N19: =SUM('Mau A1'!Z73:Z81) -> -176.3 | O19: =SUM('Mau A1'!AA73:AA81) -> -82 | P19: =SUM('Mau A1'!AC73:AC81) -> -111.8 | Q19: =SUM('Mau A1'!AB73:AB81) -> 0 | R19: =P19+Q19 -> -111.8 | S19: -143.1
A20: 10 | B20: =IF('Mau A1'!B82="","",'Mau A1'!B82) -> Nguyễn Ngọc | C20: =IF('Mau A1'!C82="","",'Mau A1'!C82) -> Trí | D20: =SUM('Mau A1'!M82:M88) -> 291.5 | E20: =SUM('Mau A1'!N82:N88) -> 40.5 | F20: =SUM('Mau A1'!O82:O88) -> 0 | G20: =SUM('Mau A1'!P82:P88) -> 332 | H20: =SUM('Mau A1'!Q82:Q88) -> 0 | I20: =SUM('Mau A1'!R82:R88) -> 0 | J20: =SUM('Mau A1'!T82:T88) -> 270 | K20: =SUM('Mau A1'!V82:V88) -> 587 | L20: =SUM('Mau A1'!X82:X88) -> 273 | M20: =SUM('Mau A1'!Y82:Y88) -> 62 | N20: =SUM('Mau A1'!Z82:Z88) -> -176.3 | O20: =SUM('Mau A1'!AA82:AA88) -> -82 | P20: =SUM('Mau A1'!AC82:AC88) -> -196.3 | Q20: =SUM('Mau A1'!AB82:AB88) -> 0 | R20: =P20+Q20 -> -196.3 | S20: -164.7
A21: 11 | B21: =IF('Mau A1'!B89="","",'Mau A1'!B89) | C21: =IF('Mau A1'!C89="","",'Mau A1'!C89) | D21: =SUM('Mau A1'!M89:M92) -> 0 | E21: =SUM('Mau A1'!N89:N92) -> 0 | F21: =SUM('Mau A1'!O89:O92) -> 0 | G21: =SUM('Mau A1'!P89:P92) -> 0 | H21: =SUM('Mau A1'!Q89:Q92) -> 60 | I21: =SUM('Mau A1'!R89:R92) -> 0 | J21: =SUM('Mau A1'!T89:T92) -> 135 | K21: =SUM('Mau A1'!V89:V92) -> 306.8 | L21: =SUM('Mau A1'!X89:X92) -> 136.5 | M21: =SUM('Mau A1'!Y89:Y92) -> -135 | N21: =SUM('Mau A1'!Z89:Z92) -> -74.1 | O21: =SUM('Mau A1'!AA89:AA92) -> 0 | P21: =SUM('Mau A1'!AC89:AC92) -> -209.1 | Q21: =SUM('Mau A1'!AB89:AB92) -> 0 | R21: =P21+Q21 -> -209.1 | S21: -80.1
A22: TỔNG CỘNG | D22: =SUM(D11:D21) -> 3899 | E22: =SUM(E11:E21) -> 459 | F22: =SUM(F11:F21) -> 0 | G22: =SUM(G11:G21) -> 4358 | H22: =SUM(H11:H21) -> 120 | I22: =SUM(I11:I21) -> 0 | J22: =SUM(J11:J21) -> 2555.2 | K22: =SUM(K11:K21) -> 5563.1 | ... R22: =SUM(R11:R21) -> -651.9 | S22: =S11+S12+S13+S14+S15+S16+S17+S18+S19+S20+S21 -> -1666.7
B24: Lưu ý: Không cần nhập số liệu, vì tất cả các số liệu được cài sẵn công thức chuyển từ mẫu A1 sang
Q25: Thành phố Hồ Chí Minh, ngày tháng năm 2016
A26: HIỆU TRƯỞNG | E26: TRƯỞNG P. TS-ĐT-GTVL | I26: TRƯỞNG P. QLKH-HTQT | M26: TRƯỞNG P. TC-HC-TH | Q26: TRƯỞNG KHOA

Sheet Mau B1.1
J1: Mẫu B1. 1
A2: UBND THÀNH PHỐ HỒ CHÍ MINH | E2: CỘNG HÒA XÃ HỘI CHỦ NGHĨA VIỆT NAM
A3: TRƯỜNG CAO ĐẲNG KỸ THUẬT LÝ TỰ TRỌNG TP. HỒ CHÍ MINH | E3: Độc lập - Tự do - Hạnh phúc
A5: BẢNG TỔNG HỢP THAM QUAN THỰC TẾ
A6: NĂM HỌC 2015 - 2016
A7: KHOA CÔNG NGHỆ NHIỆT- LẠNH
A9: TT | B9: HỌ VÀ TÊN GIẢNG VIÊN | D9: THỜI GIAN THAM DỰ | I9: TỔNG SỐ GIỜ ĐƯỢC TÍNH | J9: GHI CHÚ
A11: 1 | B11: =IF('Mau A1'!B11="","",'Mau A1'!B11) -> Võ Anh | C11: =IF('Mau A1'!C11="","",'Mau A1'!C11) -> Hào | I11: =COUNTIF(D11:H11,"X")*4 -> 0
A12: 2 | B12: =IF('Mau A1'!B19="","",'Mau A1'!B19) -> Đinh Đồng | C12: =IF('Mau A1'!C19="","",'Mau A1'!C19) -> Hiệp | I12: =COUNTIF(D12:H12,"X")*4 -> 0
A13: 3 | B13: =IF('Mau A1'!B27="","",'Mau A1'!B27) -> Phan văn | C13: =IF('Mau A1'!C27="","",'Mau A1'!C27) -> Hòa | I13: =COUNTIF(D13:H13,"X")*4 -> 0
A14: 4 | B14: =IF('Mau A1'!B35="","",'Mau A1'!B35) -> Trần Đình | C14: =IF('Mau A1'!C35="","",'Mau A1'!C35) -> Khoa | I14: =COUNTIF(D14:H14,"X")*4 -> 0
A15: 5 | B15: =IF('Mau A1'!B44="","",'Mau A1'!B44) -> Đỗ Trọng | C15: =IF('Mau A1'!C44="","",'Mau A1'!C44) -> Quý | I15: =COUNTIF(D15:H15,"X")*4 -> 0
A16: 6 | B16: =IF('Mau A1'!B51="","",'Mau A1'!B51) -> Đặng Thế | C16: =IF('Mau A1'!C51="","",'Mau A1'!C51) -> Huân | I16: =COUNTIF(D16:H16,"X")*4 -> 0
A17: 7 | B17: =IF('Mau A1'!B61="","",'Mau A1'!B61) -> Võ Phước | C17: =IF('Mau A1'!C61="","",'Mau A1'!C61) -> Quang | I17: =COUNTIF(D17:H17,"X")*4 -> 0
A18: 8 | B18: =IF('Mau A1'!B68="","",'Mau A1'!B68) -> Hoàng Văn | C18: =IF('Mau A1'!C68="","",'Mau A1'!C68) -> Viết | I18: =COUNTIF(D18:H18,"X")*4 -> 0
A19: 9 | B19: =IF('Mau A1'!B73="","",'Mau A1'!B73) -> Nguyễn Vũ Xuân | C19: =IF('Mau A1'!C73="","",'Mau A1'!C73) -> Thì | I19: =COUNTIF(D19:H19,"X")*4 -> 0
A20: 10 | B20: =IF('Mau A1'!B82="","",'Mau A1'!B82) -> Nguyễn Ngọc | C20: =IF('Mau A1'!C82="","",'Mau A1'!C82) -> Trí | I20: =COUNTIF(D20:H20,"X")*4 -> 0
A21: 11 | B21: =IF('Mau A1'!B89="","",'Mau A1'!B89) | C21: =IF('Mau A1'!C89="","",'Mau A1'!C89) | I21: =COUNTIF(D21:H21,"X")*4 -> 0
A22: 12 | B22: =IF('Mau A1'!#REF!="","",'Mau A1'!#REF!) -> #REF! | C22: =IF('Mau A1'!#REF!="","",'Mau A1'!#REF!) -> #REF! | I22: =COUNTIF(D22:H22,"X")*4 -> 0
A23: 13 | B23: =IF('Mau A1'!#REF!="","",'Mau A1'!#REF!) -> #REF! | C23: =IF('Mau A1'!#REF!="","",'Mau A1'!#REF!) -> #REF! | I23: =COUNTIF(D23:H23,"X")*4 -> 0
A24: 14 | B24: =IF('Mau A1'!#REF!="","",'Mau A1'!#REF!) -> #REF! | C24: =IF('Mau A1'!#REF!="","",'Mau A1'!#REF!) -> #REF! | I24: =COUNTIF(D24:H24,"X")*4 -> 0
A25: 15 | B25: =IF('Mau A1'!#REF!="","",'Mau A1'!#REF!) -> #REF! | C25: =IF('Mau A1'!#REF!="","",'Mau A1'!#REF!) -> #REF! | I25: =COUNTIF(D25:H25,"X")*4 -> 0
A26: 16 | B26: =IF('Mau A1'!#REF!="","",'Mau A1'!#REF!) -> #REF! | C26: =IF('Mau A1'!#REF!="","",'Mau A1'!#REF!) -> #REF! | I26: =COUNTIF(D26:H26,"X")*4 -> 0
A27: 17 | B27: =IF('Mau A1'!#REF!="","",'Mau A1'!#REF!) -> #REF! | C27: =IF('Mau A1'!#REF!="","",'Mau A1'!#REF!) -> #REF! | I27: =COUNTIF(D27:H27,"X")*4 -> 0
A28: 18 | B28: =IF('Mau A1'!#REF!="","",'Mau A1'!#REF!) -> #REF! | C28: =IF('Mau A1'!#REF!="","",'Mau A1'!#REF!) -> #REF! | I28: =COUNTIF(D28:H28,"X")*4 -> 0
A29: 19 | B29: =IF('Mau A1'!#REF!="","",'Mau A1'!#REF!) -> #REF! | C29: =IF('Mau A1'!#REF!="","",'Mau A1'!#REF!) -> #REF! | I29: =COUNTIF(D29:H29,"X")*4 -> 0
A30: 20 | B30: =IF('Mau A1'!#REF!="","",'Mau A1'!#REF!) -> #REF! | C30: =IF('Mau A1'!#REF!="","",'Mau A1'!#REF!) -> #REF! | I30: =COUNTIF(D30:H30,"X")*4 -> 0
A31: 21 | B31: =IF('Mau A1'!#REF!="","",'Mau A1'!#REF!) -> #REF! | C31: =IF('Mau A1'!#REF!="","",'Mau A1'!#REF!) -> #REF! | I31: =COUNTIF(D31:H31,"X")*4 -> 0
A32: 22 | B32: =IF('Mau A1'!#REF!="","",'Mau A1'!#REF!) -> #REF! | C32: =IF('Mau A1'!#REF!="","",'Mau A1'!#REF!) -> #REF! | I32: =COUNTIF(D32:H32,"X")*4 -> 0
A33: 23 | B33: =IF('Mau A1'!#REF!="","",'Mau A1'!#REF!) -> #REF! | C33: =IF('Mau A1'!#REF!="","",'Mau A1'!#REF!) -> #REF! | I33: =COUNTIF(D33:H33,"X")*4 -> 0
... A60: 50 | B60: =IF('Mau A1'!#REF!="","",'Mau A1'!#REF!) -> #REF! | C60: =IF('Mau A1'!#REF!="","",'Mau A1'!#REF!) -> #REF! | I60: =COUNTIF(D60:H60,"X")*4 -> 0
B62: Minh chứng nộp kèm: Kế hoạch được Hiệu trưởng duyệt và danh sách tham dự thực tế. | F62: Tp.HCM, Ngày tháng năm 2016
C63: Trưởng Khoa | F63: Người lập biểu

Sheet Mau B1.2.1
AW1: Mẫu B1.2. 1
A2: UBND THÀNH PHỐ HỒ CHÍ MINH | AF2: CỘNG HÒA XÃ HỘI CHỦ NGHĨA VIỆT NAM
A3: TRƯỜNG CAO ĐẲNG KỸ THUẬT LÝ TỰ TRỌNG TP. HỒ CHÍ MINH | AF3: Độc lập - Tự do - Hạnh phúc
A5: BẢNG TỔNG HỢP HỌP VỀ CÔNG TÁC CHUYÊN MÔN ĐỊNH KỲ
A6: NĂM HỌC 2015 - 2016
A7: KHOA CÔNG NGHỆ NHIỆT-LẠNH
A9: TT | B9: HỌ VÀ TÊN GIẢNG VIÊN | D9: HỌP VỀ CÔNG TÁC CHUYÊN MÔN ĐỊNH KỲ | AZ9: TỔNG SỐ GIỜ ĐƯỢC TÍNH
D10: T9/ 2015 | H10: T10 | L10: T11 | P10: T12 | T10: T01/ 2016 | X10: T02 | AB10: T 3 | AF10: T4 | AJ10: T5 | AN10: T 6 | AR10: T 7 | AV10: T 8
A11: 1 | B11: =IF('Mau A1'!B11="","",'Mau A1'!B11) -> Võ Anh | C11: =IF('Mau A1'!C11="","",'Mau A1'!C11) -> Hào | AZ11: =IF(COUNTIF(D11:AY11,"X")*4>40,40,COUNTIF(D11:AY11,"X")*4) -> 0
A12: 2 | B12: =IF('Mau A1'!B19="","",'Mau A1'!B19) -> Đinh Đồng | C12: =IF('Mau A1'!C19="","",'Mau A1'!C19) -> Hiệp | AZ12: =IF(COUNTIF(D12:AY12,"X")*4>40,40,COUNTIF(D12:AY12,"X")*4) -> 0
A13: 3 | B13: =IF('Mau A1'!B27="","",'Mau A1'!B27) -> Phan văn | C13: =IF('Mau A1'!C27="","",'Mau A1'!C27) -> Hòa | AZ13: =IF(COUNTIF(D13:AY13,"X")*4>40,40,COUNTIF(D13:AY13,"X")*4) -> 0
A14: 4 | B14: =IF('Mau A1'!B35="","",'Mau A1'!B35) -> Trần Đình | C14: =IF('Mau A1'!C35="","",'Mau A1'!C35) -> Khoa | AZ14: =IF(COUNTIF(D14:AY14,"X")*4>40,40,COUNTIF(D14:AY14,"X")*4) -> 0
A15: 5 | B15: =IF('Mau A1'!B44="","",'Mau A1'!B44) -> Đỗ Trọng | C15: =IF('Mau A1'!C44="","",'Mau A1'!C44) -> Quý | AZ15: =IF(COUNTIF(D15:AY15,"X")*4>40,40,COUNTIF(D15:AY15,"X")*4) -> 0
A16: 6 | B16: =IF('Mau A1'!B51="","",'Mau A1'!B51) -> Đặng Thế | C16: =IF('Mau A1'!C51="","",'Mau A1'!C51) -> Huân | AZ16: =IF(COUNTIF(D16:AY16,"X")*4>40,40,COUNTIF(D16:AY16,"X")*4) -> 0
A17: 7 | B17: =IF('Mau A1'!B61="","",'Mau A1'!B61) -> Võ Phước | C17: =IF('Mau A1'!C61="","",'Mau A1'!C61) -> Quang | AZ17: =IF(COUNTIF(D17:AY17,"X")*4>40,40,COUNTIF(D17:AY17,"X")*4) -> 0
A18: 8 | B18: =IF('Mau A1'!B68="","",'Mau A1'!B68) -> Hoàng Văn | C18: =IF('Mau A1'!C68="","",'Mau A1'!C68) -> Viết | AZ18: =IF(COUNTIF(D18:AY18,"X")*4>40,40,COUNTIF(D18:AY18,"X")*4) -> 0
A19: 9 | B19: =IF('Mau A1'!B73="","",'Mau A1'!B73) -> Nguyễn Vũ Xuân | C19: =IF('Mau A1'!C73="","",'Mau A1'!C73) -> Thì | AZ19: =IF(COUNTIF(D19:AY19,"X")*4>40,40,COUNTIF(D19:AY19,"X")*4) -> 0
A20: 10 | B20: =IF('Mau A1'!B82="","",'Mau A1'!B82) -> Nguyễn Ngọc | C20: =IF('Mau A1'!C82="","",'Mau A1'!C82) -> Trí | AZ20: =IF(COUNTIF(D20:AY20,"X")*4>40,40,COUNTIF(D20:AY20,"X")*4) -> 0
A21: 11 | B21: =IF('Mau A1'!B89="","",'Mau A1'!B89) | C21: =IF('Mau A1'!C89="","",'Mau A1'!C89) | AZ21: =IF(COUNTIF(D21:AY21,"X")*4>40,40,COUNTIF(D21:AY21,"X")*4) -> 0
B22: Minh chứng nộp kèm: Biên bản họp có danh sách GV dự họp thực tế. | AN22: TP.HCM, Ngày tháng năm 2016
C23: Trưởng Khoa | AN23: Người lập biểu

Sheet Mau  B1.2.2
A2: UBND THÀNH PHỐ HỒ CHÍ MINH | K2: CỘNG HÒA XÃ HỘI CHỦ NGHĨA VIỆT NAM
A3: TRƯỜNG CAO ĐẲNG KỸ THUẬT LÝ TỰ TRỌNG TP. HỒ CHÍ MINH | K3: Độc lập - Tự do - Hạnh phúc
A5: BẢNG TỔNG HỢP HỌP VỀ CÔNG TÁC CHUYÊN MÔN ĐỘT XUẤT
A6: NĂM HỌC 2015 - 2016
A7: KHOA: CÔNG NGHÊ NHIỆT-LẠNH
A10: TT | B10: HỌ VÀ TÊN GIẢNG VIÊN | D10: THỜI GIAN | F10: NỘI DUNG HỌP | N10: SỐ GIỜ ĐƯỢC TÍNH | P10: TỔNG SỐ GIỜ ĐƯỢC TÍNH
A11: 1 | B11: =IF('Mau A1'!B11="","",'Mau A1'!B11) -> Võ Anh | C11: =IF('Mau A1'!C11="","",'Mau A1'!C11) -> Hào | D11: 18/9/2015 | F11: Họp giao vật tư giảng dạy cho GV+ Nhắc GVCN sinh hoạt công dân, chuẩn bị hồ sơ giảng dạy. | P11: =N11+N12+N13+N14+N15+N16+N17+N18+N19+N20 -> 0
D12: 21/10/2015 | F12: Vắng có phép | N12: 0
D13: 42349 | F13: Họp về việc ra đề thi khóa 14CĐ ( các học phần kết thúc trước tiến độ), đăng ký dự giờ, Tổ trưởng đề nghị GV đăng ký viết chuyên đề NCKH đăng tạp chí trường.
D14: 16/12/2015 | F14: Họp về việ nhắc nhỡ GV chuẩn bị ra đề thi các khóa 14TC, 15TC, 15TCN Nhắc GV trong tổ đã kiểm tra đồ nghề, dụng cụ dạy học và gửi kèm văn bản cho T. Hiệp.
D15: 22/01/2016 | F15: Họp chuẩn bị hồ sơ giảng dạy hk1 để kiểm tra hồ sơ chuyên môn. Chuẩn bị làm lịch giảng dạy hk2 - GV viết báo cáo khoa học cấp khoa - GV hoàn thiện SKKN.- Viết đề cương chi tiết được đảm nhận trong hk2.
D16: 25/02/2016 | F16: Làm lịch giảng dạy HK2.- Theo giỏi lịch coi thi. - GV hoàn thiện dần báo cáo SKKN. - Điều chỉnh lịch giảng dạy cho phù hợp
D17: 17/03/2016 | F17: GV hoàn thiện SKKN để nộp về khoa, hạn chót nộp về trường là 30/03/2016 - GV theo giỏi thời khóa biểu để đúng tiến độ chương trình.- Đăng ký lich dự giờ hk2 /15-16. - Gv viết bài khoa học cấp khoa để tính giờ NCKH.
D18: 25/04/2016 | F18: -Họp Biên soạn chương trình các học phần thuộc tổ cơ sở. - phân công Gv đảm nhận môn họccủa các hệ: CĐ Chính quy, CĐ nghề, hệ 12+2 , TCCN 9+3, TCN 9+4. - Đề nghị hiệu chỉnh thứ tự môn học phần theo theo điều kiện tiên quyết.
D19: 24/05/2016 | F19: Họp tham dự hội thảo cấp khoa. - GV chuẩn bị HS giảng dạy để kiểm tra.- 29/9/2016 tham gia hội giảng cấp trường, - GV theo giỏi lịch coi thi để thực hiện. GV hoàn thiện đề cương chi tiết các môn đã được phân công nộp cho tổ trưởng.
D20: 24/6/2016 | F20: Tổ kiểm tra HSCM học kỳ 2 ngày 30/6/2016. - GV nộp đề cương chi tiết ( đã được phân công) gửi qua egov ( hệ CĐ chính quy và CĐnghề ) - Phân công Gv phụ trách các xưởng thực hành thuộc tổ Cơ sở. - GV đã ký nhận vật tư.
A21: 2 | B21: =IF('Mau A1'!B19="","",'Mau A1'!B19) -> Đinh Đồng | C21: =IF('Mau A1'!C19="","",'Mau A1'!C19) -> Hiệp | D21: 18/9/2015 | F21: Họp giao vật tư giảng dạy cho GV+ Nhắc GVCN sinh hoạt cong dân Chuẩn bị hồ sơ giảng dạy. | P21: =N21+N22+N23+N24+N25+N26+N27+N28+N29+N30 -> 0
D22: 21/10/2015 | F22: Họp lịch giảng dạy khóa 15 + Nhắc GV biên soạn chương trình chi tiết phù hợp với các môn giảng dạy + nhắc nhở GV ghi đầy đủ thông tin vào sổ lên lớp + đăng ký đề tài NCKH.
D23: 42349 | F23: Họp về việc ra đề thi khoa1,14CĐ( các hp kết thúc trước tiến độ), đăng ký dự giờTổ trưởng đề nghị GV đăng ký viết chuyên NCKH đăng tạp chí trường.
D24: 16/12/2015 | F24: Họp về việ nhắc nhỡ GV chuẩn bị ra đề thi các khóa 14TC, 15TC, 15TCN Nhắc GV trong tổ đã kiểm tra đồ nghề, dụng cụ dạy học và gửi kèm văn bản cho T. Hiệp.
D25: 22/01/2016 | F25: Họp chuẩn bị hồ sơ HKI để kiểm tra hồ sơ chuyên môn. -Chuẩn bị làm lịch giảng dạy HK2 - GV viết báo cáo khoa học cấp khoa - GV hoàn thiện SKKN.- Viết đề cương chi tiết được đảm nhận trong hk2
D26: 25/02/2016 | F26: Làm lịch giảng dạy HK2.- Theo giỏi lịch coi thi. - GV hoàn thiện dần báo cáo SKKN. - Điều chỉnh lịch giảng dạy cho phù hợp
D27: 17/03/2016 | F27: GV hoàn thiện SKKN để nộp về khoa, hạn chót nộp về trường là 30/03/2016 - GV theo giỏi thời khóa biểu để đúng tiến độ chương trình.- Đăng ký lich dự giờ hk2/15-16. - Gv viết bài khoa học cấp khoa để tính giờ NCKH.
D28: 25/04/2016 | F28: Họp Biên soạn chương trình các học phần thuộc tổ cơ sở. - phân công Gv đảm nhận môn họccủa các hệ: CĐ Chính quy, CĐ nghề, hệ 12+2 , TCCN 9+3, TCN 9+4. - Đề nghị hiệu chỉnh thứ tự môn học phần theo theo điều kiện tiên quyết.
D29: 24/05/2016 | F29: Họp tham dự hội thảo cấp khoa. - GV chuẩn bị HS giảng dạy để kiểm tra.- 29/9/2016 tham gia hội giảng cấp trường, - GV theogiỏi lịch coi thi để thực hiện. GV hoàn thiện đề cương chi tiết các môn đã được phân công nộp cho tổ trưởng
D30: 24/6/2016 | F30: Tổ kiểm tra HSCM học kỳ 2 ngày 30/6/2016. - GV nộp đề cương chi tiết ( đã được phân công) gửi qua egov ( hệ CĐ chính quy và CĐnghề ) - Phân công Gv phụ trách các xưởng thực hành thuộc tổ Cơ sở. - GV đã ký nhận vật tư
A31: 3 | B31: =IF('Mau A1'!B27="","",'Mau A1'!B27) -> Phan văn | C31: =IF('Mau A1'!C27="","",'Mau A1'!C27) -> Hòa | D31: 42133 | F31: Chuẩn bị hồ sơ lên lớp năm học mới 2015-2016 | P31: =N31+N32+N33+N34+N35+N36+N37+N38+N39+N40 -> 0
D32: 15/10/2015 | F32: Tham gia công tác giáo dục định hướng cho sinh hướng cho khóa 2015, Lên lịch, đăng ký dự giờ học kỳ 1/2015-2016, Đăng ký đề tài NCKH năm 2015-2016…
D33: 28/10/2015 | F33: Dự giờ lên lớp và phân công giảng viên dự giờ, Phân công GV ra đề thi, lịch thi coi thi, Bảng điểm tổng kết học phần, Phân công GV chủ nhiệm môn học, …....
D34: 21/12/2015 | F34: Tham gia công tác giảng dạy, thi kết thúc học phần lý thuyết học kỳ 2 khóa 14 TCCN, đề xuất vật tư thực tập học kỳ 2, Tổng kết các chương trình học phần của tổ, và các công tác khác......
D35: 42522 | F35: Tham gia công tác giảng dạy, thi kết thúc học phần thực hành học kỳ 2 năm 2015-2016 khóa 14 TCCN, phân chia thiết bị cho các xưởng thực tập, các công tác chuyên môn khác.....
D36: 42554 | F36: Hướng dẫn phần mềm , thực hiện kiểm tra hồ sơ chuyên môn học kỳ 1 năm 2015-2016, Giáo viên nộp sáng kiến kinh nghiệm, viết đề cương chi tiết các hệ, di dời xưởng thực hành. Và các công tác khác……
D37: 15/4/2016 | F37: Tham gia công tác giảng dạy, ra đề thi học kỳ 2 các khóa 13CĐ,14CĐ, 14TC, phân công, công tác di dời thiết bị dạy học qua khu G. Thực hiện công tác chủ nhiệm, theo giỏi sỉ lên lớp, thông báo lịch thi học kỳ cho HS,SV, chuẩn bị hồ sơ thực tập cho khóa 13CĐ, 14TCCN. Thực hiện dự giờ học kỳ 2 năm 2015-2016 và các công tác khác.....
D38: 11/5/016 | F38: Triễn khai công tác tháng 5, GV nộp đề thi học kỳ 2 khóa 15 năm 2015-2016, chuẩn bị hội thảo cấp khoa ngày 28/5/2016, điều chỉnh hoàn thiện các xưởng thực hành, các công thực hiện khác…………..
D39: 30/05/2016 | F39: Kiểm tra các chương trình chi tiết của tổ đã phân công chủ nhiệm môn, rà soát lại nội dung của các học phần khóa 15, và các công việc chuyên khác……
D40: 15/7/2016 | F40: Kiểm tra hồ sơ chuyên của GV học kỳ 2 năm học 2015-2016, thực hiện việc đánh giá năng lực giáo dục sư pham TCCN, phân công GV ôn thi tốt nghiệp khóa 14TCCN, chuẩn bị bố trí thiết bị cho các xưởng, và các công tác khác ...
A41: 4 | B41: =IF('Mau A1'!B35="","",'Mau A1'!B35) -> Trần Đình | C41: =IF('Mau A1'!C35="","",'Mau A1'!C35) -> Khoa | D41: 42133 | F41: Chuẩn bị hồ sơ lên lớp năm học mới 2015-2016 | P41: =N41+N42+N43+N44+N45+N46+N47+N48+N49+N50 -> 0
D42: 15/10/2015 | F42: Tham gia công tác giáo dục định hướng cho sinh hs,sv cho khóa 2015. - Lên lịch, đăng ký dự giờ học kỳ 1/2015-2016, Đăng ký đề tài NCKH năm 2015-2016…
D43: 28/10/2015 | F43: Dự giờ lên lớp và phân công giảng viên dự giờ, Phân công GV ra đề thi, lịch thi coi thi, Bảng điểm tổng kết học phần, Phân công GV chủ nhiệm môn học, …....
D44: 21/12/2015 | F44: Tham gia công tác giảng dạy, thi kết thúc học phần học kỳ 2 khóa 14 TCCN, đề xuất vật tư thực tập học kỳ 2. - Tổng kết các chương trình học phần của tổ, và các công tác khác......
D45: 42522 | F45: Tham gia công tác giảng dạy, thi kết thúc học phần thực hành học kỳ 2 năm 2015-2016 khóa 14 TCCN, phân chia thiết bị cho các xưởng thực tập, các công tác chuyên môn khác.....
D46: 42552 | F46: Hướng dẫn phần mềm , thực hiện kiểm tra hồ sơ chuyên môn học kỳ 1 năm 2015-2016, Giáo viên nộp sáng kiến kinh nghiệm, viết đề cương chi tiết các hệ, di dời xưởng thực hành. Và các công tác khác……
D47: 15/4/2016 | F47: Tham gia công tác giảng dạy, ra đề thi học kỳ 2 các khóa 13CĐ,14CĐ, 14TC, phân công, công tác di dời thiết bị dạy học qua khu G. Thực hiện công tác chủ nhiệm, theo giỏi sỉ lên lớp, thông báo lịch thi học kỳ cho HS,SV, chuẩn bị hồ sơ thực tập cho khóa 13CĐ, 14TCCN. Thực hiện dự giờ học kỳ 2 năm 2015-2016 và các công tác khác.....
D48: 11/5/016 | F48: Triển khai công tác tháng 5, Gv nộp đề thi học kỳ 2 khóa 15 năm 2015-201, chuẩn bị hội thảo cấp khoa ngày 28/5/2016, điều chỉnh hoàn thiện các xưởng thực hành, các công thực hiện khác…………..
D49: 30/05/2016 | F49: Kiểm tra các chương trình chi tiết của tổ đã phân công chủ nhiệm môn, rà soát lại nội dung của các học phần khóa 15, và các công việc chuyên môn khác……
D50: 15/7/2016 | F50: Kiểm tra hồ sơ chuyên của GV học kỳ 2 năm học 2015-2016, thực hiện việc đánh giá năng lực giáo dục sư pham TCCN, phân công GV ôn thi tốt nghiệp khóa 14TCCN, chuẩn bị bố trí thiết bị cho các xưởng, và các công tác khác ……
A51: 5 | B51: =IF('Mau A1'!B44="","",'Mau A1'!B44) -> Đỗ Trọng | C51: =IF('Mau A1'!C44="","",'Mau A1'!C44) -> Quý | D51: 42133 | F51: Chuẩn bị hồ sơ lên lớp năm học mới 2015-2016 | P51: =N51+N52+N53+N54+N55+N56+N57+N58+N59+N60 -> 0
D52: 15/10/2015 | F52: Tham gia công tác giáo dục định hướng cho sinh hướng cho khóa 2015, Lên lịch, đăng ký dự giờ học kỳ 1/2015-2016, Đăng ký đề tài NCKH năm 2015-2016…
D53: 28/10/2015 | F53: Dự giờ lên lớp và phân công giảng viên dự giờ, Phân công GV ra đề thi, lịch thi coi thi, Bảng điểm tổng kết học phần, Phân công GV chủ nhiệm môn học, …....
D54: 21/12/2015 | F54: Tham gia công tác giảng dạy, thi kết thúc học phần học kỳ 2 khóa 14 TCCN, đề xuất vật tư thực tập học kỳ 2, Tổng kết các chương trình học phần của tổ, và các công tác khác......
D55: 42522 | F55: Tham gia công tác giảng dạy, thi kết thúc học phần thực hành học kỳ 2 năm 2015-2016 khóa 14 TCCN, phân chia thiết bị cho các xưởng thực tập, các công tác chuyên môn khác.....
D56: 42552 | F56: Hướng dẫn phần mềm , thực hiện kiểm tra hồ sơ chuyên môn học kỳ 1 năm 2015-2016, Giáo viên nộp sáng kiến kinh nghiệm, viết đề cương chi tiết các hệ, di dời xưởng thực hàn. Và các công tác khác……
D57: 15/4/2016 | F57: Tham gia công tác giảng dạy, ra đề thi học kỳ 2 các khóa 13CĐ,14CĐ, 14TC, phân công, công tác di dời thiết bị dạy học qua khu G. Thực hiện công tác chủ nhiệm, theo giỏi sỉ lên lớp, thông báo lịch thi học kỳ cho HS,SV, chuẩn bị hồ sơ thực tập cho khóa 13CĐ, 14TCCN. Thực hiện dự giờ học kỳ 2 năm 2015-2016 và các công tác khác.... .
D58: 15/7/2016 | F58: Kiểm tra hồ sơ chuyên của GV học kỳ 2 năm học 2015-2016, thực hiện việc đánh giá năng lực giáo dục sư pham TCCN, phân công GV ôn thi tốt nghiệp khóa 14TCCN, chuẩn bị bố trí thiết bị cho các xưởng, và các công tác khác … …
D59: 30/05/2016 | F59: Kiểm tra các chương trình chi tiết của tổ đã phân công chủ nhiệm môn, rà soát lại nội dung của các học phần khóa 15, và các công việc chuyên khác……
D60: 15/7/2016 | F60: Kiểm tra hồ sơ chuyên của GV học kỳ 2 năm học 2015-2016, thực hiện việc đánh giá năng lực giáo dục sư pham TCCN, phân công GV ôn thi tốt nghiệp khóa 14TCCN, chuẩn bị bố trí thiết bị cho các xưởng, và các công tác khác ……
A61: 6 | B61: =IF('Mau A1'!B51="","",'Mau A1'!B51) -> Đặng Thế | C61: =IF('Mau A1'!C51="","",'Mau A1'!C51) -> Huân | D61: 18/9/2015 | F61: Họp giao vật tư giảng dạy cho GV+ Nhắc GVCN sinh hoạt công dân, chuẩn bị hồ sơ giảng dạy. | P61: =N61+N62+N63+N64+N65+N66+N67+N68+N69+N70 -> 0
D62: 21/10/2015 | F62: Vắng có phép | N62: 0
D63: 42349 | F63: Họp về việc ra đề thi khoa1,14CĐ( các hp kết thúc trước tiến độ), đăng ký dự giờTổ trưởng đề nghị GV đăng ký viết chuyên đề NCKH đăng tạp chí trường.
D64: 16/12/2015 | F64: Họp về việ nhắc nhỡ GV chuẩn bị ra đề thi các khóa 14TC, 15TC, 15TCN Nhắc GV trong tổ đã kiểm tra đồ nghề, dụng cụ dạy học và gửi kèm văn bản cho T. Hiệp.
D65: 22/01/2016 | F65: Họp chuẩn bị hồ sơ HKI để kiểm tra hồ sơ chuyên môn. -Chuẩn bị làm lịch giảng dạy HK2 - GV viết báo cáo khoa học cấp khoa - GV hoàn thiện SKKN.- Viết đề cương chi tiết được đảm nhận trong hk2
D66: 25/02/2016 | F66: Làm lịch giảng dạy HK2.- Theo giỏi lịch coi thi. - GV hoàn thiện dần báo cáo SKKN. - Điều chỉnh lịch giảng dạy cho phù hợp
D67: 17/03/2016 | F67: GV hoàn thiện SKKN để nộp về khoa, hạn chót nộp về trường là 30/03/2016 - GV theo giỏi thời khóa biểu để đúng tiến độ chương trình.- Đăng ký lich dự giờ hk2/15-16. - Gv viết bài khoa học cấp khoa để tính giờ NCKH.
D68: 25/04/2016 | F68: Họp Biên soạn chương trình các học phần thuộc tổ cơ sở. - phân công Gv đảm nhận môn họccủa các hệ: CĐ Chính quy, CĐ nghề, hệ 12+2 , TCCN 9+3, TCN 9+4. - Đề nghị hiệu chỉnh thứ tự môn học phần theo điều kiện tiên quyết.
D69: 24/05/2016 | F69: Họp tham dự hội thảo cấp khoa. - GV chuẩn bị hồ sơ giảng dạy để kiểm tra.- 29/9/2016 tham gia hội giảng cấp trường, - GV theo giỏi lịch coi thi để thực hiện. GV hoàn thiện đề cương chi tiết các môn đã được phân công nộp cho tổ trưởng
D70: 24/6/2016 | F70: Tổ kiểm tra HSCM học kỳ 2 ngày 30/6/2016. - GV nộp đề cương chi tiết ( đã được phân công) gửi qua egov ( hệ CĐ chính quy và CĐnghề ) - Phân công Gv phụ trách các xưởng thực hành thuộc tổ Cơ sở. - GV đã ký nhận vật tư…
A71: 7 | B71: =IF('Mau A1'!B61="","",'Mau A1'!B61) -> Võ Phước | C71: =IF('Mau A1'!C61="","",'Mau A1'!C61) -> Quang | D71: 18/9/2015 | F71: Họp giao vật tư giảng dạy cho GV+ Nhắc GVCN sinh hoạt công dân. - Chuẩn bị hồ sơ giảng dạy… | P71: =N71+N72+N73+N74+N75+N76+N77+N78+N79+N80 -> 0
D72: 21/10/2015 | F72: Họp lịch giảng dạy khóa 15 + Nhắc GV biên soạn chương trình chi tiết phù hợp với các môn giảng dạy + nhắc nhở GV ghi đầy đủ thông tin vào sổ lên lớp + đăng ký đề tài NCKH
D73: 42349 | F73: Họp về việc ra đề thi khoa1,14CĐ( các hp kết thúc trước tiến độ), đăng ký dự giờTổ trưởng đề nghị GV đăng ký viết chuyên NCKH đăng tạp chí trường.
D74: 16/12/2015 | F74: Họp về việ nhắc nhỡ GV chuẩn bị ra đề thi các khóa 14TC, 15TC, 15TCN Nhắc GV trong tổ đã kiểm tra đồ nghề, dụng cụ dạy học và gửi kèm văn bản cho T. Hiệp.
D75: 22/01/2016 | F75: Họp chuẩn bị hồ sơ HKI để kiểm tra hồ sơ chuyên môn. -Chuẩn bị làm lịch giảng dạy HK2 - GV viết báo cáo khoa học cấp khoa - GV hoàn thiện SKKN.- Viết đề cương chi tiết được đảm nhận trong hk2
D76: 25/02/2016 | F76: Làm lịch giảng dạy HK2.- Theo giỏi lịch coi thi. - GV hoàn thiện dần báo cáo SKKN. - Điều chỉnh lịch giảng dạy cho phù hợp
D77: 17/03/2016 | F77: GV hoàn thiện SKKN để nộp về khoa, hạn chót nộp về trường là 30/03/2016 - GV theo giỏi thời khóa biểu để đúng tiến độ chương trình.- Đăng ký lich dự giờ hk2 /15-16. - Gv viết bài khoa học cấp khoa để tính giờ NCKH.
D78: 25/04/2016 | F78: Họp Biên soạn chương trình các học phần thuộc tổ cơ sở. - phân công Gv đảm nhận môn học của các hệ: CĐ Chính quy, CĐ nghề, hệ 12+2 , TCCN 9+3, TCN 9+4. - Đề nghị hiệu chỉnh thứ tự môn học phần theo theo điều kiện tiên quyết.
D79: 24/05/2016 | F79: Họp tham dự hội thảo cấp khoa. - GV chuẩn bị HS giảng dạy để kiểm tra.- 29/9/2016 tham gia hội giảng cấp trường, - GV theo gioi3lich5 coi thi để thực hiện. GV hoàn thiện đề cương chi tiết các môn đã được phân công nộp cho tổ trưởng
D80: 24/6/2016 | F80: Tổ kiểm tra HSCM học kỳ 2 ngày 30/6/2016. - GV nộp đề cương chi tiết ( đã được phân công) gửi qua egov ( hệ CĐ chính quy và CĐnghề ) - Phân công Gv phụ trách các xưởng thực hành thuộc tổ Cơ sở. - GV đã ký nhận vật tư
A81: 8 | B81: =IF('Mau A1'!B68="","",'Mau A1'!B68) -> Hoàng Văn | C81: =IF('Mau A1'!C68="","",'Mau A1'!C68) -> Viết | D81: 18/9/2015 | F81: Họp giao vật tư giảng dạy cho GV+ Nhắc GVCN sinh hoạt cong dân Chuẩn bị hồ sơ giảng dạy. | P81: =N81+N82+N83+N84+N85+N86+N87+N88+N89+N90 -> 0
D82: 21/10/2015 | F82: Họp lịch giảng dạy khóa 15 + Nhắc GV biên soạn chương trình chi tiết phù hợp với các môn giảng dạy + nhắc nhở GV ghi đầy đủ thông tin vào sổ lên lớp + đăng ký đề tài NCKH
D83: 42349 | F83: Họp về việc ra đề thi khóa 14CĐ( các hp kết thúc trước tiến độ), đăng ký dự giờTổ trưởng đề nghị GV đăng ký viết chuyên đề NCKH đăng tạp chí trường…
D84: 16/12/2015 | F84: Họp về việ nhắc nhỡ GV chuẩn bị ra đề thi các khóa 14TC, 15TC, 15TCN Nhắc GV trong tổ đã kiểm tra đồ nghề, dụng cụ dạy học và gửi kèm văn bản cho T. Hiệp.
D85: 22/01/2016 | F85: Họp chuẩn bị hồ sơ HKI để kiểm tra hồ sơ chuyên môn. -Chuẩn bị làm lịch giảng dạy HK2 - GV viết báo cáo khoa học cấp khoa - GV hoàn thiện SKKN.- Viết đề cương chi tiết được đảm nhận trong hk2
D86: 25/02/2016 | F86: Làm lịch giảng dạy HK2.- Theo giỏi lịch coi thi. - GV hoàn thiện dần báo cáo SKKN. - Điều chỉnh lịch giảng dạy cho phù hợp
D87: 17/03/2016 | F87: GV hoàn thiện SKKN để nộp về khoa, hạn chót nộp về trường là 30/03/2016 - GV theo giỏi thời khóa biểu để đúng tiến độ chương trình.- Đăng ký lich dự giờ hk2/15-16. - Gv viết bài khoa học cấp khoa để tính giờ NCKH.
D88: 25/04/2016 | F88: Họp Biên soạn chương trình các học phần thuộc tổ cơ sở. - phân công Gv đảm nhận môn học của các hệ: CĐ Chính quy, CĐ nghề, hệ 12+2 , TCCN 9+3, TCN 9+4. - Đề nghị hiệu chỉnh thứ tự môn học phần theo theo điều kiện tiên quyết.
D89: 24/05/2016 | F89: Họp tham dự hội thảo cấp khoa. - GV chuẩn bị HS giảng dạy để kiểm tra.- 29/9/2016 tham gia hội giảng cấp trường, - GV theo giỏi lịch coi thi để thực hiện. GV hoàn thiện đề cương chi tiết các môn đã được phân công nộp cho tổ trưởng
D90: 24/6/2016 | F90: Tổ kiểm tra HSCM học kỳ 2 ngày 30/6/2016. - GV nộp đề cương chi tiết ( đã được phân công) gửi qua egov ( hệ CĐ chính quy và CĐnghề ) - Phân công Gv phụ trách các xưởng thực hành thuộc tổ Cơ sở. - GV đã ký nhận vật tư
A91: 9 | B91: =IF('Mau A1'!B73="","",'Mau A1'!B73) -> Nguyễn Vũ Xuân | C91: =IF('Mau A1'!C73="","",'Mau A1'!C73) -> Thì | D91: 42133 | F91: Chuẩn bị hồ sơ lên lớp năm học mới 2015-2016 | P91: =N91+N92+N93+N94+N95+N96+N97+N98+N99+N100 -> 0
D92: 15/10/2015 | F92: Tham gia công tác giáo dục định hướng cho sinh hướng cho khóa 2015, Lên lịch, đăng ký dự giờ học kỳ 1/2015-2016, Đăng ký đề tài NCKH năm 2015-2016…
D93: 28/10/2015 | F93: Dự giờ lên lớp và phân công giảng viên dự giờ, Phân công GV ra đề thi, lịch thi coi thi, Bảng điểm tổng kết học phần, Phân công GV chủ nhiệm môn học, …....
D94: 21/12/2015 | F94: Tham gia công tác giảng dạy, thi kết thúc học phần học kỳ 2 khóa 14 TCCN, đề xuất vật tư thực tập học kỳ 2, Tổng kết các chương trình học phần của tổ, và các công tác khác......
D95: 42522 | F95: Tham gia công tác giảng dạy, thi kết thúc học phần thực hành học kỳ 2 năm 2015-2016 khóa 14 TCCN, phân chia thiết bị cho các xưởng thực tập, các công tác chuyên môn khác.....
D96: 42554 | F96: Hướng dẫn phần mềm , thực hiện kiểm tra hồ sơ chuyên môn học kỳ 1 năm 2015-2016, Giáo viên nộp sáng kiến kinh nghiệm, viết đề cương chi tiết các hệ, di dời xưởng thực hành. Và các công tác khác……
D97: 15/4/2016 | F97: Tham gia công tác giảng dạy, ra đề thi học kỳ 2 các khóa 13CĐ,14CĐ, 14TC, phân công, công tác di dời thiết bị dạy học qua khu G. Thực hiện công tác chủ nhiệm, theo giỏi sỉ lên lớp, thông báo lịch thi học kỳ cho HS,SV, chuẩn bị hồ sơ thực tập cho khóa 13CĐ, 14TCCN. Thực hiện dự giờ học kỳ 2 năm 2015-2016 và các công tác khác....
D98: 11/5/016 | F98: Triễn khai công tác tháng 5, Gv nộp đề thi học kỳ 2 khóa 15 năm 2015-201, chuẩn bị hội thảo cấp khoa ngày 28/5/2016, điều chỉnh hoàn thiện các xưởng thực hành, các công thực hiện khác…………..
D99: 30/05/2016 | F99: Kiểm tra các chương trình chi tiết của tổ đã phân công chủ nhiệm môn, rà soát lại nội dung của các học phần khóa 15, và các công việc chuyên khác……
D100: 15/7/2016 | F100: Kiểm tra hồ sơ chuyên của GV học kỳ 2 năm học 2015-2016, thực hiện việc đánh giá năng lực giáo dục sư pham TCCN, phân công GV ôn thi tốt nghiệp khóa 14TCCN, chuẩn bị bố trí thiết bị cho các xưởng, và các công tác khác ……
A101: 10 | B101: =IF('Mau A1'!B82="","",'Mau A1'!B82) -> Nguyễn Ngọc | C101: =IF('Mau A1'!C82="","",'Mau A1'!C82) -> Trí | D101: 42133 | F101: Chuẩn bị hồ sơ lên lớp năm học mới 2015-2016 | P101: =N101+N102+N103+N104+N105+N106+N107+N108+N109+N110 -> 0
D102: 15/10/2015 | F102: Tham gia công tác giáo dục định hướng cho sinh hướng cho khóa 2015, Lên lịch, đăng ký dự giờ học kỳ 1/2015-2016, Đăng ký đề tài NCKH năm 2015-2016…
D103: 28/10/2015 | F103: Dự giờ lên lớp và phân công giảng viên dự giờ, Phân công GV ra đề thi, lịch thi coi thi, Bảng điểm tổng kết học phần, Phân công GV chủ nhiệm môn học, …....
D104: 21/12/2015 | F104: Tham gia công tác giảng dạy, thi kết thúc học phần lý thuyết học kỳ 2 khóa 14 TCCN, đề xuất vật tư thực tập học kỳ 2, Tổng kết các chương trình học phần của tổ, và các công tác khác......
...

Sheet Mau B1.3
I1: Mẫu B1. 3
A2: UBND THÀNH PHỐ HỒ CHÍ MINH | E2: CỘNG HÒA XÃ HỘI CHỦ NGHĨA VIỆT NAM
A3: TRƯỜNG CAO ĐẲNG KỸ THUẬT LÝ TỰ TRỌNG TP. HỒ CHÍ MINH | E3: Độc lập - Tự do - Hạnh phúc
A5: BẢNG TỔNG HỢP BỒI DƯỠNG CHUYÊN MÔN
A6: NĂM HỌC 2015 - 2016
A7: KHOA CÔNG NGHỆ NHIỆT-LẠNH
A9: TT | B9: HỌ VÀ TÊN GIẢNG VIÊN | D9: THỜI GIAN THAM DỰ | H9: TỔNG SỐ GIỜ ĐƯỢC TÍNH | I9: GHI CHÚ
D10: 18/9/2015 | E10: 31/10/2015 | F10: 42589 | G10: 29/7/2016
A11: 1 | B11: =IF('Mau A1'!B11="","",'Mau A1'!B11) -> Võ Anh | C11: =IF('Mau A1'!C11="","",'Mau A1'!C11) -> Hào | H11: =COUNTIF(D11:G11,"X")*4 -> 0
A12: 2 | B12: =IF('Mau A1'!B19="","",'Mau A1'!B19) -> Đinh Đồng | C12: =IF('Mau A1'!C19="","",'Mau A1'!C19) -> Hiệp | H12: =COUNTIF(D12:G12,"X")*4 -> 0
A13: 3 | B13: =IF('Mau A1'!B27="","",'Mau A1'!B27) -> Phan văn | C13: =IF('Mau A1'!C27="","",'Mau A1'!C27) -> Hòa | H13: =COUNTIF(D13:G13,"X")*4 -> 0
A14: 4 | B14: =IF('Mau A1'!B35="","",'Mau A1'!B35) -> Trần Đình | C14: =IF('Mau A1'!C35="","",'Mau A1'!C35) -> Khoa | H14: =COUNTIF(D14:G14,"X")*4 -> 0
A15: 5 | B15: =IF('Mau A1'!B44="","",'Mau A1'!B44) -> Đỗ Trọng | C15: =IF('Mau A1'!C44="","",'Mau A1'!C44) -> Quý | H15: =COUNTIF(D15:G15,"X")*4 -> 0
A16: 6 | B16: =IF('Mau A1'!B51="","",'Mau A1'!B51) -> Đặng Thế | C16: =IF('Mau A1'!C51="","",'Mau A1'!C51) -> Huân | H16: =COUNTIF(D16:G16,"X")*4 -> 0
A17: 7 | B17: =IF('Mau A1'!B61="","",'Mau A1'!B61) -> Võ Phước | C17: =IF('Mau A1'!C61="","",'Mau A1'!C61) -> Quang | H17: =COUNTIF(D17:G17,"X")*4 -> 0
A18: 8 | B18: =IF('Mau A1'!B68="","",'Mau A1'!B68) -> Hoàng Văn | C18: =IF('Mau A1'!C68="","",'Mau A1'!C68) -> Viết | H18: =COUNTIF(D18:G18,"X")*4 -> 0
A19: 9 | B19: =IF('Mau A1'!B73="","",'Mau A1'!B73) -> Nguyễn Vũ Xuân | C19: =IF('Mau A1'!C73="","",'Mau A1'!C73) -> Thì | H19: =COUNTIF(D19:G19,"X")*4 -> 0
A20: 10 | B20: =IF('Mau A1'!B82="","",'Mau A1'!B82) -> Nguyễn Ngọc | C20: =IF('Mau A1'!C82="","",'Mau A1'!C82) -> Trí | H20: =COUNTIF(D20:G20,"X")*4 -> 0
A21: 11 | B21: =IF('Mau A1'!B89="","",'Mau A1'!B89) | C21: =IF('Mau A1'!C89="","",'Mau A1'!C89) | H21: =COUNTIF(D21:G21,"X")*4 -> 0
A22: 12 | B22: =IF('Mau A1'!#REF!="","",'Mau A1'!#REF!) -> #REF! | C22: =IF('Mau A1'!#REF!="","",'Mau A1'!#REF!) -> #REF! | H22: =COUNTIF(D22:G22,"X")*4 -> 0
A23: 13 | B23: =IF('Mau A1'!#REF!="","",'Mau A1'!#REF!) -> #REF! | C23: =IF('Mau A1'!#REF!="","",'Mau A1'!#REF!) -> #REF! | H23: =COUNTIF(D23:G23,"X")*4 -> 0
A24: 14 | B24: =IF('Mau A1'!#REF!="","",'Mau A1'!#REF!) -> #REF! | C24: =IF('Mau A1'!#REF!="","",'Mau A1'!#REF!) -> #REF! | H24: =COUNTIF(D24:G24,"X")*4 -> 0
A25: 15 | B25: =IF('Mau A1'!#REF!="","",'Mau A1'!#REF!) -> #REF! | C25: =IF('Mau A1'!#REF!="","",'Mau A1'!#REF!) -> #REF! | H25: =COUNTIF(D25:G25,"X")*4 -> 0
A26: 16 | B26: =IF('Mau A1'!#REF!="","",'Mau A1'!#REF!) -> #REF! | C26: =IF('Mau A1'!#REF!="","",'Mau A1'!#REF!) -> #REF! | H26: =COUNTIF(D26:G26,"X")*4 -> 0
A27: 17 | B27: =IF('Mau A1'!#REF!="","",'Mau A1'!#REF!) -> #REF! | C27: =IF('Mau A1'!#REF!="","",'Mau A1'!#REF!) -> #REF! | H27: =COUNTIF(D27:G27,"X")*4 -> 0
A28: 18 | B28: =IF('Mau A1'!#REF!="","",'Mau A1'!#REF!) -> #REF! | C28: =IF('Mau A1'!#REF!="","",'Mau A1'!#REF!) -> #REF! | H28: =COUNTIF(D28:G28,"X")*4 -> 0
A29: 19 | B29: =IF('Mau A1'!#REF!="","",'Mau A1'!#REF!) -> #REF! | C29: =IF('Mau A1'!#REF!="","",'Mau A1'!#REF!) -> #REF! | H29: =COUNTIF(D29:G29,"X")*4 -> 0
A30: 20 | B30: =IF('Mau A1'!#REF!="","",'Mau A1'!#REF!) -> #REF! | C30: =IF('Mau A1'!#REF!="","",'Mau A1'!#REF!) -> #REF! | H30: =COUNTIF(D30:G30,"X")*4 -> 0
A31: 21 | B31: =IF('Mau A1'!#REF!="","",'Mau A1'!#REF!) -> #REF! | C31: =IF('Mau A1'!#REF!="","",'Mau A1'!#REF!) -> #REF! | H31: =COUNTIF(D31:G31,"X")*4 -> 0
A32: 22 | B32: =IF('Mau A1'!#REF!="","",'Mau A1'!#REF!) -> #REF! | C32: =IF('Mau A1'!#REF!="","",'Mau A1'!#REF!) -> #REF! | H32: =COUNTIF(D32:G32,"X")*4 -> 0
A33: 23 | B33: =IF('Mau A1'!#REF!="","",'Mau A1'!#REF!) -> #REF! | C33: =IF('Mau A1'!#REF!="","",'Mau A1'!#REF!) -> #REF! | H33: =COUNTIF(D33:G33,"X")*4 -> 0
... A60: 50 | B60: =IF('Mau A1'!#REF!="","",'Mau A1'!#REF!) -> #REF! | C60: =IF('Mau A1'!#REF!="","",'Mau A1'!#REF!) -> #REF! | H60: =COUNTIF(D60:G60,"X")*4 -> 0
B62: Minh chứng nộp kèm: Kế hoạch do Nhà trường hoặc khoa lập và được Hiệu trưởng duyệt; Danh sách tham dự thực tế. | F62: Tp.HCM, Ngày tháng năm 2016
C63: Trưởng Khoa | F63: Người lập biểu

Sheet Mau B1.4
F1: Mẫu B1. 4
A2: UBND THÀNH PHỐ HỒ CHÍ MINH | D2: CỘNG HÒA XÃ HỘI CHỦ NGHĨA VIỆT NAM
A3: TRƯỜNG CAO ĐẲNG KỸ THUẬT LÝ TỰ TRỌNG TP. HỒ CHÍ MINH | D3: Độc lập - Tự do - Hạnh phúc
A5: BẢNG TỔNG HỢP DỰ GIỜ ĐỊNH KỲ, ĐỘT XUẤT
A6: NĂM HỌC 2015 - 2016
A7: KHOA CÔNG NGHỆ NHIỆT-LẠNH
A9: TT | B9: HỌ VÀ TÊN GIẢNG VIÊN | D9: Tổng số phiếu chấm dự giờ, góp ý | E9: Tổng số giờ được tính | F9: Ghi chú
A10: (1) | B10: (2) | D10: (3) | E10: (4) | F10: (5)
A11: 1 | B11: =IF('Mau A1'!B11="","",'Mau A1'!B11) -> Võ Anh | C11: =IF('Mau A1'!C11="","",'Mau A1'!C11) -> Hào | E11: =D11*2 -> 0
A12: 2 | B12: =IF('Mau A1'!B19="","",'Mau A1'!B19) -> Đinh Đồng | C12: =IF('Mau A1'!C19="","",'Mau A1'!C19) -> Hiệp | E12: =D12*2 -> 0
A13: 3 | B13: =IF('Mau A1'!B27="","",'Mau A1'!B27) -> Phan văn | C13: =IF('Mau A1'!C27="","",'Mau A1'!C27) -> Hòa | E13: =D13*2 -> 0
A14: 4 | B14: =IF('Mau A1'!B35="","",'Mau A1'!B35) -> Trần Đình | C14: =IF('Mau A1'!C35="","",'Mau A1'!C35) -> Khoa | E14: =D14*2 -> 0
A15: 5 | B15: =IF('Mau A1'!B44="","",'Mau A1'!B44) -> Đỗ Trọng | C15: =IF('Mau A1'!C44="","",'Mau A1'!C44) -> Quý | E15: =D15*2 -> 0
A16: 6 | B16: =IF('Mau A1'!B51="","",'Mau A1'!B51) -> Đặng Thế | C16: =IF('Mau A1'!C51="","",'Mau A1'!C51) -> Huân | E16: =D16*2 -> 0
A17: 7 | B17: =IF('Mau A1'!B61="","",'Mau A1'!B61) -> Võ Phước | C17: =IF('Mau A1'!C61="","",'Mau A1'!C61) -> Quang | E17: =D17*2 -> 0
A18: 8 | B18: =IF('Mau A1'!B68="","",'Mau A1'!B68) -> Hoàng Văn | C18: =IF('Mau A1'!C68="","",'Mau A1'!C68) -> Viết | E18: =D18*2 -> 0
A19: 9 | B19: =IF('Mau A1'!B73="","",'Mau A1'!B73) -> Nguyễn Vũ Xuân | C19: =IF('Mau A1'!C73="","",'Mau A1'!C73) -> Thì | E19: =D19*2 -> 0
A20: 10 | B20: =IF('Mau A1'!B82="","",'Mau A1'!B82) -> Nguyễn Ngọc | C20: =IF('Mau A1'!C82="","",'Mau A1'!C82) -> Trí | E20: =D20*2 -> 0
A21: 11 | B21: =IF('Mau A1'!B89="","",'Mau A1'!B89) | C21: =IF('Mau A1'!C89="","",'Mau A1'!C89) | E21: =D21*2 -> 0
A22: 12 | B22: =IF('Mau A1'!#REF!="","",'Mau A1'!#REF!) -> #REF! | C22: =IF('Mau A1'!#REF!="","",'Mau A1'!#REF!) -> #REF! | E22: =D22*2 -> 0
A23: 13 | B23: =IF('Mau A1'!#REF!="","",'Mau A1'!#REF!) -> #REF! | C23: =IF('Mau A1'!#REF!="","",'Mau A1'!#REF!) -> #REF! | E23: =D23*2 -> 0
A24: 14 | B24: =IF('Mau A1'!#REF!="","",'Mau A1'!#REF!) -> #REF! | C24: =IF('Mau A1'!#REF!="","",'Mau A1'!#REF!) -> #REF! | E24: =D24*2 -> 0
A25: 15 | B25: =IF('Mau A1'!#REF!="","",'Mau A1'!#REF!) -> #REF! | C25: =IF('Mau A1'!#REF!="","",'Mau A1'!#REF!) -> #REF! | E25: =D25*2 -> 0
A26: 16 | B26: =IF('Mau A1'!#REF!="","",'Mau A1'!#REF!) -> #REF! | C26: =IF('Mau A1'!#REF!="","",'Mau A1'!#REF!) -> #REF! | E26: =D26*2 -> 0
A27: 17 | B27: =IF('Mau A1'!#REF!="","",'Mau A1'!#REF!) -> #REF! | C27: =IF('Mau A1'!#REF!="","",'Mau A1'!#REF!) -> #REF! | E27: =D27*2 -> 0
A28: 18 | B28: =IF('Mau A1'!#REF!="","",'Mau A1'!#REF!) -> #REF! | C28: =IF('Mau A1'!#REF!="","",'Mau A1'!#REF!) -> #REF! | E28: =D28*2 -> 0
A29: 19 | B29: =IF('Mau A1'!#REF!="","",'Mau A1'!#REF!) -> #REF! | C29: =IF('Mau A1'!#REF!="","",'Mau A1'!#REF!) -> #REF! | E29: =D29*2 -> 0
A30: 20 | B30: =IF('Mau A1'!#REF!="","",'Mau A1'!#REF!) -> #REF! | C30: =IF('Mau A1'!#REF!="","",'Mau A1'!#REF!) -> #REF! | E30: =D30*2 -> 0
A31: 21 | B31: =IF('Mau A1'!#REF!="","",'Mau A1'!#REF!) -> #REF! | C31: =IF('Mau A1'!#REF!="","",'Mau A1'!#REF!) -> #REF! | E31: =D31*2 -> 0
A32: 22 | B32: =IF('Mau A1'!#REF!="","",'Mau A1'!#REF!) -> #REF! | C32: =IF('Mau A1'!#REF!="","",'Mau A1'!#REF!) -> #REF! | E32: =D32*2 -> 0
A33: 23 | B33: =IF('Mau A1'!#REF!="","",'Mau A1'!#REF!) -> #REF! | C33: =IF('Mau A1'!#REF!="","",'Mau A1'!#REF!) -> #REF! | E33: =D33*2 -> 0
... A60: 50 | B60: =IF('Mau A1'!#REF!="","",'Mau A1'!#REF!) -> #REF! | C60: =IF('Mau A1'!#REF!="","",'Mau A1'!#REF!) -> #REF! | E60: =D60*2 -> 0
B62: Minh chứng nộp kèm:
B63: - Phiếu dự giờ và sắp xếp theo số lượng GV đi dự.
E65: Tp.HCM, ngày tháng năm 2016
B66: Trưởng Khoa | E66: Người lập biểu

Sheet Mau B1.5
F1: Mẫu B1. 5
A2: UBND THÀNH PHỐ HỒ CHÍ MINH | D2: CỘNG HÒA XÃ HỘI CHỦ NGHĨA VIỆT NAM
A3: TRƯỜNG CAO ĐẲNG KỸ THUẬT LÝ TỰ TRỌNG TP. HỒ CHÍ MINH | D3: Độc lập - Tự do - Hạnh phúc
A5: BẢNG TỔNG HỢP HỌP GÓP Ý SAU DỰ GIỜ
A6: NĂM HỌC 2015 - 2016
A7: KHOA: CN NHIỆT-LẠNH
A9: TT | B9: HỌ VÀ TÊN GIẢNG VIÊN | D9: Họp góp ý cho bao nhiêu GV | E9: Tổng số giờ được tính | F9: Ghi chú
A10: (1) | B10: (2) | D10: (3) | E10: (4) | F10: (5)
A11: 1 | B11: =IF('Mau A1'!B11="","",'Mau A1'!B11) -> Võ Anh | C11: =IF('Mau A1'!C11="","",'Mau A1'!C11) -> Hào | E11: =D11*1 -> 0
A12: 2 | B12: =IF('Mau A1'!B19="","",'Mau A1'!B19) -> Đinh Đồng | C12: =IF('Mau A1'!C19="","",'Mau A1'!C19) -> Hiệp | E12: =D12*1 -> 0
A13: 3 | B13: =IF('Mau A1'!B27="","",'Mau A1'!B27) -> Phan văn | C13: =IF('Mau A1'!C27="","",'Mau A1'!C27) -> Hòa | E13: =D13*1 -> 0
A14: 4 | B14: =IF('Mau A1'!B35="","",'Mau A1'!B35) -> Trần Đình | C14: =IF('Mau A1'!C35="","",'Mau A1'!C35) -> Khoa | E14: =D14*1 -> 0
A15: 5 | B15: =IF('Mau A1'!B44="","",'Mau A1'!B44) -> Đỗ Trọng | C15: =IF('Mau A1'!C44="","",'Mau A1'!C44) -> Quý | E15: =D15*1 -> 0
A16: 6 | B16: =IF('Mau A1'!B51="","",'Mau A1'!B51) -> Đặng Thế | C16: =IF('Mau A1'!C51="","",'Mau A1'!C51) -> Huân | E16: =D16*1 -> 0
A17: 7 | B17: =IF('Mau A1'!B61="","",'Mau A1'!B61) -> Võ Phước | C17: =IF('Mau A1'!C61="","",'Mau A1'!C61) -> Quang | E17: =D17*1 -> 0
A18: 8 | B18: =IF('Mau A1'!B68="","",'Mau A1'!B68) -> Hoàng Văn | C18: =IF('Mau A1'!C68="","",'Mau A1'!C68) -> Viết | E18: =D18*1 -> 0
A19: 9 | B19: =IF('Mau A1'!B73="","",'Mau A1'!B73) -> Nguyễn Vũ Xuân | C19: =IF('Mau A1'!C73="","",'Mau A1'!C73) -> Thì | E19: =D19*1 -> 0
A20: 10 | B20: =IF('Mau A1'!B82="","",'Mau A1'!B82) -> Nguyễn Ngọc | C20: =IF('Mau A1'!C82="","",'Mau A1'!C82) -> Trí | E20: =D20*1 -> 0
A21: 11 | B21: =IF('Mau A1'!B89="","",'Mau A1'!B89) | C21: =IF('Mau A1'!C89="","",'Mau A1'!C89) | E21: =D21*1 -> 0
A22: 12 | B22: =IF('Mau A1'!#REF!="","",'Mau A1'!#REF!) -> #REF! | C22: =IF('Mau A1'!#REF!="","",'Mau A1'!#REF!) -> #REF! | E22: =D22*1 -> 0
A23: 13 | B23: =IF('Mau A1'!#REF!="","",'Mau A1'!#REF!) -> #REF! | C23: =IF('Mau A1'!#REF!="","",'Mau A1'!#REF!) -> #REF! | E23: =D23*1 -> 0
A24: 14 | B24: =IF('Mau A1'!#REF!="","",'Mau A1'!#REF!) -> #REF! | C24: =IF('Mau A1'!#REF!="","",'Mau A1'!#REF!) -> #REF! | E24: =D24*1 -> 0
A25: 15 | B25: =IF('Mau A1'!#REF!="","",'Mau A1'!#REF!) -> #REF! | C25: =IF('Mau A1'!#REF!="","",'Mau A1'!#REF!) -> #REF! | E25: =D25*1 -> 0
A26: 16 | B26: =IF('Mau A1'!#REF!="","",'Mau A1'!#REF!) -> #REF! | C26: =IF('Mau A1'!#REF!="","",'Mau A1'!#REF!) -> #REF! | E26: =D26*1 -> 0
A27: 17 | B27: =IF('Mau A1'!#REF!="","",'Mau A1'!#REF!) -> #REF! | C27: =IF('Mau A1'!#REF!="","",'Mau A1'!#REF!) -> #REF! | E27: =D27*1 -> 0
A28: 18 | B28: =IF('Mau A1'!#REF!="","",'Mau A1'!#REF!) -> #REF! | C28: =IF('Mau A1'!#REF!="","",'Mau A1'!#REF!) -> #REF! | E28: =D28*1 -> 0
A29: 19 | B29: =IF('Mau A1'!#REF!="","",'Mau A1'!#REF!) -> #REF! | C29: =IF('Mau A1'!#REF!="","",'Mau A1'!#REF!) -> #REF! | E29: =D29*1 -> 0
A30: 20 | B30: =IF('Mau A1'!#REF!="","",'Mau A1'!#REF!) -> #REF! | C30: =IF('Mau A1'!#REF!="","",'Mau A1'!#REF!) -> #REF! | E30: =D30*1 -> 0
A31: 21 | B31: =IF('Mau A1'!#REF!="","",'Mau A1'!#REF!) -> #REF! | C31: =IF('Mau A1'!#REF!="","",'Mau A1'!#REF!) -> #REF! | E31: =D31*1 -> 0
A32: 22 | B32: =IF('Mau A1'!#REF!="","",'Mau A1'!#REF!) -> #REF! | C32: =IF('Mau A1'!#REF!="","",'Mau A1'!#REF!) -> #REF! | E32: =D32*1 -> 0
A33: 23 | B33: =IF('Mau A1'!#REF!="","",'Mau A1'!#REF!) -> #REF! | C33: =IF('Mau A1'!#REF!="","",'Mau A1'!#REF!) -> #REF! | E33: =D33*1 -> 0
... A60: 50 | B60: =IF('Mau A1'!#REF!="","",'Mau A1'!#REF!) -> #REF! | C60: =IF('Mau A1'!#REF!="","",'Mau A1'!#REF!) -> #REF! | E60: =D60*1 -> 0
B62: Minh chứng nộp kèm:
B63: - Biên bản họp góp ý có danh sách GV dự họp thực tế.
E65: Tp.HCM, ngày tháng năm 2016
B66: Trưởng Khoa | E66: Người lập biểu

Sheet Mau B1. 6
I1: Mẫu B1. 6
A2: UBND THÀNH PHỐ HỒ CHÍ MINH | F2: CỘNG HÒA XÃ HỘI CHỦ NGHĨA VIỆT NAM
A3: TRƯỜNG CAO ĐẲNG KỸ THUẬT LÝ TỰ TRỌNG TP. HỒ CHÍ MINH | F3: Độc lập - Tự do - Hạnh phúc
A5: BẢNG TỔNG HỢP KIỂM TRA, CHẤM ĐIỂM HỒ SƠ CHUYÊN MÔN
A6: NĂM HỌC 2015 - 2016
A7: KHOA: CN NHIỆT-LẠNH
A9: TT | B9: HỌ VÀ TÊN GIẢNG VIÊN | D9: Tổ bộ môn được phân công kiểm tra, chấm điểm | E9: Số GV trong tổ kiểm tra, chấm điểm | F9: Số GV được kiểm tra, chấm điểm của tổ | G9: Số giờ được tính | H9: Tổng số giờ được tính | I9: Ghi chú
A10: (1) | B10: (2) | D10: (3) | E10: (4) | F10: (5) | G10: (6) | H10: (7) | I10: (8)
A11: 1 | B11: =IF('Mau A1'!B11="","",'Mau A1'!B11) -> Võ Anh | C11: =IF('Mau A1'!C11="","",'Mau A1'!C11) -> Hào | D11: Lạnh cơ sở | G11: =IF(OR(E11="",F11=""),0,ROUND((F11*4)/E11,1)) -> 0 | H11: =SUM(G11:G16) -> 0
G12: =IF(OR(E12="",F12=""),0,ROUND((F12*4)/E12,1)) -> 0
G13: =IF(OR(E13="",F13=""),0,ROUND((F13*4)/E13,1)) -> 0
G14: =IF(OR(E14="",F14=""),0,ROUND((F14*4)/E14,1)) -> 0
G15: =IF(OR(E15="",F15=""),0,ROUND((F15*4)/E15,1)) -> 0
G16: =IF(OR(E16="",F16=""),0,ROUND((F16*4)/E16,1)) -> 0
A17: 2 | B17: =IF('Mau A1'!B19="","",'Mau A1'!B19) -> Đinh Đồng | C17: =IF('Mau A1'!C19="","",'Mau A1'!C19) -> Hiệp | G17: =IF(OR(E17="",F17=""),0,ROUND((F17*4)/E17,1)) -> 0 | H17: =SUM(G17:G22) -> 0
G18: =IF(OR(E18="",F18=""),0,ROUND((F18*4)/E18,1)) -> 0
G19: =IF(OR(E19="",F19=""),0,ROUND((F19*4)/E19,1)) -> 0
G20: =IF(OR(E20="",F20=""),0,ROUND((F20*4)/E20,1)) -> 0
G21: =IF(OR(E21="",F21=""),0,ROUND((F21*4)/E21,1)) -> 0
G22: =IF(OR(E22="",F22=""),0,ROUND((F22*4)/E22,1)) -> 0
A23: 2 | B23: =IF('Mau A1'!B27="","",'Mau A1'!B27) -> Phan văn | C23: =IF('Mau A1'!C27="","",'Mau A1'!C27) -> Hòa | D23: Lạnh chuyên ngành | G23: =IF(OR(E23="",F23=""),0,ROUND((F23*4)/E23,1)) -> 0 | H23: =SUM(G23:G28) -> 0
G24: =IF(OR(E24="",F24=""),0,ROUND((F24*4)/E24,1)) -> 0
G25: =IF(OR(E25="",F25=""),0,ROUND((F25*4)/E25,1)) -> 0
G26: =IF(OR(E26="",F26=""),0,ROUND((F26*4)/E26,1)) -> 0
G27: =IF(OR(E27="",F27=""),0,ROUND((F27*4)/E27,1)) -> 0
G28: =IF(OR(E28="",F28=""),0,ROUND((F28*4)/E28,1)) -> 0
A29: 4 | B29: =IF('Mau A1'!B35="","",'Mau A1'!B35) -> Trần Đình | C29: =IF('Mau A1'!C35="","",'Mau A1'!C35) -> Khoa | G29: =IF(OR(E29="",F29=""),0,ROUND((F29*4)/E29,1)) -> 0 | H29: =SUM(G29:G34) -> 0
G30: =IF(OR(E30="",F30=""),0,ROUND((F30*4)/E30,1)) -> 0
G31: =IF(OR(E31="",F31=""),0,ROUND((F31*4)/E31,1)) -> 0
G32: =IF(OR(E32="",F32=""),0,ROUND((F32*4)/E32,1)) -> 0
G33: =IF(OR(E33="",F33=""),0,ROUND((F33*4)/E33,1)) -> 0
G34: =IF(OR(E34="",F34=""),0,ROUND((F34*4)/E34,1)) -> 0
A35: 5 | B35: =IF('Mau A1'!B44="","",'Mau A1'!B44) -> Đỗ Trọng | C35: =IF('Mau A1'!C44="","",'Mau A1'!C44) -> Quý | G35: =IF(OR(E35="",F35=""),0,ROUND((F35*4)/E35,1)) -> 0 | H35: =SUM(G35:G40) -> 0
G36: =IF(OR(E36="",F36=""),0,ROUND((F36*4)/E36,1)) -> 0
G37: =IF(OR(E37="",F37=""),0,ROUND((F37*4)/E37,1)) -> 0
G38: =IF(OR(E38="",F38=""),0,ROUND((F38*4)/E38,1)) -> 0
G39: =IF(OR(E39="",F39=""),0,ROUND((F39*4)/E39,1)) -> 0
G40: =IF(OR(E40="",F40=""),0,ROUND((F40*4)/E40,1)) -> 0
A41: 6 | B41: =IF('Mau A1'!B51="","",'Mau A1'!B51) -> Đặng Thế | C41: =IF('Mau A1'!C51="","",'Mau A1'!C51) -> Huân | G41: =IF(OR(E41="",F41=""),0,ROUND((F41*4)/E41,1)) -> 0 | H41: =SUM(G41:G46) -> 0
G42: =IF(OR(E42="",F42=""),0,ROUND((F42*4)/E42,1)) -> 0
G43: =IF(OR(E43="",F43=""),0,ROUND((F43*4)/E43,1)) -> 0
G44: =IF(OR(E44="",F44=""),0,ROUND((F44*4)/E44,1)) -> 0
G45: =IF(OR(E45="",F45=""),0,ROUND((F45*4)/E45,1)) -> 0
G46: =IF(OR(E46="",F46=""),0,ROUND((F46*4)/E46,1)) -> 0
A47: 3 | B47: =IF('Mau A1'!B61="","",'Mau A1'!B61) -> Võ Phước | C47: =IF('Mau A1'!C61="","",'Mau A1'!C61) -> Quang | D47: Lạnh cơ sở | G47: =IF(OR(E47="",F47=""),0,ROUND((F47*4)/E47,1)) -> 0 | H47: =SUM(G47:G52) -> 0
G48: =IF(OR(E48="",F48=""),0,ROUND((F48*4)/E48,1)) -> 0
G49: =IF(OR(E49="",F49=""),0,ROUND((F49*4)/E49,1)) -> 0
G50: =IF(OR(E50="",F50=""),0,ROUND((F50*4)/E50,1)) -> 0
G51: =IF(OR(E51="",F51=""),0,ROUND((F51*4)/E51,1)) -> 0
G52: =IF(OR(E52="",F52=""),0,ROUND((F52*4)/E52,1)) -> 0
A53: 8 | B53: =IF('Mau A1'!B68="","",'Mau A1'!B68) -> Hoàng Văn | C53: =IF('Mau A1'!C68="","",'Mau A1'!C68) -> Viết | G53: =IF(OR(E53="",F53=""),0,ROUND((F53*4)/E53,1)) -> 0 | H53: =SUM(G53:G58) -> 0
G54: =IF(OR(E54="",F54=""),0,ROUND((F54*4)/E54,1)) -> 0
G55: =IF(OR(E55="",F55=""),0,ROUND((F55*4)/E55,1)) -> 0
G56: =IF(OR(E56="",F56=""),0,ROUND((F56*4)/E56,1)) -> 0
G57: =IF(OR(E57="",F57=""),0,ROUND((F57*4)/E57,1)) -> 0
G58: =IF(OR(E58="",F58=""),0,ROUND((F58*4)/E58,1)) -> 0
A59: 4 | B59: =IF('Mau A1'!B73="","",'Mau A1'!B73) -> Nguyễn Vũ Xuân | C59: =IF('Mau A1'!C73="","",'Mau A1'!C73) -> Thì | D59: Lạnh chuyên ngành | G59: =IF(OR(E59="",F59=""),0,ROUND((F59*4)/E59,1)) -> 0 | H59: =SUM(G59:G64) -> 0
G60: =IF(OR(E60="",F60=""),0,ROUND((F60*4)/E60,1)) -> 0
G61: =IF(OR(E61="",F61=""),0,ROUND((F61*4)/E61,1)) -> 0
G62: =IF(OR(E62="",F62=""),0,ROUND((F62*4)/E62,1)) -> 0
G63: =IF(OR(E63="",F63=""),0,ROUND((F63*4)/E63,1)) -> 0
G64: =IF(OR(E64="",F64=""),0,ROUND((F64*4)/E64,1)) -> 0
A65: 5 | B65: =IF('Mau A1'!B82="","",'Mau A1'!B82) -> Nguyễn Ngọc | C65: =IF('Mau A1'!C82="","",'Mau A1'!C82) -> Trí | D65: Lạnh chuyên ngành | G65: =IF(OR(E65="",F65=""),0,ROUND((F65*4)/E65,1)) -> 0 | H65: =SUM(G65:G70) -> 0
G66: =IF(OR(E66="",F66=""),0,ROUND((F66*4)/E66,1)) -> 0
G67: =IF(OR(E67="",F67=""),0,ROUND((F67*4)/E67,1)) -> 0
G68: =IF(OR(E68="",F68=""),0,ROUND((F68*4)/E68,1)) -> 0
G69: =IF(OR(E69="",F69=""),0,ROUND((F69*4)/E69,1)) -> 0
G70: =IF(OR(E70="",F70=""),0,ROUND((F70*4)/E70,1)) -> 0
A71: 11 | B71: =IF('Mau A1'!B89="","",'Mau A1'!B89) | C71: =IF('Mau A1'!C89="","",'Mau A1'!C89) | G71: =IF(OR(E71="",F71=""),0,ROUND((F71*4)/E71,1)) -> 0 | H71: =SUM(G71:G76) -> 0
G72: =IF(OR(E72="",F72=""),0,ROUND((F72*4)/E72,1)) -> 0
G73: =IF(OR(E73="",F73=""),0,ROUND((F73*4)/E73,1)) -> 0
G74: =IF(OR(E74="",F74=""),0,ROUND((F74*4)/E74,1)) -> 0
G75: =IF(OR(E75="",F75=""),0,ROUND((F75*4)/E75,1)) -> 0
G76: =IF(OR(E76="",F76=""),0,ROUND((F76*4)/E76,1)) -> 0
A77: 12 | B77: =IF('Mau A1'!#REF!="","",'Mau A1'!#REF!) -> #REF! | C77: =IF('Mau A1'!#REF!="","",'Mau A1'!#REF!) -> #REF! | G77: =IF(OR(E77="",F77=""),0,ROUND((F77*4)/E77,1)) -> 0 | H77: =SUM(G77:G82) -> 0
G78: =IF(OR(E78="",F78=""),0,ROUND((F78*4)/E78,1)) -> 0
G79: =IF(OR(E79="",F79=""),0,ROUND((F79*4)/E79,1)) -> 0
G80: =IF(OR(E80="",F80=""),0,ROUND((F80*4)/E80,1)) -> 0
G81: =IF(OR(E81="",F81=""),0,ROUND((F81*4)/E81,1)) -> 0
G82: =IF(OR(E82="",F82=""),0,ROUND((F82*4)/E82,1)) -> 0
A83: 13 | B83: =IF('Mau A1'!#REF!="","",'Mau A1'!#REF!) -> #REF! | C83: =IF('Mau A1'!#REF!="","",'Mau A1'!#REF!) -> #REF! | G83: =IF(OR(E83="",F83=""),0,ROUND((F83*4)/E83,1)) -> 0 | H83: =SUM(G83:G88) -> 0
G84: =IF(OR(E84="",F84=""),0,ROUND((F84*4)/E84,1)) -> 0
G85: =IF(OR(E85="",F85=""),0,ROUND((F85*4)/E85,1)) -> 0
G86: =IF(OR(E86="",F86=""),0,ROUND((F86*4)/E86,1)) -> 0
G87: =IF(OR(E87="",F87=""),0,ROUND((F87*4)/E87,1)) -> 0
G88: =IF(OR(E88="",F88=""),0,ROUND((F88*4)/E88,1)) -> 0
A89: 14 | B89: =IF('Mau A1'!#REF!="","",'Mau A1'!#REF!) -> #REF! | C89: =IF('Mau A1'!#REF!="","",'Mau A1'!#REF!) -> #REF! | G89: =IF(OR(E89="",F89=""),0,ROUND((F89*4)/E89,1)) -> 0 | H89: =SUM(G89:G94) -> 0
G90: =IF(OR(E90="",F90=""),0,ROUND((F90*4)/E90,1)) -> 0
G91: =IF(OR(E91="",F91=""),0,ROUND((F91*4)/E91,1)) -> 0
G92: =IF(OR(E92="",F92=""),0,ROUND((F92*4)/E92,1)) -> 0
G93: =IF(OR(E93="",F93=""),0,ROUND((F93*4)/E93,1)) -> 0
G94: =IF(OR(E94="",F94=""),0,ROUND((F94*4)/E94,1)) -> 0
A95: 15 | B95: =IF('Mau A1'!#REF!="","",'Mau A1'!#REF!) -> #REF! | C95: =IF('Mau A1'!#REF!="","",'Mau A1'!#REF!) -> #REF! | G95: =IF(OR(E95="",F95=""),0,ROUND((F95*4)/E95,1)) -> 0 | H95: =SUM(G95:G100) -> 0
G96: =IF(OR(E96="",F96=""),0,ROUND((F96*4)/E96,1)) -> 0
G97: =IF(OR(E97="",F97=""),0,ROUND((F97*4)/E97,1)) -> 0
G98: =IF(OR(E98="",F98=""),0,ROUND((F98*4)/E98,1)) -> 0
G99: =IF(OR(E99="",F99=""),0,ROUND((F99*4)/E99,1)) -> 0
G100: =IF(OR(E100="",F100=""),0,ROUND((F100*4)/E100,1)) -> 0
A101: 16 | B101: =IF('Mau A1'!#REF!="","",'Mau A1'!#REF!) -> #REF! | C101: =IF('Mau A1'!#REF!="","",'Mau A1'!#REF!) -> #REF! | G101: =IF(OR(E101="",F101=""),0,ROUND((F101*4)/E101,1)) -> 0 | H101: =SUM(G101:G106) -> 0
G102: =IF(OR(E102="",F102=""),0,ROUND((F102*4)/E102,1)) -> 0
...

Sheet Mau B1.7
F1: Mẫu B1. 7
A2: UBND THÀNH PHỐ HỒ CHÍ MINH | D2: CỘNG HÒA XÃ HỘI CHỦ NGHĨA VIỆT NAM
A3: TRƯỜNG CAO ĐẲNG KỸ THUẬT LÝ TỰ TRỌNG TP. HỒ CHÍ MINH | D3: Độc lập - Tự do - Hạnh Phúc
A5: BẢNG TỔNG HỢP CÔNG TÁC ĐÁNH GIÁ KẾT QUẢ HỌC TẬP CỦA HSSV
A6: NĂM HỌC 2015 - 2016
A7: KHOA CN NHIỆT-LẠNH
A9: TT | B9: HỌ VÀ TÊN GIẢNG VIÊN | D9: TỔNG SỐ TIẾT THỰC HIỆN | E9: TỔNG SỐ GIỜ QUY ĐỔI | F9: GHI CHÚ
A11: 1 | B11: =IF('Mau A1'!B11="","",'Mau A1'!B11) -> Võ Anh | C11: =IF('Mau A1'!C11="","",'Mau A1'!C11) -> Hào | E11: =ROUND(IF(D11="",0,D11*3.33),1) -> 0
A12: 2 | B12: =IF('Mau A1'!B19="","",'Mau A1'!B19) -> Đinh Đồng | C12: =IF('Mau A1'!C19="","",'Mau A1'!C19) -> Hiệp | E12: =ROUND(IF(D12="",0,D12*3.33),1) -> 0
A13: 3 | B13: =IF('Mau A1'!B27="","",'Mau A1'!B27) -> Phan văn | C13: =IF('Mau A1'!C27="","",'Mau A1'!C27) -> Hòa | E13: =ROUND(IF(D13="",0,D13*3.33),1) -> 0
A14: 4 | B14: =IF('Mau A1'!B35="","",'Mau A1'!B35) -> Trần Đình | C14: =IF('Mau A1'!C35="","",'Mau A1'!C35) -> Khoa | E14: =ROUND(IF(D14="",0,D14*3.33),1) -> 0
A15: 5 | B15: =IF('Mau A1'!B44="","",'Mau A1'!B44) -> Đỗ Trọng | C15: =IF('Mau A1'!C44="","",'Mau A1'!C44) -> Quý | E15: =ROUND(IF(D15="",0,D15*3.33),1) -> 0
A16: 6 | B16: =IF('Mau A1'!B51="","",'Mau A1'!B51) -> Đặng Thế | C16: =IF('Mau A1'!C51="","",'Mau A1'!C51) -> Huân | E16: =ROUND(IF(D16="",0,D16*3.33),1) -> 0
A17: 7 | B17: =IF('Mau A1'!B61="","",'Mau A1'!B61) -> Võ Phước | C17: =IF('Mau A1'!C61="","",'Mau A1'!C61) -> Quang | E17: =ROUND(IF(D17="",0,D17*3.33),1) -> 0
A18: 8 | B18: =IF('Mau A1'!B68="","",'Mau A1'!B68) -> Hoàng Văn | C18: =IF('Mau A1'!C68="","",'Mau A1'!C68) -> Viết | E18: =ROUND(IF(D18="",0,D18*3.33),1) -> 0
A19: 9 | B19: =IF('Mau A1'!B73="","",'Mau A1'!B73) -> Nguyễn Vũ Xuân | C19: =IF('Mau A1'!C73="","",'Mau A1'!C73) -> Thì | E19: =ROUND(IF(D19="",0,D19*3.33),1) -> 0
A20: 10 | B20: =IF('Mau A1'!B82="","",'Mau A1'!B82) -> Nguyễn Ngọc | C20: =IF('Mau A1'!C82="","",'Mau A1'!C82) -> Trí | E20: =ROUND(IF(D20="",0,D20*3.33),1) -> 0
A21: 11 | B21: =IF('Mau A1'!B89="","",'Mau A1'!B89) | C21: =IF('Mau A1'!C89="","",'Mau A1'!C89) | E21: =ROUND(IF(D21="",0,D21*3.33),1) -> 0
A22: 12 | B22: =IF('Mau A1'!#REF!="","",'Mau A1'!#REF!) -> #REF! | C22: =IF('Mau A1'!#REF!="","",'Mau A1'!#REF!) -> #REF! | E22: =ROUND(IF(D22="",0,D22*3.33),1) -> 0
A23: 13 | B23: =IF('Mau A1'!#REF!="","",'Mau A1'!#REF!) -> #REF! | C23: =IF('Mau A1'!#REF!="","",'Mau A1'!#REF!) -> #REF! | E23: =ROUND(IF(D23="",0,D23*3.33),1) -> 0
A24: 14 | B24: =IF('Mau A1'!#REF!="","",'Mau A1'!#REF!) -> #REF! | C24: =IF('Mau A1'!#REF!="","",'Mau A1'!#REF!) -> #REF! | E24: =ROUND(IF(D24="",0,D24*3.33),1) -> 0
A25: 15 | B25: =IF('Mau A1'!#REF!="","",'Mau A1'!#REF!) -> #REF! | C25: =IF('Mau A1'!#REF!="","",'Mau A1'!#REF!) -> #REF! | E25: =ROUND(IF(D25="",0,D25*3.33),1) -> 0
A26: 16 | B26: =IF('Mau A1'!#REF!="","",'Mau A1'!#REF!) -> #REF! | C26: =IF('Mau A1'!#REF!="","",'Mau A1'!#REF!) -> #REF! | E26: =ROUND(IF(D26="",0,D26*3.33),1) -> 0
A27: 17 | B27: =IF('Mau A1'!#REF!="","",'Mau A1'!#REF!) -> #REF! | C27: =IF('Mau A1'!#REF!="","",'Mau A1'!#REF!) -> #REF! | E27: =ROUND(IF(D27="",0,D27*3.33),1) -> 0
A28: 18 | B28: =IF('Mau A1'!#REF!="","",'Mau A1'!#REF!) -> #REF! | C28: =IF('Mau A1'!#REF!="","",'Mau A1'!#REF!) -> #REF! | E28: =ROUND(IF(D28="",0,D28*3.33),1) -> 0
A29: 19 | B29: =IF('Mau A1'!#REF!="","",'Mau A1'!#REF!) -> #REF! | C29: =IF('Mau A1'!#REF!="","",'Mau A1'!#REF!) -> #REF! | E29: =ROUND(IF(D29="",0,D29*3.33),1) -> 0
A30: 20 | B30: =IF('Mau A1'!#REF!="","",'Mau A1'!#REF!) -> #REF! | C30: =IF('Mau A1'!#REF!="","",'Mau A1'!#REF!) -> #REF! | E30: =ROUND(IF(D30="",0,D30*3.33),1) -> 0
A31: 21 | B31: =IF('Mau A1'!#REF!="","",'Mau A1'!#REF!) -> #REF! | C31: =IF('Mau A1'!#REF!="","",'Mau A1'!#REF!) -> #REF! | E31: =ROUND(IF(D31="",0,D31*3.33),1) -> 0
A32: 22 | B32: =IF('Mau A1'!#REF!="","",'Mau A1'!#REF!) -> #REF! | C32: =IF('Mau A1'!#REF!="","",'Mau A1'!#REF!) -> #REF! | E32: =ROUND(IF(D32="",0,D32*3.33),1) -> 0
A33: 23 | B33: =IF('Mau A1'!#REF!="","",'Mau A1'!#REF!) -> #REF! | C33: =IF('Mau A1'!#REF!="","",'Mau A1'!#REF!) -> #REF! | E33: =ROUND(IF(D33="",0,D33*3.33),1) -> 0
... A60: 50 | B60: =IF('Mau A1'!#REF!="","",'Mau A1'!#REF!) -> #REF! | C60: =IF('Mau A1'!#REF!="","",'Mau A1'!#REF!) -> #REF! | E60: =ROUND(IF(D60="",0,D60*3.33),1) -> 0
A61: TỔNG CỘNG | D61: =SUM(D11:D60) -> 0 | E61: =SUM(E11:E60) -> 0
D63: Tp.HCM, Ngày tháng năm 2016
B64: Trưởng Khoa | E64: Người lập biểu

Sheet Mau B1.8
G1: Mẫu B1. 8
A2: UBND THÀNH PHỐ HỒ CHÍ MINH | E2: CỘNG HÒA XÃ HỘI CHỦ NGHĨA VIỆT NAM
A3: TRƯỜNG CAO ĐẲNG KỸ THUẬT LÝ TỰ TRỌNG TP. HỒ CHÍ MINH | E3: Độc lập - Tự do - Hạnh phúc
A5: BẢNG TỔNG HỢP CÁC CÔNG VIỆC KHÁC (NẾU CÓ)
A6: NĂM HỌC 2015 - 2016
A7: KHOA CN NHIỆT-LẠNH
A10: TT | B10: Họ và tên Giảng viên | D10: Nội dung công việc | E10: Số giờ được tính | F10: Tổng số gờ được tính | G10: Ghi chú
A11: 1 | B11: =IF('Mau A1'!B11="","",'Mau A1'!B11) -> Võ Anh | C11: =IF('Mau A1'!C11="","",'Mau A1'!C11) -> Hào | F11: =SUM(E11:E12) -> 0
A13: 2 | B13: =IF('Mau A1'!B19="","",'Mau A1'!B19) -> Đinh Đồng | C13: =IF('Mau A1'!C19="","",'Mau A1'!C19) -> Hiệp | F13: =SUM(E13:E14) -> 0
A15: 3 | B15: =IF('Mau A1'!B27="","",'Mau A1'!B27) -> Phan văn | C15: =IF('Mau A1'!C27="","",'Mau A1'!C27) -> Hòa | F15: =SUM(E15:E16) -> 0
A17: 4 | B17: =IF('Mau A1'!B35="","",'Mau A1'!B35) -> Trần Đình | C17: =IF('Mau A1'!C35="","",'Mau A1'!C35) -> Khoa | F17: =SUM(E17:E18) -> 0
A19: 5 | B19: =IF('Mau A1'!B44="","",'Mau A1'!B44) -> Đỗ Trọng | C19: =IF('Mau A1'!C44="","",'Mau A1'!C44) -> Quý | F19: =SUM(E19:E20) -> 0
A21: 6 | B21: =IF('Mau A1'!B51="","",'Mau A1'!B51) -> Đặng Thế | C21: =IF('Mau A1'!C51="","",'Mau A1'!C51) -> Huân | F21: =SUM(E21:E22) -> 0
A23: 7 | B23: =IF('Mau A1'!B61="","",'Mau A1'!B61) -> Võ Phước | C23: =IF('Mau A1'!C61="","",'Mau A1'!C61) -> Quang | F23: =SUM(E23:E24) -> 0
A25: 8 | B25: =IF('Mau A1'!B68="","",'Mau A1'!B68) -> Hoàng Văn | C25: =IF('Mau A1'!C68="","",'Mau A1'!C68) -> Viết | F25: =SUM(E25:E26) -> 0
A27: 9 | B27: =IF('Mau A1'!B73="","",'Mau A1'!B73) -> Nguyễn Vũ Xuân | C27: =IF('Mau A1'!C73="","",'Mau A1'!C73) -> Thì | F27: =SUM(E27:E28) -> 0
A29: 10 | B29: =IF('Mau A1'!B82="","",'Mau A1'!B82) -> Nguyễn Ngọc | C29: =IF('Mau A1'!C82="","",'Mau A1'!C82) -> Trí | F29: =SUM(E29:E30) -> 0
A31: 11 | B31: =IF('Mau A1'!B89="","",'Mau A1'!B89) | C31: =IF('Mau A1'!C89="","",'Mau A1'!C89) | F31: =SUM(E31:E32) -> 0
A33: 12 | B33: =IF('Mau A1'!#REF!="","",'Mau A1'!#REF!) -> #REF! | C33: =IF('Mau A1'!#REF!="","",'Mau A1'!#REF!) -> #REF! | F33: =SUM(E33:E34) -> 0
A35: 13 | B35: =IF('Mau A1'!#REF!="","",'Mau A1'!#REF!) -> #REF! | C35: =IF('Mau A1'!#REF!="","",'Mau A1'!#REF!) -> #REF! | F35: =SUM(E35:E36) -> 0
A37: 14 | B37: =IF('Mau A1'!#REF!="","",'Mau A1'!#REF!) -> #REF! | C37: =IF('Mau A1'!#REF!="","",'Mau A1'!#REF!) -> #REF! | F37: =SUM(E37:E38) -> 0
A39: 15 | B39: =IF('Mau A1'!#REF!="","",'Mau A1'!#REF!) -> #REF! | C39: =IF('Mau A1'!#REF!="","",'Mau A1'!#REF!) -> #REF! | F39: =SUM(E39:E40) -> 0
A41: 16 | B41: =IF('Mau A1'!#REF!="","",'Mau A1'!#REF!) -> #REF! | C41: =IF('Mau A1'!#REF!="","",'Mau A1'!#REF!) -> #REF! | F41: =SUM(E41:E42) -> 0
A43: 17 | B43: =IF('Mau A1'!#REF!="","",'Mau A1'!#REF!) -> #REF! | C43: =IF('Mau A1'!#REF!="","",'Mau A1'!#REF!) -> #REF! | F43: =SUM(E43:E44) -> 0
A45: 18 | B45: =IF('Mau A1'!#REF!="","",'Mau A1'!#REF!) -> #REF! | C45: =IF('Mau A1'!#REF!="","",'Mau A1'!#REF!) -> #REF! | F45: =SUM(E45:E46) -> 0
A47: 19 | B47: =IF('Mau A1'!#REF!="","",'Mau A1'!#REF!) -> #REF! | C47: =IF('Mau A1'!#REF!="","",'Mau A1'!#REF!) -> #REF! | F47: =SUM(E47:E48) -> 0
A49: 20 | B49: =IF('Mau A1'!#REF!="","",'Mau A1'!#REF!) -> #REF! | C49: =IF('Mau A1'!#REF!="","",'Mau A1'!#REF!) -> #REF! | F49: =SUM(E49:E50) -> 0
A51: 21 | B51: =IF('Mau A1'!#REF!="","",'Mau A1'!#REF!) -> #REF! | C51: =IF('Mau A1'!#REF!="","",'Mau A1'!#REF!) -> #REF! | F51: =SUM(E51:E52) -> 0
A53: 22 | B53: =IF('Mau A1'!#REF!="","",'Mau A1'!#REF!) -> #REF! | C53: =IF('Mau A1'!#REF!="","",'Mau A1'!#REF!) -> #REF! | F53: =SUM(E53:E54) -> 0
A55: 23 | B55: =IF('Mau A1'!#REF!="","",'Mau A1'!#REF!) -> #REF! | C55: =IF('Mau A1'!#REF!="","",'Mau A1'!#REF!) -> #REF! | F55: =SUM(E55:E56) -> 0
... A109: 50 | B109: =IF('Mau A1'!#REF!="","",'Mau A1'!#REF!) -> #REF! | C109: =IF('Mau A1'!#REF!="","",'Mau A1'!#REF!) -> #REF! | F109: =SUM(E109:E110) -> 0
B111: Minh chứng nộp kèm: Văn bản được Hiệu trưởng duyệt.
E112: Tp.HCM, Ngày tháng năm 2016
C113: Trưởng Khoa | E113: Người lập biểu

Sheet Mau B2
M1: Mẫu B2
A2: UBND THÀNH PHỐ HỒ CHÍ MINH | H2: CỘNG HÒA XÃ HỘI CHỦ NGHĨA VIỆT NAM
A3: TRƯỜNG CAO ĐẲNG KỸ THUẬT LÝ TỰ TRỌNG TP. HỒ CHÍ MINH | H3: Độc lập - Tự do - Hạnh phúc
A5: BẢNG TỔNG HỢP CÁC MỤC KHỐI LƯỢNG CÔNG TÁC " HỌC TẬP BỒI DƯỠNG VÀ CÁC NHIỆM VỤ KHÁC" CỦA GIẢNG VIÊN
A6: NĂM HỌC 2015 - 2016
A7: KHOA CÔNG NGHỆ NHIỆT-LẠNH
A9: TT | B9: Họ và tên GV | D9: Mục 1 | E9: Mục 2 | F9: Mục 3 | G9: Mục 4 | H9: Mục 5 | I9: Mục 6 | J9: Mục 7 | K9: Mục 8 | L9: Tổng số giờ | M9: Ghi chú
A10: (1) | B10: (2) | D10: (3) | E10: (4) | F10: (5) | G10: (6) | H10: (7) | I10: (8) | J10: (9) | K10: (10) | L10: (11) | M10: (12)
A11: 1 | B11: =IF('Mau A1'!B11="","",'Mau A1'!B11) -> Võ Anh | C11: =IF('Mau A1'!C11="","",'Mau A1'!C11) -> Hào | D11: ='Mau B1.1'!I11 -> 0 | E11: =IF(('Mau B1.2.1'!AZ11+SUM('Mau B1.2.2'!P11:P20))>40,40,'Mau B1.2.1'!AZ11+SUM('Mau B1.2.2'!P11:P20)) -> 0 | F11: ='Mau B1.3'!H11 -> 0 | G11: ='Mau B1.4'!E11 -> 0 | H11: ='Mau B1.5'!E11 -> 0 | I11: =SUM('Mau B1. 6'!H11:H16) -> 0 | J11: ='Mau B1.7'!E11 -> 0 | K11: =SUM('Mau B1.8'!F11:F12) -> 0 | L11: =SUM(D11:K11) -> 0
A12: 2 | B12: =IF('Mau A1'!B19="","",'Mau A1'!B19) -> Đinh Đồng | C12: =IF('Mau A1'!C19="","",'Mau A1'!C19) -> Hiệp | D12: ='Mau B1.1'!I12 -> 0 | E12: =IF(('Mau B1.2.1'!AZ12+SUM('Mau B1.2.2'!P21:P30))>40,40,'Mau B1.2.1'!AZ12+SUM('Mau B1.2.2'!P21:P30)) -> 0 | F12: ='Mau B1.3'!H12 -> 0 | G12: ='Mau B1.4'!E12 -> 0 | H12: ='Mau B1.5'!E12 -> 0 | I12: =SUM('Mau B1. 6'!H17:H22) -> 0 | J12: ='Mau B1.7'!E12 -> 0 | K12: =SUM('Mau B1.8'!F13:F14) -> 0 | L12: =SUM(D12:K12) -> 0
A13: 3 | B13: =IF('Mau A1'!B27="","",'Mau A1'!B27) -> Phan văn | C13: =IF('Mau A1'!C27="","",'Mau A1'!C27) -> Hòa | D13: ='Mau B1.1'!I13 -> 0 | E13: =IF(('Mau B1.2.1'!AZ13+SUM('Mau B1.2.2'!P31:P40))>40,40,'Mau B1.2.1'!AZ13+SUM('Mau B1.2.2'!P31:P40)) -> 0 | F13: ='Mau B1.3'!H13 -> 0 | G13: ='Mau B1.4'!E13 -> 0 | H13: ='Mau B1.5'!E13 -> 0 | I13: =SUM('Mau B1. 6'!H23:H28) -> 0 | J13: ='Mau B1.7'!E13 -> 0 | K13: =SUM('Mau B1.8'!F15:F16) -> 0 | L13: =SUM(D13:K13) -> 0
A14: 4 | B14: =IF('Mau A1'!B35="","",'Mau A1'!B35) -> Trần Đình | C14: =IF('Mau A1'!C35="","",'Mau A1'!C35) -> Khoa | D14: ='Mau B1.1'!I14 -> 0 | E14: =IF(('Mau B1.2.1'!AZ14+SUM('Mau B1.2.2'!P41:P50))>40,40,'Mau B1.2.1'!AZ14+SUM('Mau B1.2.2'!P41:P50)) -> 0 | F14: ='Mau B1.3'!H14 -> 0 | G14: ='Mau B1.4'!E14 -> 0 | H14: ='Mau B1.5'!E14 -> 0 | I14: =SUM('Mau B1. 6'!H29:H34) -> 0 | J14: ='Mau B1.7'!E14 -> 0 | K14: =SUM('Mau B1.8'!F17:F18) -> 0 | L14: =SUM(D14:K14) -> 0
A15: 5 | B15: =IF('Mau A1'!B44="","",'Mau A1'!B44) -> Đỗ Trọng | C15: =IF('Mau A1'!C44="","",'Mau A1'!C44) -> Quý | D15: ='Mau B1.1'!I15 -> 0 | E15: =IF(('Mau B1.2.1'!AZ15+SUM('Mau B1.2.2'!P51:P60))>40,40,'Mau B1.2.1'!AZ15+SUM('Mau B1.2.2'!P51:P60)) -> 0 | F15: ='Mau B1.3'!H15 -> 0 | G15: ='Mau B1.4'!E15 -> 0 | H15: ='Mau B1.5'!E15 -> 0 | I15: =SUM('Mau B1. 6'!H35:H40) -> 0 | J15: ='Mau B1.7'!E15 -> 0 | K15: =SUM('Mau B1.8'!F19:F20) -> 0 | L15: =SUM(D15:K15) -> 0
A16: 6 | B16: =IF('Mau A1'!B51="","",'Mau A1'!B51) -> Đặng Thế | C16: =IF('Mau A1'!C51="","",'Mau A1'!C51) -> Huân | D16: ='Mau B1.1'!I16 -> 0 | E16: =IF(('Mau B1.2.1'!AZ16+SUM('Mau B1.2.2'!P61:P70))>40,40,'Mau B1.2.1'!AZ16+SUM('Mau B1.2.2'!P61:P70)) -> 0 | F16: ='Mau B1.3'!H16 -> 0 | G16: ='Mau B1.4'!E16 -> 0 | H16: ='Mau B1.5'!E16 -> 0 | I16: =SUM('Mau B1. 6'!H41:H46) -> 0 | J16: ='Mau B1.7'!E16 -> 0 | K16: =SUM('Mau B1.8'!F21:F22) -> 0 | L16: =SUM(D16:K16) -> 0
A17: 7 | B17: =IF('Mau A1'!B61="","",'Mau A1'!B61) -> Võ Phước | C17: =IF('Mau A1'!C61="","",'Mau A1'!C61) -> Quang | D17: ='Mau B1.1'!I17 -> 0 | E17: =IF(('Mau B1.2.1'!AZ17+SUM('Mau B1.2.2'!P71:P80))>40,40,'Mau B1.2.1'!AZ17+SUM('Mau B1.2.2'!P71:P80)) -> 0 | F17: ='Mau B1.3'!H17 -> 0 | G17: ='Mau B1.4'!E17 -> 0 | H17: ='Mau B1.5'!E17 -> 0 | I17: =SUM('Mau B1. 6'!H47:H52) -> 0 | J17: ='Mau B1.7'!E17 -> 0 | K17: =SUM('Mau B1.8'!F23:F24) -> 0 | L17: =SUM(D17:K17) -> 0
A18: 8 | B18: =IF('Mau A1'!B68="","",'Mau A1'!B68) -> Hoàng Văn | C18: =IF('Mau A1'!C68="","",'Mau A1'!C68) -> Viết | D18: ='Mau B1.1'!I18 -> 0 | E18: =IF(('Mau B1.2.1'!AZ18+SUM('Mau B1.2.2'!P81:P90))>40,40,'Mau B1.2.1'!AZ18+SUM('Mau B1.2.2'!P81:P90)) -> 0 | F18: ='Mau B1.3'!H18 -> 0 | G18: ='Mau B1.4'!E18 -> 0 | H18: ='Mau B1.5'!E18 -> 0 | I18: =SUM('Mau B1. 6'!H53:H58) -> 0 | J18: ='Mau B1.7'!E18 -> 0 | K18: =SUM('Mau B1.8'!F25:F26) -> 0 | L18: =SUM(D18:K18) -> 0
A19: 9 | B19: =IF('Mau A1'!B73="","",'Mau A1'!B73) -> Nguyễn Vũ Xuân | C19: =IF('Mau A1'!C73="","",'Mau A1'!C73) -> Thì | D19: ='Mau B1.1'!I19 -> 0 | E19: =IF(('Mau B1.2.1'!AZ19+SUM('Mau B1.2.2'!P91:P100))>40,40,'Mau B1.2.1'!AZ19+SUM('Mau B1.2.2'!P91:P100)) -> 0 | F19: ='Mau B1.3'!H19 -> 0 | G19: ='Mau B1.4'!E19 -> 0 | H19: ='Mau B1.5'!E19 -> 0 | I19: =SUM('Mau B1. 6'!H59:H64) -> 0 | J19: ='Mau B1.7'!E19 -> 0 | K19: =SUM('Mau B1.8'!F27:F28) -> 0 | L19: =SUM(D19:K19) -> 0
A20: 10 | B20: =IF('Mau A1'!B82="","",'Mau A1'!B82) -> Nguyễn Ngọc | C20: =IF('Mau A1'!C82="","",'Mau A1'!C82) -> Trí | D20: ='Mau B1.1'!I20 -> 0 | E20: =IF(('Mau B1.2.1'!AZ20+SUM('Mau B1.2.2'!P101:P110))>40,40,'Mau B1.2.1'!AZ20+SUM('Mau B1.2.2'!P101:P110)) -> 0 | F20: ='Mau B1.3'!H20 -> 0 | G20: ='Mau B1.4'!E20 -> 0 | H20: ='Mau B1.5'!E20 -> 0 | I20: =SUM('Mau B1. 6'!H65:H70) -> 0 | J20: ='Mau B1.7'!E20 -> 0 | K20: =SUM('Mau B1.8'!F29:F30) -> 0 | L20: =SUM(D20:K20) -> 0
A21: 11 | B21: =IF('Mau A1'!B89="","",'Mau A1'!B89) | C21: =IF('Mau A1'!C89="","",'Mau A1'!C89) | D21: ='Mau B1.1'!I21 -> 0 | E21: =IF(('Mau B1.2.1'!AZ21+SUM('Mau B1.2.2'!P111:P120))>40,40,'Mau B1.2.1'!AZ21+SUM('Mau B1.2.2'!P111:P120)) -> 0 | F21: ='Mau B1.3'!H21 -> 0 | G21: ='Mau B1.4'!E21 -> 0 | H21: ='Mau B1.5'!E21 -> 0 | I21: =SUM('Mau B1. 6'!H71:H76) -> 0 | J21: ='Mau B1.7'!E21 -> 0 | K21: =SUM('Mau B1.8'!F31:F32) -> 0 | L21: =SUM(D21:K21) -> 0
A22: TỔNG CỘNG | D22: =SUM(D11:D21) -> 0 | E22: =SUM(E11:E21) -> 0 | F22: =SUM(F11:F21) -> 0 | G22: =SUM(G11:G21) -> 0 | H22: =SUM(H11:H21) -> 0 | I22: =SUM(I11:I21) -> 0 | J22: =SUM(J11:J21) -> 0 | K22: =SUM(K11:K21) -> 0 | L22: =SUM(L11:L21) -> 0
A24: Cột (3): Chuyển số liệu từ bảng B1.1 | D24: Cột (4): Chuyển số liệu từ bảng B1.2.1 và B1.2.2 | I24: Cột (5): Chuyển số liệu từ bảng B1.3
A25: Cột (6): Chuyển số liệu từ bảng B1.4 | D25: Cột (7): Chuyển số liệu từ bảng B1.5 | I25: Cột (8): Chuyển số liệu từ bảng B1.6
A26: Cột (9): Chuyển số liệu từ bảng B1.7 | D26: Cột (10): Chuyển số liệu từ bảng B1.8
L27: Tp. HCM, ngày tháng năm 2016
B28: TRƯỞNG PHÒNG TS-ĐT-GTVL | G28: TRƯỞNG PHÒNG KT&ĐBCL | L28: TRƯỞNG KHOA
